{"text_format":"1","workbook":"xlsx","n_sheets":4,"sheets":["Requested ","Eligible Modules","Pull-Down","SortSheet"],"not_rendered":{"charts":0,"images":1,"macros":1,"external_links":2,"defined_names":6,"comments":3,"pivot_tables":0},"unopened":[],"bounds":{"document_bytes":16777216,"sheet_cells":100000,"rows_first":2000,"rows_last":500,"rows_between":2000,"halvings":0,"cell_chars":16384,"cell_head_chars":4096},"cells_cut":0,"cells_raw":0,"read":"whole","date_system":"1900"}

{"sheet":"Requested ","index":0,"n_rows":96,"n_cols":15,"rows_kept":96,"cut":false,"hidden":false,"merged":[]}
["PV Module Listing Request Form (yellow = Input cells)",null,null,null,null,"FORM REVISED 3/13/2020"]
["Manufacturer Contact Information"]
["[Name]"]
["[Company]"]
["[Address]"]
[]
["[Phone]"]
["[Email]"]
["Please note that all submitted information are public records; do not submit any proprietary or confidential information."]
[]
["ILAC-Accredited Laboratory Report Number(s):"]
["[Report No. 1]"]
["[Report No. 2]"]
["[Report No. 3]"]
["[Report No. 4]"]
[]
[null,null,"Request Type:"]
["Table 1:  Manufacturer Nameplate Rated Values"]
["Group/Subgroup 1"]
["Add or Revise","Reason for Revision","Manufacturer Name                                                        ","Model Number                                                         ","Nameplate Rated Pmax\n(Watts)","Nameplate Rated Isc\n(Amps)","Nameplate Rated Voc\n(Volts)","Nameplate Rated Ipmax\n(Amps)","Nameplate Rated Vpmax\n(Volts)"]
[]
[]
[]
[]
[]
[]
[]
[]
[]
[]
["Notes:","[Please include any information that helps Energy Commission save time during review]"]
["Subgroup 2 of Group 1"]
["Add or Revise","Reason for Revision","Manufacturer Name                                                        ","Model Number                                                         ","Nameplate Rated Pmax\n(Watts)","Nameplate Rated Isc\n(Amps)","Nameplate Rated Voc\n(Volts)","Nameplate Rated Ipmax\n(Amps)","Nameplate Rated Vpmax\n(Volts)"]
[]
[]
[]
[]
[]
[]
[]
[]
[]
[]
["Notes:","[Please include any information that helps Energy Commission save time during review]"]
["Subgroup 3 of Group 1"]
["Add or Revise","Reason for Revision","Manufacturer Name                                                        ","Model Number                                                         ","Nameplate Rated Pmax\n(Watts)","Nameplate Rated Isc\n(Amps)","Nameplate Rated Voc\n(Volts)","Nameplate Rated Ipmax\n(Amps)","Nameplate Rated Vpmax\n(Volts)"]
[]
[]
[]
[]
[]
[]
[]
[]
[]
[]
["Notes:","[Please include any information that helps Energy Commission save time during review]"]
["Subgroup 4 of Group 1"]
["Add or Revise","Reason for Revision","Manufacturer Name                                                        ","Model Number                                                         ","Nameplate Rated Pmax\n(Watts)","Nameplate Rated Isc\n(Amps)","Nameplate Rated Voc\n(Volts)","Nameplate Rated Ipmax\n(Amps)","Nameplate Rated Vpmax\n(Volts)"]
[]
[]
[]
[]
[]
[]
[]
[]
[]
[]
["Notes:","[Please include any information that helps Energy Commission save time during review]"]
[]
[]
["Table 2: Tested vs. Nameplate Values Comparison for Laboratory Tested Model (LTM) "]
["Group/Subgroup 1","Laboratory Tested Model (LTM) Number","Pmax (Watts)","Isc (Amps)","Voc (Volts)","Ipmax (Amps)","Vpmax (Volts)","Average NOCT (°C)","γPmax (%/°C)","αIsc (%/°C)","βVoc (%/°C)","Ipmax, low (Amps)"," Vpmax, low (Volts)","Ipmax, NOCT (Amps)","Vpmax, NOCT (Volts)"]
["Tested Value"]
["Nameplate Rating",{"$f":"IF(B75=\"\",\"\",B75)","v":""},{"$f":"IF(ISERROR(INDEX($D$21:$I$30,MATCH($B$76,$D$21:$D$30,0),2)),\"\",INDEX($D$21:$I$30,MATCH($B$76,$D$21:$D$30,0),2))","v":""},{"$f":"IF(ISERROR(INDEX($D$21:$I$30,MATCH($B$76,$D$21:$D$30,0),3)),\"\",INDEX($D$21:$I$30,MATCH($B$76,$D$21:$D$30,0),3))","v":""},{"$f":"IF(ISERROR(INDEX($D$21:$I$30,MATCH($B$76,$D$21:$D$30,0),4)),\"\",INDEX($D$21:$I$30,MATCH($B$76,$D$21:$D$30,0),4))","v":""},{"$f":"IF(ISERROR(INDEX($D$21:$I$30,MATCH($B$76,$D$21:$D$30,0),5)),\"\",INDEX($D$21:$I$30,MATCH($B$76,$D$21:$D$30,0),5))","v":""},{"$f":"IF(ISERROR(INDEX($D$21:$I$30,MATCH($B$76,$D$21:$D$30,0),6)),\"\",INDEX($D$21:$I$30,MATCH($B$76,$D$21:$D$30,0),6))","v":""}]
["Tested vs. Nameplate",null,{"$f":"IF(C75=\"\",\"\",(C75-C76)/C76)","v":""},{"$f":"IF(D75=\"\",\"\",(D75-D76)/D76)","v":""},"","",""]
["Notes:  "]
[]
["Subgroup 2 of Group 1",{"$f":"B74","v":"Laboratory Tested Model (LTM) Number"},{"$f":"C74","v":"Pmax (Watts)"},{"$f":"D74","v":"Isc (Amps)"},"Voc (Volts)","Ipmax (Amps)","Vpmax (Volts)",{"$f":"H74","v":"Average NOCT (°C)"},"γPmax (%/°C)","αIsc (%/°C)","βVoc (%/°C)","Ipmax, low (Amps)"," Vpmax, low (Volts)","Ipmax, NOCT (Amps)","Vpmax, NOCT (Volts)"]
["Tested Value"]
["Nameplate Rating",{"$f":"IF(B81=\"\",\"\",B81)","v":""},{"$f":"IF(ISERROR(INDEX($D$34:$I$43,MATCH($B$82,$D$34:$D$43,0),2)),\"\",INDEX($D$34:$I$43,MATCH($B$82,$D$34:$D$43,0),2))","v":""},{"$f":"IF(ISERROR(INDEX($D$34:$I$43,MATCH($B$82,$D$34:$D$43,0),3)),\"\",INDEX($D$34:$I$43,MATCH($B$82,$D$34:$D$43,0),3))","v":""},{"$f":"IF(ISERROR(INDEX($D$34:$I$43,MATCH($B$82,$D$34:$D$43,0),4)),\"\",INDEX($D$34:$I$43,MATCH($B$82,$D$34:$D$43,0),4))","v":""},{"$f":"IF(ISERROR(INDEX($D$34:$I$43,MATCH($B$82,$D$34:$D$43,0),5)),\"\",INDEX($D$34:$I$43,MATCH($B$82,$D$34:$D$43,0),5))","v":""},{"$f":"IF(ISERROR(INDEX($D$34:$I$43,MATCH($B$82,$D$34:$D$43,0),6)),\"\",INDEX($D$34:$I$43,MATCH($B$82,$D$34:$D$43,0),6))","v":""}]
["Tested vs. Nameplate",null,{"$f":"IF(C81=\"\",\"\",(C81-C82)/C82)","v":""},{"$f":"IF(D81=\"\",\"\",(D81-D82)/D82)","v":""},"","",""]
["Notes:  "]
[]
["Subgroup 3 of Group 1",{"$f":"B74","v":"Laboratory Tested Model (LTM) Number"},{"$f":"C74","v":"Pmax (Watts)"},{"$f":"D74","v":"Isc (Amps)"},"Voc (Volts)","Ipmax (Amps)","Vpmax (Volts)",{"$f":"H74","v":"Average NOCT (°C)"},"γPmax (%/°C)","αIsc (%/°C)","βVoc (%/°C)","Ipmax, low (Amps)"," Vpmax, low (Volts)","Ipmax, NOCT (Amps)","Vpmax, NOCT (Volts)"]
["Tested Value"]
["Nameplate Rating",{"$f":"IF(B87=\"\",\"\",B87)","v":""},{"$f":"IF(ISERROR(INDEX($D$47:$I$56,MATCH($B$88,$D$47:$D$56,0),2)),\"\",INDEX($D$47:$I$56,MATCH($B$88,$D$47:$D$56,0),2))","v":""},{"$f":"IF(ISERROR(INDEX($D$47:$I$56,MATCH($B$88,$D$47:$D$56,0),3)),\"\",INDEX($D$47:$I$56,MATCH($B$88,$D$47:$D$56,0),3))","v":""},{"$f":"IF(ISERROR(INDEX($D$47:$I$56,MATCH($B$88,$D$47:$D$56,0),4)),\"\",INDEX($D$47:$I$56,MATCH($B$88,$D$47:$D$56,0),4))","v":""},{"$f":"IF(ISERROR(INDEX($D$47:$I$56,MATCH($B$88,$D$47:$D$56,0),5)),\"\",INDEX($D$47:$I$56,MATCH($B$88,$D$47:$D$56,0),5))","v":""},{"$f":"IF(ISERROR(INDEX($D$47:$I$56,MATCH($B$88,$D$47:$D$56,0),6)),\"\",INDEX($D$47:$I$56,MATCH($B$88,$D$47:$D$56,0),6))","v":""}]
["Tested vs. Nameplate",null,{"$f":"IF(C87=\"\",\"\",(C87-C88)/C88)","v":""},{"$f":"IF(D87=\"\",\"\",(D87-D88)/D88)","v":""},"","",""]
["Notes:  "]
[]
["Subgroup 4 of Group 1",{"$f":"B74","v":"Laboratory Tested Model (LTM) Number"},{"$f":"C74","v":"Pmax (Watts)"},{"$f":"D74","v":"Isc (Amps)"},"Voc (Volts)","Ipmax (Amps)","Vpmax (Volts)",{"$f":"H74","v":"Average NOCT (°C)"},"γPmax (%/°C)","αIsc (%/°C)","βVoc (%/°C)","Ipmax, low (Amps)"," Vpmax, low (Volts)","Ipmax, NOCT (Amps)","Vpmax, NOCT (Volts)"]
["Tested Value"]
["Nameplate Rating",{"$f":"IF(B93=\"\",\"\",B93)","v":""},{"$f":"IF(ISERROR(INDEX($D$60:$I$69,MATCH($B$94,$D$60:$D$69,0),2)),\"\",INDEX($D$60:$I$69,MATCH($B$94,$D$60:$D$69,0),2))","v":""},{"$f":"IF(ISERROR(INDEX($D$60:$I$69,MATCH($B$94,$D$60:$D$69,0),3)),\"\",INDEX($D$60:$I$69,MATCH($B$94,$D$60:$D$69,0),3))","v":""},{"$f":"IF(ISERROR(INDEX($D$60:$I$69,MATCH($B$94,$D$60:$D$69,0),4)),\"\",INDEX($D$60:$I$69,MATCH($B$94,$D$60:$D$69,0),4))","v":""},{"$f":"IF(ISERROR(INDEX($D$60:$I$69,MATCH($B$94,$D$60:$D$69,0),5)),\"\",INDEX($D$60:$I$69,MATCH($B$94,$D$60:$D$69,0),5))","v":""},{"$f":"IF(ISERROR(INDEX($D$60:$I$69,MATCH($B$94,$D$60:$D$69,0),6)),\"\",INDEX($D$60:$I$69,MATCH($B$94,$D$60:$D$69,0),6))","v":""}]
["Tested vs. Nameplate",null,{"$f":"IF(C93=\"\",\"\",(C93-C94)/C94)","v":""},{"$f":"IF(D93=\"\",\"\",(D93-D94)/D94)","v":""},"","",""]
["Notes:  "]

{"sheet":"Eligible Modules","index":1,"n_rows":57,"n_cols":29,"rows_kept":57,"cut":false,"hidden":false,"merged":[]}
["PV Module Listing Request Form"]
["PV Modules to be Added to the Energy Commission's Lists of Eligible Solar Equipment"]
[]
["Table 3:  PV Modules to be Added to Eligibility List"]
["Group/Subgroup 1"]
["Manufacturer Name","Model Number","Description","Safety Certification","Design Qualification (Select from Dropdown)","Performance Evaluation (Select from Dropdown)","Pmax           ","PTC","Notes","Correlated Manufacturers ","Correlated Model Numbers","Family","Technology","Ac     ","Ns","Np","BIPV         ","Isc                 ","Voc             ","Ipmax ","Vpmax    ","Average NOCT            ","γpmax       ","αIsc                     ","βVoc          ","Ipmax,low ","Vpmax,\nlow ","Ipmax,NOCT ","Vpmax,NOCT "]
["  Only list eligible PV modules determined in Table 2.","  Only list eligible PV modules determined in Table 2.",null,"UL 1703 and/or UL 61730","(IEC 61215:2016)\nSubmitting Certification is Optional for Listing","(IEC 61853-1:2011)\nSubmitting Testing is Optional for Listing",null,null,null,"For Multiple Listings only","For Multiple Listings only"]
[{"$f":"IF('Requested '!C21=\"\",\"\",'Requested '!C21)","v":""},{"$f":"IF('Requested '!D21=\"\",\"\",'Requested '!D21)","v":""},null,null,null,null,{"$f":"IF('Requested '!E21=\"\",\"\",'Requested '!E21)","v":""},{"$f":"IF(OR(G8=\"\",'Requested '!B75=\"\"),\"\",ROUND(G8*(1+(W8/100)*((20+1.389*(V8-20)*(0.9-(G8/1000/N8)))-25)),1))","v":""},null,"","",null,null,null,null,null,null,{"$f":"IF('Requested '!F21=\"\",\"\",'Requested '!F21)","v":""},{"$f":"IF('Requested '!G21=\"\",\"\",'Requested '!G21)","v":""},{"$f":"IF('Requested '!H21=\"\",\"\",'Requested '!H21)","v":""},{"$f":"IF('Requested '!I21=\"\",\"\",'Requested '!I21)","v":""},{"$f":"IF('Requested '!$H$75=\"\",\"\",IF('Requested '!$D$21=\"\",\"\",'Requested '!$H$75))","v":""},{"$f":"IF('Requested '!$I$75=\"\",\"\",IF('Requested '!$D$21=\"\",\"\",'Requested '!$I$75))","v":""},{"$f":"IF('Requested '!$J$75=\"\",\"\",IF('Requested '!$D$21=\"\",\"\",'Requested '!$J$75))","v":""},{"$f":"IF('Requested '!K$75=\"\",\"\",IF('Requested '!$D$21=\"\",\"\",'Requested '!K$75))","v":""}]
[{"$f":"IF('Requested '!C22=\"\",\"\",'Requested '!C22)","v":""},{"$f":"IF('Requested '!D22=\"\",\"\",'Requested '!D22)","v":""},null,null,null,null,{"$f":"IF('Requested '!E22=\"\",\"\",'Requested '!E22)","v":""},{"$f":"IF(OR(G9=\"\",'Requested '!B75=\"\"),\"\",ROUND(G9*(1+(W9/100)*((20+1.389*(V9-20)*(0.9-(G9/1000/N9)))-25)),1))","v":""},null,"","",null,null,null,null,null,null,{"$f":"IF('Requested '!F22=\"\",\"\",'Requested '!F22)","v":""},{"$f":"IF('Requested '!G22=\"\",\"\",'Requested '!G22)","v":""},{"$f":"IF('Requested '!H22=\"\",\"\",'Requested '!H22)","v":""},{"$f":"IF('Requested '!I22=\"\",\"\",'Requested '!I22)","v":""},{"$f":"IF('Requested '!H$75=\"\",\"\",IF('Requested '!$D$22=\"\",\"\",'Requested '!H$75))","v":""},{"$f":"IF('Requested '!I$75=\"\",\"\",IF('Requested '!$D$22=\"\",\"\",'Requested '!I$75))","v":""},{"$f":"IF('Requested '!J$75=\"\",\"\",IF('Requested '!$D$22=\"\",\"\",'Requested '!J$75))","v":""},{"$f":"IF('Requested '!K$75=\"\",\"\",IF('Requested '!$D$22=\"\",\"\",'Requested '!K$75))","v":""}]
[{"$f":"IF('Requested '!C23=\"\",\"\",'Requested '!C23)","v":""},{"$f":"IF('Requested '!D23=\"\",\"\",'Requested '!D23)","v":""},null,null,null,null,{"$f":"IF('Requested '!E23=\"\",\"\",'Requested '!E23)","v":""},{"$f":"IF(OR(G10=\"\",'Requested '!B75=\"\"),\"\",ROUND(G10*(1+(W10/100)*((20+1.389*(V10-20)*(0.9-(G10/1000/N10)))-25)),1))","v":""},null,"","",null,null,null,null,null,null,{"$f":"IF('Requested '!F23=\"\",\"\",'Requested '!F23)","v":""},{"$f":"IF('Requested '!G23=\"\",\"\",'Requested '!G23)","v":""},{"$f":"IF('Requested '!H23=\"\",\"\",'Requested '!H23)","v":""},{"$f":"IF('Requested '!I23=\"\",\"\",'Requested '!I23)","v":""},{"$f":"IF('Requested '!H$75=\"\",\"\",IF('Requested '!$D$23=\"\",\"\",'Requested '!H$75))","v":""},{"$f":"IF('Requested '!I$75=\"\",\"\",IF('Requested '!$D$23=\"\",\"\",'Requested '!I$75))","v":""},{"$f":"IF('Requested '!J$75=\"\",\"\",IF('Requested '!$D$23=\"\",\"\",'Requested '!J$75))","v":""},{"$f":"IF('Requested '!K$75=\"\",\"\",IF('Requested '!$D$23=\"\",\"\",'Requested '!K$75))","v":""}]
[{"$f":"IF('Requested '!C24=\"\",\"\",'Requested '!C24)","v":""},{"$f":"IF('Requested '!D24=\"\",\"\",'Requested '!D24)","v":""},null,null,null,null,{"$f":"IF('Requested '!E24=\"\",\"\",'Requested '!E24)","v":""},{"$f":"IF(OR(G11=\"\",'Requested '!B75=\"\"),\"\",ROUND(G11*(1+(W11/100)*((20+1.389*(V11-20)*(0.9-(G11/1000/N11)))-25)),1))","v":""},null,"","",null,null,null,null,null,null,{"$f":"IF('Requested '!F24=\"\",\"\",'Requested '!F24)","v":""},{"$f":"IF('Requested '!G24=\"\",\"\",'Requested '!G24)","v":""},{"$f":"IF('Requested '!H24=\"\",\"\",'Requested '!H24)","v":""},{"$f":"IF('Requested '!I24=\"\",\"\",'Requested '!I24)","v":""},{"$f":"IF('Requested '!H$75=\"\",\"\",IF('Requested '!$D$24=\"\",\"\",'Requested '!H$75))","v":""},{"$f":"IF('Requested '!I$75=\"\",\"\",IF('Requested '!$D$24=\"\",\"\",'Requested '!I$75))","v":""},{"$f":"IF('Requested '!J$75=\"\",\"\",IF('Requested '!$D$24=\"\",\"\",'Requested '!J$75))","v":""},{"$f":"IF('Requested '!K$75=\"\",\"\",IF('Requested '!$D$24=\"\",\"\",'Requested '!K$75))","v":""}]
[{"$f":"IF('Requested '!C25=\"\",\"\",'Requested '!C25)","v":""},{"$f":"IF('Requested '!D25=\"\",\"\",'Requested '!D25)","v":""},null,null,null,null,{"$f":"IF('Requested '!E25=\"\",\"\",'Requested '!E25)","v":""},{"$f":"IF(OR(G12=\"\",'Requested '!B75=\"\"),\"\",ROUND(G12*(1+(W12/100)*((20+1.389*(V12-20)*(0.9-(G12/1000/N12)))-25)),1))","v":""},null,"","",null,null,null,null,null,null,{"$f":"IF('Requested '!F25=\"\",\"\",'Requested '!F25)","v":""},{"$f":"IF('Requested '!G25=\"\",\"\",'Requested '!G25)","v":""},{"$f":"IF('Requested '!H25=\"\",\"\",'Requested '!H25)","v":""},{"$f":"IF('Requested '!I25=\"\",\"\",'Requested '!I25)","v":""},{"$f":"IF('Requested '!H$75=\"\",\"\",IF('Requested '!$D$25=\"\",\"\",'Requested '!H$75))","v":""},{"$f":"IF('Requested '!I$75=\"\",\"\",IF('Requested '!$D$25=\"\",\"\",'Requested '!I$75))","v":""},{"$f":"IF('Requested '!J$75=\"\",\"\",IF('Requested '!$D$25=\"\",\"\",'Requested '!J$75))","v":""},{"$f":"IF('Requested '!K$75=\"\",\"\",IF('Requested '!$D$25=\"\",\"\",'Requested '!K$75))","v":""}]
[{"$f":"IF('Requested '!C26=\"\",\"\",'Requested '!C26)","v":""},{"$f":"IF('Requested '!D26=\"\",\"\",'Requested '!D26)","v":""},null,null,null,null,{"$f":"IF('Requested '!E26=\"\",\"\",'Requested '!E26)","v":""},{"$f":"IF(OR(G13=\"\",'Requested '!B75=\"\"),\"\",ROUND(G13*(1+(W13/100)*((20+1.389*(V13-20)*(0.9-(G13/1000/N13)))-25)),1))","v":""},null,"","",null,null,null,null,null,null,{"$f":"IF('Requested '!F26=\"\",\"\",'Requested '!F26)","v":""},{"$f":"IF('Requested '!G26=\"\",\"\",'Requested '!G26)","v":""},{"$f":"IF('Requested '!H26=\"\",\"\",'Requested '!H26)","v":""},{"$f":"IF('Requested '!I26=\"\",\"\",'Requested '!I26)","v":""},{"$f":"IF('Requested '!H$75=\"\",\"\",IF('Requested '!$D$26=\"\",\"\",'Requested '!H$75))","v":""},{"$f":"IF('Requested '!I$75=\"\",\"\",IF('Requested '!$D$26=\"\",\"\",'Requested '!I$75))","v":""},{"$f":"IF('Requested '!J$75=\"\",\"\",IF('Requested '!$D$26=\"\",\"\",'Requested '!J$75))","v":""},{"$f":"IF('Requested '!K$75=\"\",\"\",IF('Requested '!$D$26=\"\",\"\",'Requested '!K$75))","v":""}]
[{"$f":"IF('Requested '!C27=\"\",\"\",'Requested '!C27)","v":""},{"$f":"IF('Requested '!D27=\"\",\"\",'Requested '!D27)","v":""},null,null,null,null,{"$f":"IF('Requested '!E27=\"\",\"\",'Requested '!E27)","v":""},{"$f":"IF(OR(G14=\"\",'Requested '!B75=\"\"),\"\",ROUND(G14*(1+(W14/100)*((20+1.389*(V14-20)*(0.9-(G14/1000/N14)))-25)),1))","v":""},null,"","",null,null,null,null,null,null,{"$f":"IF('Requested '!F27=\"\",\"\",'Requested '!F27)","v":""},{"$f":"IF('Requested '!G27=\"\",\"\",'Requested '!G27)","v":""},{"$f":"IF('Requested '!H27=\"\",\"\",'Requested '!H27)","v":""},{"$f":"IF('Requested '!I27=\"\",\"\",'Requested '!I27)","v":""},{"$f":"IF('Requested '!H$75=\"\",\"\",IF('Requested '!$D$27=\"\",\"\",'Requested '!H$75))","v":""},{"$f":"IF('Requested '!I$75=\"\",\"\",IF('Requested '!$D$27=\"\",\"\",'Requested '!I$75))","v":""},{"$f":"IF('Requested '!J$75=\"\",\"\",IF('Requested '!$D$27=\"\",\"\",'Requested '!J$75))","v":""},{"$f":"IF('Requested '!K$75=\"\",\"\",IF('Requested '!$D$27=\"\",\"\",'Requested '!K$75))","v":""}]
[{"$f":"IF('Requested '!C28=\"\",\"\",'Requested '!C28)","v":""},{"$f":"IF('Requested '!D28=\"\",\"\",'Requested '!D28)","v":""},null,null,null,null,{"$f":"IF('Requested '!E28=\"\",\"\",'Requested '!E28)","v":""},{"$f":"IF(OR(G15=\"\",'Requested '!B75=\"\"),\"\",ROUND(G15*(1+(W15/100)*((20+1.389*(V15-20)*(0.9-(G15/1000/N15)))-25)),1))","v":""},null,"","",null,null,null,null,null,null,{"$f":"IF('Requested '!F28=\"\",\"\",'Requested '!F28)","v":""},{"$f":"IF('Requested '!G28=\"\",\"\",'Requested '!G28)","v":""},{"$f":"IF('Requested '!H28=\"\",\"\",'Requested '!H28)","v":""},{"$f":"IF('Requested '!I28=\"\",\"\",'Requested '!I28)","v":""},{"$f":"IF('Requested '!H$75=\"\",\"\",IF('Requested '!$D$28=\"\",\"\",'Requested '!H$75))","v":""},{"$f":"IF('Requested '!I$75=\"\",\"\",IF('Requested '!$D$28=\"\",\"\",'Requested '!I$75))","v":""},{"$f":"IF('Requested '!J$75=\"\",\"\",IF('Requested '!$D$28=\"\",\"\",'Requested '!J$75))","v":""},{"$f":"IF('Requested '!K$75=\"\",\"\",IF('Requested '!$D$28=\"\",\"\",'Requested '!K$75))","v":""}]
[{"$f":"IF('Requested '!C29=\"\",\"\",'Requested '!C29)","v":""},{"$f":"IF('Requested '!D29=\"\",\"\",'Requested '!D29)","v":""},null,null,null,null,{"$f":"IF('Requested '!E29=\"\",\"\",'Requested '!E29)","v":""},{"$f":"IF(OR(G16=\"\",'Requested '!B75=\"\"),\"\",ROUND(G16*(1+(W16/100)*((20+1.389*(V16-20)*(0.9-(G16/1000/N16)))-25)),1))","v":""},null,"","",null,null,null,null,null,null,{"$f":"IF('Requested '!F29=\"\",\"\",'Requested '!F29)","v":""},{"$f":"IF('Requested '!G29=\"\",\"\",'Requested '!G29)","v":""},{"$f":"IF('Requested '!H29=\"\",\"\",'Requested '!H29)","v":""},{"$f":"IF('Requested '!I29=\"\",\"\",'Requested '!I29)","v":""},{"$f":"IF('Requested '!H$75=\"\",\"\",IF('Requested '!$D$29=\"\",\"\",'Requested '!H$75))","v":""},{"$f":"IF('Requested '!I$75=\"\",\"\",IF('Requested '!$D$29=\"\",\"\",'Requested '!I$75))","v":""},{"$f":"IF('Requested '!J$75=\"\",\"\",IF('Requested '!$D$29=\"\",\"\",'Requested '!J$75))","v":""},{"$f":"IF('Requested '!K$75=\"\",\"\",IF('Requested '!$D$29=\"\",\"\",'Requested '!K$75))","v":""}]
[{"$f":"IF('Requested '!C30=\"\",\"\",'Requested '!C30)","v":""},{"$f":"IF('Requested '!D30=\"\",\"\",'Requested '!D30)","v":""},null,null,null,null,{"$f":"IF('Requested '!E30=\"\",\"\",'Requested '!E30)","v":""},{"$f":"IF(OR(G17=\"\",'Requested '!B75=\"\"),\"\",ROUND(G17*(1+(W17/100)*((20+1.389*(V17-20)*(0.9-(G17/1000/N17)))-25)),1))","v":""},null,"","",null,null,null,null,null,null,{"$f":"IF('Requested '!F30=\"\",\"\",'Requested '!F30)","v":""},{"$f":"IF('Requested '!G30=\"\",\"\",'Requested '!G30)","v":""},{"$f":"IF('Requested '!H30=\"\",\"\",'Requested '!H30)","v":""},{"$f":"IF('Requested '!I30=\"\",\"\",'Requested '!I30)","v":""},{"$f":"IF('Requested '!H$75=\"\",\"\",IF('Requested '!$D$30=\"\",\"\",'Requested '!H$75))","v":""},{"$f":"IF('Requested '!I$75=\"\",\"\",IF('Requested '!$D$30=\"\",\"\",'Requested '!I$75))","v":""},{"$f":"IF('Requested '!J$75=\"\",\"\",IF('Requested '!$D$30=\"\",\"\",'Requested '!J$75))","v":""},{"$f":"IF('Requested '!K$75=\"\",\"\",IF('Requested '!$D$30=\"\",\"\",'Requested '!K$75))","v":""}]
["Subgroup 2"]
["Manufacturer Name","Model Number","Description","Safety Certification","Design Qualification (Select from Dropdown)","Performance Evaluation (Select from Dropdown)","Pmax           ","PTC","Notes","Correlated Manufacturers ","Correlated Model Numbers","Family","Technology","Ac     ","Ns","Np","BIPV         ","Isc                 ","Voc             ","Ipmax ","Vpmax    ","Average NOCT            ","γpmax       ","αIsc                     ","βVoc          ","Ipmax,low ","Vpmax,\nlow ","Ipmax,NOCT ","Vpmax,NOCT "]
["  Only list eligible PV modules determined in Table 2.","  Only list eligible PV modules determined in Table 2.",null,"UL 1703 and/or UL 61730","(IEC 61215:2016)\nSubmitting Certification is Optional for Listing","(IEC 61853-1:2011)\nSubmitting Testing is Optional for Listing",null,null,null,"For Multiple Listings only","For Multiple Listings only"]
[{"$f":"IF('Requested '!C34=\"\",\"\",'Requested '!C34)","v":""},{"$f":"IF('Requested '!D34=\"\",\"\",'Requested '!D34)","v":""},null,null,null,null,{"$f":"IF('Requested '!E34=\"\",\"\",'Requested '!E34)","v":""},{"$f":"IF(OR(G21=\"\",'Requested '!B81=\"\"),\"\",ROUND(G21*(1+(W21/100)*((20+1.389*(V21-20)*(0.9-(G21/1000/N21)))-25)),1))","v":""},null,"","",null,null,null,null,null,null,{"$f":"IF('Requested '!F34=\"\",\"\",'Requested '!F34)","v":""},{"$f":"IF('Requested '!G34=\"\",\"\",'Requested '!G34)","v":""},{"$f":"IF('Requested '!H34=\"\",\"\",'Requested '!H34)","v":""},{"$f":"IF('Requested '!I34=\"\",\"\",'Requested '!I34)","v":""},{"$f":"IF('Requested '!H$81=\"\",\"\",IF('Requested '!$D$34=\"\",\"\",'Requested '!H$81))","v":""},{"$f":"IF('Requested '!I$81=\"\",\"\",IF('Requested '!$D$34=\"\",\"\",'Requested '!I$81))","v":""},{"$f":"IF('Requested '!J$81=\"\",\"\",IF('Requested '!$D$34=\"\",\"\",'Requested '!J$81))","v":""},{"$f":"IF('Requested '!K$81=\"\",\"\",IF('Requested '!$D$34=\"\",\"\",'Requested '!K$81))","v":""}]
[{"$f":"IF('Requested '!C35=\"\",\"\",'Requested '!C35)","v":""},{"$f":"IF('Requested '!D35=\"\",\"\",'Requested '!D35)","v":""},null,null,null,null,{"$f":"IF('Requested '!E35=\"\",\"\",'Requested '!E35)","v":""},{"$f":"IF(OR(G22=\"\",'Requested '!B81=\"\"),\"\",ROUND(G22*(1+(W22/100)*((20+1.389*(V22-20)*(0.9-(G22/1000/N22)))-25)),1))","v":""},null,"","",null,null,null,null,null,null,{"$f":"IF('Requested '!F35=\"\",\"\",'Requested '!F35)","v":""},{"$f":"IF('Requested '!G35=\"\",\"\",'Requested '!G35)","v":""},{"$f":"IF('Requested '!H35=\"\",\"\",'Requested '!H35)","v":""},{"$f":"IF('Requested '!I35=\"\",\"\",'Requested '!I35)","v":""},{"$f":"IF('Requested '!H$81=\"\",\"\",IF('Requested '!$D$35=\"\",\"\",'Requested '!H$81))","v":""},{"$f":"IF('Requested '!I$81=\"\",\"\",IF('Requested '!$D$35=\"\",\"\",'Requested '!I$81))","v":""},{"$f":"IF('Requested '!J$81=\"\",\"\",IF('Requested '!$D$35=\"\",\"\",'Requested '!J$81))","v":""},{"$f":"IF('Requested '!K$81=\"\",\"\",IF('Requested '!$D$35=\"\",\"\",'Requested '!K$81))","v":""}]
[{"$f":"IF('Requested '!C36=\"\",\"\",'Requested '!C36)","v":""},{"$f":"IF('Requested '!D36=\"\",\"\",'Requested '!D36)","v":""},null,null,null,null,{"$f":"IF('Requested '!E36=\"\",\"\",'Requested '!E36)","v":""},{"$f":"IF(OR(G23=\"\",'Requested '!B81=\"\"),\"\",ROUND(G23*(1+(W23/100)*((20+1.389*(V23-20)*(0.9-(G23/1000/N23)))-25)),1))","v":""},null,"","",null,null,null,null,null,null,{"$f":"IF('Requested '!F36=\"\",\"\",'Requested '!F36)","v":""},{"$f":"IF('Requested '!G36=\"\",\"\",'Requested '!G36)","v":""},{"$f":"IF('Requested '!H36=\"\",\"\",'Requested '!H36)","v":""},{"$f":"IF('Requested '!I36=\"\",\"\",'Requested '!I36)","v":""},{"$f":"IF('Requested '!H$81=\"\",\"\",IF('Requested '!$D$36=\"\",\"\",'Requested '!H$81))","v":""},{"$f":"IF('Requested '!I$81=\"\",\"\",IF('Requested '!$D$36=\"\",\"\",'Requested '!I$81))","v":""},{"$f":"IF('Requested '!J$81=\"\",\"\",IF('Requested '!$D$36=\"\",\"\",'Requested '!J$81))","v":""},{"$f":"IF('Requested '!K$81=\"\",\"\",IF('Requested '!$D$36=\"\",\"\",'Requested '!K$81))","v":""}]
[{"$f":"IF('Requested '!C37=\"\",\"\",'Requested '!C37)","v":""},{"$f":"IF('Requested '!D37=\"\",\"\",'Requested '!D37)","v":""},null,null,null,null,{"$f":"IF('Requested '!E37=\"\",\"\",'Requested '!E37)","v":""},{"$f":"IF(OR(G24=\"\",'Requested '!B81=\"\"),\"\",ROUND(G24*(1+(W24/100)*((20+1.389*(V24-20)*(0.9-(G24/1000/N24)))-25)),1))","v":""},null,"","",null,null,null,null,null,null,{"$f":"IF('Requested '!F37=\"\",\"\",'Requested '!F37)","v":""},{"$f":"IF('Requested '!G37=\"\",\"\",'Requested '!G37)","v":""},{"$f":"IF('Requested '!H37=\"\",\"\",'Requested '!H37)","v":""},{"$f":"IF('Requested '!I37=\"\",\"\",'Requested '!I37)","v":""},{"$f":"IF('Requested '!H$81=\"\",\"\",IF('Requested '!$D$37=\"\",\"\",'Requested '!H$81))","v":""},{"$f":"IF('Requested '!I$81=\"\",\"\",IF('Requested '!$D$37=\"\",\"\",'Requested '!I$81))","v":""},{"$f":"IF('Requested '!J$81=\"\",\"\",IF('Requested '!$D$37=\"\",\"\",'Requested '!J$81))","v":""},{"$f":"IF('Requested '!K$81=\"\",\"\",IF('Requested '!$D$37=\"\",\"\",'Requested '!K$81))","v":""}]
[{"$f":"IF('Requested '!C38=\"\",\"\",'Requested '!C38)","v":""},{"$f":"IF('Requested '!D38=\"\",\"\",'Requested '!D38)","v":""},null,null,null,null,{"$f":"IF('Requested '!E38=\"\",\"\",'Requested '!E38)","v":""},{"$f":"IF(OR(G25=\"\",'Requested '!B81=\"\"),\"\",ROUND(G25*(1+(W25/100)*((20+1.389*(V25-20)*(0.9-(G25/1000/N25)))-25)),1))","v":""},null,"","",null,null,null,null,null,null,{"$f":"IF('Requested '!F38=\"\",\"\",'Requested '!F38)","v":""},{"$f":"IF('Requested '!G38=\"\",\"\",'Requested '!G38)","v":""},{"$f":"IF('Requested '!H38=\"\",\"\",'Requested '!H38)","v":""},{"$f":"IF('Requested '!I38=\"\",\"\",'Requested '!I38)","v":""},{"$f":"IF('Requested '!H$81=\"\",\"\",IF('Requested '!$D$38=\"\",\"\",'Requested '!H$81))","v":""},{"$f":"IF('Requested '!I$81=\"\",\"\",IF('Requested '!$D$38=\"\",\"\",'Requested '!I$81))","v":""},{"$f":"IF('Requested '!J$81=\"\",\"\",IF('Requested '!$D$38=\"\",\"\",'Requested '!J$81))","v":""},{"$f":"IF('Requested '!K$81=\"\",\"\",IF('Requested '!$D$38=\"\",\"\",'Requested '!K$81))","v":""}]
[{"$f":"IF('Requested '!C39=\"\",\"\",'Requested '!C39)","v":""},{"$f":"IF('Requested '!D39=\"\",\"\",'Requested '!D39)","v":""},null,null,null,null,{"$f":"IF('Requested '!E39=\"\",\"\",'Requested '!E39)","v":""},{"$f":"IF(OR(G26=\"\",'Requested '!B81=\"\"),\"\",ROUND(G26*(1+(W26/100)*((20+1.389*(V26-20)*(0.9-(G26/1000/N26)))-25)),1))","v":""},null,"","",null,null,null,null,null,null,{"$f":"IF('Requested '!F39=\"\",\"\",'Requested '!F39)","v":""},{"$f":"IF('Requested '!G39=\"\",\"\",'Requested '!G39)","v":""},{"$f":"IF('Requested '!H39=\"\",\"\",'Requested '!H39)","v":""},{"$f":"IF('Requested '!I39=\"\",\"\",'Requested '!I39)","v":""},{"$f":"IF('Requested '!H$81=\"\",\"\",IF('Requested '!$D$39=\"\",\"\",'Requested '!H$81))","v":""},{"$f":"IF('Requested '!I$81=\"\",\"\",IF('Requested '!$D$39=\"\",\"\",'Requested '!I$81))","v":""},{"$f":"IF('Requested '!J$81=\"\",\"\",IF('Requested '!$D$39=\"\",\"\",'Requested '!J$81))","v":""},{"$f":"IF('Requested '!K$81=\"\",\"\",IF('Requested '!$D$39=\"\",\"\",'Requested '!K$81))","v":""}]
[{"$f":"IF('Requested '!C40=\"\",\"\",'Requested '!C40)","v":""},{"$f":"IF('Requested '!D40=\"\",\"\",'Requested '!D40)","v":""},null,null,null,null,{"$f":"IF('Requested '!E40=\"\",\"\",'Requested '!E40)","v":""},{"$f":"IF(OR(G27=\"\",'Requested '!B81=\"\"),\"\",ROUND(G27*(1+(W27/100)*((20+1.389*(V27-20)*(0.9-(G27/1000/N27)))-25)),1))","v":""},null,"","",null,null,null,null,null,null,{"$f":"IF('Requested '!F40=\"\",\"\",'Requested '!F40)","v":""},{"$f":"IF('Requested '!G40=\"\",\"\",'Requested '!G40)","v":""},{"$f":"IF('Requested '!H40=\"\",\"\",'Requested '!H40)","v":""},{"$f":"IF('Requested '!I40=\"\",\"\",'Requested '!I40)","v":""},{"$f":"IF('Requested '!H$81=\"\",\"\",IF('Requested '!$D$40=\"\",\"\",'Requested '!H$81))","v":""},{"$f":"IF('Requested '!I$81=\"\",\"\",IF('Requested '!$D$40=\"\",\"\",'Requested '!I$81))","v":""},{"$f":"IF('Requested '!J$81=\"\",\"\",IF('Requested '!$D$40=\"\",\"\",'Requested '!J$81))","v":""},{"$f":"IF('Requested '!K$81=\"\",\"\",IF('Requested '!$D$40=\"\",\"\",'Requested '!K$81))","v":""}]
[{"$f":"IF('Requested '!C41=\"\",\"\",'Requested '!C41)","v":""},{"$f":"IF('Requested '!D41=\"\",\"\",'Requested '!D41)","v":""},null,null,null,null,{"$f":"IF('Requested '!E41=\"\",\"\",'Requested '!E41)","v":""},{"$f":"IF(OR(G28=\"\",'Requested '!B81=\"\"),\"\",ROUND(G28*(1+(W28/100)*((20+1.389*(V28-20)*(0.9-(G28/1000/N28)))-25)),1))","v":""},null,"","",null,null,null,null,null,null,{"$f":"IF('Requested '!F41=\"\",\"\",'Requested '!F41)","v":""},{"$f":"IF('Requested '!G41=\"\",\"\",'Requested '!G41)","v":""},{"$f":"IF('Requested '!H41=\"\",\"\",'Requested '!H41)","v":""},{"$f":"IF('Requested '!I41=\"\",\"\",'Requested '!I41)","v":""},{"$f":"IF('Requested '!H$81=\"\",\"\",IF('Requested '!$D$41=\"\",\"\",'Requested '!H$81))","v":""},{"$f":"IF('Requested '!I$81=\"\",\"\",IF('Requested '!$D$41=\"\",\"\",'Requested '!I$81))","v":""},{"$f":"IF('Requested '!J$81=\"\",\"\",IF('Requested '!$D$41=\"\",\"\",'Requested '!J$81))","v":""},{"$f":"IF('Requested '!K$81=\"\",\"\",IF('Requested '!$D$41=\"\",\"\",'Requested '!K$81))","v":""}]
[{"$f":"IF('Requested '!C42=\"\",\"\",'Requested '!C42)","v":""},{"$f":"IF('Requested '!D42=\"\",\"\",'Requested '!D42)","v":""},null,null,null,null,{"$f":"IF('Requested '!E42=\"\",\"\",'Requested '!E42)","v":""},{"$f":"IF(OR(G29=\"\",'Requested '!B81=\"\"),\"\",ROUND(G29*(1+(W29/100)*((20+1.389*(V29-20)*(0.9-(G29/1000/N29)))-25)),1))","v":""},null,"","",null,null,null,null,null,null,{"$f":"IF('Requested '!F42=\"\",\"\",'Requested '!F42)","v":""},{"$f":"IF('Requested '!G42=\"\",\"\",'Requested '!G42)","v":""},{"$f":"IF('Requested '!H42=\"\",\"\",'Requested '!H42)","v":""},{"$f":"IF('Requested '!I42=\"\",\"\",'Requested '!I42)","v":""},{"$f":"IF('Requested '!H$81=\"\",\"\",IF('Requested '!$D$42=\"\",\"\",'Requested '!H$81))","v":""},{"$f":"IF('Requested '!I$81=\"\",\"\",IF('Requested '!$D$42=\"\",\"\",'Requested '!I$81))","v":""},{"$f":"IF('Requested '!J$81=\"\",\"\",IF('Requested '!$D$42=\"\",\"\",'Requested '!J$81))","v":""},{"$f":"IF('Requested '!K$81=\"\",\"\",IF('Requested '!$D$42=\"\",\"\",'Requested '!K$81))","v":""}]
[{"$f":"IF('Requested '!C43=\"\",\"\",'Requested '!C43)","v":""},{"$f":"IF('Requested '!D43=\"\",\"\",'Requested '!D43)","v":""},null,null,null,null,{"$f":"IF('Requested '!E43=\"\",\"\",'Requested '!E43)","v":""},{"$f":"IF(OR(G30=\"\",'Requested '!B81=\"\"),\"\",ROUND(G30*(1+(W30/100)*((20+1.389*(V30-20)*(0.9-(G30/1000/N30)))-25)),1))","v":""},null,"","",null,null,null,null,null,null,{"$f":"IF('Requested '!F43=\"\",\"\",'Requested '!F43)","v":""},{"$f":"IF('Requested '!G43=\"\",\"\",'Requested '!G43)","v":""},{"$f":"IF('Requested '!H43=\"\",\"\",'Requested '!H43)","v":""},{"$f":"IF('Requested '!I43=\"\",\"\",'Requested '!I43)","v":""},{"$f":"IF('Requested '!H$81=\"\",\"\",IF('Requested '!$D$43=\"\",\"\",'Requested '!H$81))","v":""},{"$f":"IF('Requested '!I$81=\"\",\"\",IF('Requested '!$D$43=\"\",\"\",'Requested '!I$81))","v":""},{"$f":"IF('Requested '!J$81=\"\",\"\",IF('Requested '!$D$43=\"\",\"\",'Requested '!J$81))","v":""},{"$f":"IF('Requested '!K$81=\"\",\"\",IF('Requested '!$D$43=\"\",\"\",'Requested '!K$81))","v":""}]
["Subgroup 3"]
["Manufacturer Name","Model Number","Description","Safety Certification","Design Qualification (Select from Dropdown)","Performance Evaluation (Select from Dropdown)","Pmax           ","PTC","Notes","Correlated Manufacturers ","Correlated Model Numbers","Family","Technology","Ac     ","Ns","Np","BIPV         ","Isc                 ","Voc             ","Ipmax ","Vpmax    ","Average NOCT            ","γpmax       ","αIsc                     ","βVoc          ","Ipmax,\nlow ","Vpmax,\nlow ","Ipmax,\nNOCT ","Vpmax,\nNOCT "]
["  Only list eligible PV modules determined in Table 2.","  Only list eligible PV modules determined in Table 2.",null,"UL 1703 and/or UL 61730","(IEC 61215:2016)\nSubmitting Certification is Optional for Listing","(IEC 61853-1:2011)\nSubmitting Testing is Optional for Listing",null,null,null,"For Multiple Listings only","For Multiple Listings only"]
[{"$f":"IF('Requested '!C47=\"\",\"\",'Requested '!C47)","v":""},{"$f":"IF('Requested '!D47=\"\",\"\",'Requested '!D47)","v":""},null,null,null,null,{"$f":"IF('Requested '!E47=\"\",\"\",'Requested '!E47)","v":""},{"$f":"IF(OR(G34=\"\",'Requested '!B87=\"\"),\"\",ROUND(G34*(1+(W34/100)*((20+1.389*(V34-20)*(0.9-(G34/1000/N34)))-25)),1))","v":""},null,"","",null,null,null,null,null,null,{"$f":"IF('Requested '!F47=\"\",\"\",'Requested '!F47)","v":""},{"$f":"IF('Requested '!G47=\"\",\"\",'Requested '!G47)","v":""},{"$f":"IF('Requested '!H47=\"\",\"\",'Requested '!H47)","v":""},{"$f":"IF('Requested '!I47=\"\",\"\",'Requested '!I47)","v":""},{"$f":"IF('Requested '!H$87=\"\",\"\",IF('Requested '!$D$47=\"\",\"\",'Requested '!H$87))","v":""},{"$f":"IF('Requested '!I$87=\"\",\"\",IF('Requested '!$D$47=\"\",\"\",'Requested '!I$87))","v":""},{"$f":"IF('Requested '!J$87=\"\",\"\",IF('Requested '!$D$47=\"\",\"\",'Requested '!J$87))","v":""}]
[{"$f":"IF('Requested '!C48=\"\",\"\",'Requested '!C48)","v":""},{"$f":"IF('Requested '!D48=\"\",\"\",'Requested '!D48)","v":""},null,null,null,null,{"$f":"IF('Requested '!E48=\"\",\"\",'Requested '!E48)","v":""},{"$f":"IF(OR(G35=\"\",'Requested '!B87=\"\"),\"\",ROUND(G35*(1+(W35/100)*((20+1.389*(V35-20)*(0.9-(G35/1000/N35)))-25)),1))","v":""},null,"","",null,null,null,null,null,null,{"$f":"IF('Requested '!F48=\"\",\"\",'Requested '!F48)","v":""},{"$f":"IF('Requested '!G48=\"\",\"\",'Requested '!G48)","v":""},{"$f":"IF('Requested '!H48=\"\",\"\",'Requested '!H48)","v":""},{"$f":"IF('Requested '!I48=\"\",\"\",'Requested '!I48)","v":""},{"$f":"IF('Requested '!H$87=\"\",\"\",IF('Requested '!$D$48=\"\",\"\",'Requested '!H$87))","v":""},{"$f":"IF('Requested '!I$87=\"\",\"\",IF('Requested '!$D$48=\"\",\"\",'Requested '!I$87))","v":""},{"$f":"IF('Requested '!J$87=\"\",\"\",IF('Requested '!$D$48=\"\",\"\",'Requested '!J$87))","v":""}]
[{"$f":"IF('Requested '!C49=\"\",\"\",'Requested '!C49)","v":""},{"$f":"IF('Requested '!D49=\"\",\"\",'Requested '!D49)","v":""},null,null,null,null,{"$f":"IF('Requested '!E49=\"\",\"\",'Requested '!E49)","v":""},{"$f":"IF(OR(G36=\"\",'Requested '!B87=\"\"),\"\",ROUND(G36*(1+(W36/100)*((20+1.389*(V36-20)*(0.9-(G36/1000/N36)))-25)),1))","v":""},null,"","",null,null,null,null,null,null,{"$f":"IF('Requested '!F49=\"\",\"\",'Requested '!F49)","v":""},{"$f":"IF('Requested '!G49=\"\",\"\",'Requested '!G49)","v":""},{"$f":"IF('Requested '!H49=\"\",\"\",'Requested '!H49)","v":""},{"$f":"IF('Requested '!I49=\"\",\"\",'Requested '!I49)","v":""},{"$f":"IF('Requested '!H$87=\"\",\"\",IF('Requested '!$D$49=\"\",\"\",'Requested '!H$87))","v":""},{"$f":"IF('Requested '!I$87=\"\",\"\",IF('Requested '!$D$49=\"\",\"\",'Requested '!I$87))","v":""},{"$f":"IF('Requested '!J$87=\"\",\"\",IF('Requested '!$D$49=\"\",\"\",'Requested '!J$87))","v":""}]
[{"$f":"IF('Requested '!C50=\"\",\"\",'Requested '!C50)","v":""},{"$f":"IF('Requested '!D50=\"\",\"\",'Requested '!D50)","v":""},null,null,null,null,{"$f":"IF('Requested '!E50=\"\",\"\",'Requested '!E50)","v":""},{"$f":"IF(OR(G37=\"\",'Requested '!B87=\"\"),\"\",ROUND(G37*(1+(W37/100)*((20+1.389*(V37-20)*(0.9-(G37/1000/N37)))-25)),1))","v":""},null,"","",null,null,null,null,null,null,{"$f":"IF('Requested '!F50=\"\",\"\",'Requested '!F50)","v":""},{"$f":"IF('Requested '!G50=\"\",\"\",'Requested '!G50)","v":""},{"$f":"IF('Requested '!H50=\"\",\"\",'Requested '!H50)","v":""},{"$f":"IF('Requested '!I50=\"\",\"\",'Requested '!I50)","v":""},{"$f":"IF('Requested '!H$87=\"\",\"\",IF('Requested '!$D$50=\"\",\"\",'Requested '!H$87))","v":""},{"$f":"IF('Requested '!I$87=\"\",\"\",IF('Requested '!$D$50=\"\",\"\",'Requested '!I$87))","v":""},{"$f":"IF('Requested '!J$87=\"\",\"\",IF('Requested '!$D$50=\"\",\"\",'Requested '!J$87))","v":""}]
[{"$f":"IF('Requested '!C51=\"\",\"\",'Requested '!C51)","v":""},{"$f":"IF('Requested '!D51=\"\",\"\",'Requested '!D51)","v":""},null,null,null,null,{"$f":"IF('Requested '!E51=\"\",\"\",'Requested '!E51)","v":""},{"$f":"IF(OR(G38=\"\",'Requested '!B87=\"\"),\"\",ROUND(G38*(1+(W38/100)*((20+1.389*(V38-20)*(0.9-(G38/1000/N38)))-25)),1))","v":""},null,"","",null,null,null,null,null,null,{"$f":"IF('Requested '!F51=\"\",\"\",'Requested '!F51)","v":""},{"$f":"IF('Requested '!G51=\"\",\"\",'Requested '!G51)","v":""},{"$f":"IF('Requested '!H51=\"\",\"\",'Requested '!H51)","v":""},{"$f":"IF('Requested '!I51=\"\",\"\",'Requested '!I51)","v":""},{"$f":"IF('Requested '!H$87=\"\",\"\",IF('Requested '!$D$51=\"\",\"\",'Requested '!H$87))","v":""},{"$f":"IF('Requested '!I$87=\"\",\"\",IF('Requested '!$D$51=\"\",\"\",'Requested '!I$87))","v":""},{"$f":"IF('Requested '!J$87=\"\",\"\",IF('Requested '!$D$51=\"\",\"\",'Requested '!J$87))","v":""}]
[{"$f":"IF('Requested '!C52=\"\",\"\",'Requested '!C52)","v":""},{"$f":"IF('Requested '!D52=\"\",\"\",'Requested '!D52)","v":""},null,null,null,null,{"$f":"IF('Requested '!E52=\"\",\"\",'Requested '!E52)","v":""},{"$f":"IF(OR(G39=\"\",'Requested '!B87=\"\"),\"\",ROUND(G39*(1+(W39/100)*((20+1.389*(V39-20)*(0.9-(G39/1000/N39)))-25)),1))","v":""},null,"","",null,null,null,null,null,null,{"$f":"IF('Requested '!F52=\"\",\"\",'Requested '!F52)","v":""},{"$f":"IF('Requested '!G52=\"\",\"\",'Requested '!G52)","v":""},{"$f":"IF('Requested '!H52=\"\",\"\",'Requested '!H52)","v":""},{"$f":"IF('Requested '!I52=\"\",\"\",'Requested '!I52)","v":""},{"$f":"IF('Requested '!H$87=\"\",\"\",IF('Requested '!$D$52=\"\",\"\",'Requested '!H$87))","v":""},{"$f":"IF('Requested '!I$87=\"\",\"\",IF('Requested '!$D$52=\"\",\"\",'Requested '!I$87))","v":""},{"$f":"IF('Requested '!J$87=\"\",\"\",IF('Requested '!$D$52=\"\",\"\",'Requested '!J$87))","v":""}]
[{"$f":"IF('Requested '!C53=\"\",\"\",'Requested '!C53)","v":""},{"$f":"IF('Requested '!D53=\"\",\"\",'Requested '!D53)","v":""},null,null,null,null,{"$f":"IF('Requested '!E53=\"\",\"\",'Requested '!E53)","v":""},{"$f":"IF(OR(G40=\"\",'Requested '!B87=\"\"),\"\",ROUND(G40*(1+(W40/100)*((20+1.389*(V40-20)*(0.9-(G40/1000/N40)))-25)),1))","v":""},null,"","",null,null,null,null,null,null,{"$f":"IF('Requested '!F53=\"\",\"\",'Requested '!F53)","v":""},{"$f":"IF('Requested '!G53=\"\",\"\",'Requested '!G53)","v":""},{"$f":"IF('Requested '!H53=\"\",\"\",'Requested '!H53)","v":""},{"$f":"IF('Requested '!I53=\"\",\"\",'Requested '!I53)","v":""},{"$f":"IF('Requested '!H$87=\"\",\"\",IF('Requested '!$D$53=\"\",\"\",'Requested '!H$87))","v":""},{"$f":"IF('Requested '!I$87=\"\",\"\",IF('Requested '!$D$53=\"\",\"\",'Requested '!I$87))","v":""},{"$f":"IF('Requested '!J$87=\"\",\"\",IF('Requested '!$D$53=\"\",\"\",'Requested '!J$87))","v":""}]
[{"$f":"IF('Requested '!C54=\"\",\"\",'Requested '!C54)","v":""},{"$f":"IF('Requested '!D54=\"\",\"\",'Requested '!D54)","v":""},null,null,null,null,{"$f":"IF('Requested '!E54=\"\",\"\",'Requested '!E54)","v":""},{"$f":"IF(OR(G41=\"\",'Requested '!B87=\"\"),\"\",ROUND(G41*(1+(W41/100)*((20+1.389*(V41-20)*(0.9-(G41/1000/N41)))-25)),1))","v":""},null,"","",null,null,null,null,null,null,{"$f":"IF('Requested '!F54=\"\",\"\",'Requested '!F54)","v":""},{"$f":"IF('Requested '!G54=\"\",\"\",'Requested '!G54)","v":""},{"$f":"IF('Requested '!H54=\"\",\"\",'Requested '!H54)","v":""},{"$f":"IF('Requested '!I54=\"\",\"\",'Requested '!I54)","v":""},{"$f":"IF('Requested '!H$87=\"\",\"\",IF('Requested '!$D$54=\"\",\"\",'Requested '!H$87))","v":""},{"$f":"IF('Requested '!I$87=\"\",\"\",IF('Requested '!$D$54=\"\",\"\",'Requested '!I$87))","v":""},{"$f":"IF('Requested '!J$87=\"\",\"\",IF('Requested '!$D$54=\"\",\"\",'Requested '!J$87))","v":""}]
[{"$f":"IF('Requested '!C55=\"\",\"\",'Requested '!C55)","v":""},{"$f":"IF('Requested '!D55=\"\",\"\",'Requested '!D55)","v":""},null,null,null,null,{"$f":"IF('Requested '!E55=\"\",\"\",'Requested '!E55)","v":""},{"$f":"IF(OR(G42=\"\",'Requested '!B87=\"\"),\"\",ROUND(G42*(1+(W42/100)*((20+1.389*(V42-20)*(0.9-(G42/1000/N42)))-25)),1))","v":""},null,"","",null,null,null,null,null,null,{"$f":"IF('Requested '!F55=\"\",\"\",'Requested '!F55)","v":""},{"$f":"IF('Requested '!G55=\"\",\"\",'Requested '!G55)","v":""},{"$f":"IF('Requested '!H55=\"\",\"\",'Requested '!H55)","v":""},{"$f":"IF('Requested '!I55=\"\",\"\",'Requested '!I55)","v":""},{"$f":"IF('Requested '!H$87=\"\",\"\",IF('Requested '!$D$55=\"\",\"\",'Requested '!H$87))","v":""},{"$f":"IF('Requested '!I$87=\"\",\"\",IF('Requested '!$D$55=\"\",\"\",'Requested '!I$87))","v":""},{"$f":"IF('Requested '!J$87=\"\",\"\",IF('Requested '!$D$55=\"\",\"\",'Requested '!J$87))","v":""}]
[{"$f":"IF('Requested '!C56=\"\",\"\",'Requested '!C56)","v":""},{"$f":"IF('Requested '!D56=\"\",\"\",'Requested '!D56)","v":""},null,null,null,null,{"$f":"IF('Requested '!E56=\"\",\"\",'Requested '!E56)","v":""},{"$f":"IF(OR(G43=\"\",'Requested '!B87=\"\"),\"\",ROUND(G43*(1+(W43/100)*((20+1.389*(V43-20)*(0.9-(G43/1000/N43)))-25)),1))","v":""},null,"","",null,null,null,null,null,null,{"$f":"IF('Requested '!F56=\"\",\"\",'Requested '!F56)","v":""},{"$f":"IF('Requested '!G56=\"\",\"\",'Requested '!G56)","v":""},{"$f":"IF('Requested '!H56=\"\",\"\",'Requested '!H56)","v":""},{"$f":"IF('Requested '!I56=\"\",\"\",'Requested '!I56)","v":""},{"$f":"IF('Requested '!H$87=\"\",\"\",IF('Requested '!$D$56=\"\",\"\",'Requested '!H$87))","v":""},{"$f":"IF('Requested '!I$87=\"\",\"\",IF('Requested '!$D$56=\"\",\"\",'Requested '!I$87))","v":""},{"$f":"IF('Requested '!J$87=\"\",\"\",IF('Requested '!$D$56=\"\",\"\",'Requested '!J$87))","v":""}]
["Subgroup 4"]
["Manufacturer Name","Model Number","Description","Safety Certification","Design Qualification (Select from Dropdown)","Performance Evaluation (Select from Dropdown)","Pmax           ","PTC","Notes","Correlated Manufacturers ","Correlated Model Numbers","Family","Technology","Ac     ","Ns","Np","BIPV         ","Isc                 ","Voc             ","Ipmax ","Vpmax    ","Average NOCT            ","γpmax       ","αIsc                     ","βVoc          ","Ipmax,low ","Vpmax,\nlow ","Ipmax,NOCT ","Vpmax,NOCT "]
["  Only list eligible PV modules determined in Table 2.","  Only list eligible PV modules determined in Table 2.",null,"UL 1703 and/or UL 61730","(IEC 61215:2016)\nSubmitting Certification is Optional for Listing","(IEC 61853-1:2011)\nSubmitting Testing is Optional for Listing",null,null,null,"For Multiple Listings only","For Multiple Listings only"]
[{"$f":"IF('Requested '!C60=\"\",\"\",'Requested '!C60)","v":""},{"$f":"IF('Requested '!D60=\"\",\"\",'Requested '!D60)","v":""},null,null,null,null,{"$f":"IF('Requested '!E60=\"\",\"\",'Requested '!E60)","v":""},{"$f":"IF(OR(G47=\"\",'Requested '!$B$93=\"\"),\"\",ROUND(G47*(1+(W47/100)*((20+1.389*(V47-20)*(0.9-(G47/1000/N47)))-25)),1))","v":""},null,"","",null,null,null,null,null,null,{"$f":"IF('Requested '!F60=\"\",\"\",'Requested '!F60)","v":""},{"$f":"IF('Requested '!G60=\"\",\"\",'Requested '!G60)","v":""},{"$f":"IF('Requested '!H60=\"\",\"\",'Requested '!H60)","v":""},{"$f":"IF('Requested '!I60=\"\",\"\",'Requested '!I60)","v":""},{"$f":"IF('Requested '!H$93=\"\",\"\",IF('Requested '!$D$60=\"\",\"\",'Requested '!H$93))","v":""},{"$f":"IF('Requested '!I$93=\"\",\"\",IF('Requested '!$D$60=\"\",\"\",'Requested '!I$93))","v":""},{"$f":"IF('Requested '!J$93=\"\",\"\",IF('Requested '!$D$60=\"\",\"\",'Requested '!J$93))","v":""}]
[{"$f":"IF('Requested '!C61=\"\",\"\",'Requested '!C61)","v":""},{"$f":"IF('Requested '!D61=\"\",\"\",'Requested '!D61)","v":""},null,null,null,null,{"$f":"IF('Requested '!E61=\"\",\"\",'Requested '!E61)","v":""},{"$f":"IF(OR(G48=\"\",'Requested '!$B$93=\"\"),\"\",ROUND(G48*(1+(W48/100)*((20+1.389*(V48-20)*(0.9-(G48/1000/N48)))-25)),1))","v":""},null,"","",null,null,null,null,null,null,{"$f":"IF('Requested '!F61=\"\",\"\",'Requested '!F61)","v":""},{"$f":"IF('Requested '!G61=\"\",\"\",'Requested '!G61)","v":""},{"$f":"IF('Requested '!H61=\"\",\"\",'Requested '!H61)","v":""},{"$f":"IF('Requested '!I61=\"\",\"\",'Requested '!I61)","v":""},{"$f":"IF('Requested '!H$93=\"\",\"\",IF('Requested '!$D$61=\"\",\"\",'Requested '!H$93))","v":""},{"$f":"IF('Requested '!I$93=\"\",\"\",IF('Requested '!$D$61=\"\",\"\",'Requested '!I$93))","v":""},{"$f":"IF('Requested '!J$93=\"\",\"\",IF('Requested '!$D$61=\"\",\"\",'Requested '!J$93))","v":""}]
[{"$f":"IF('Requested '!C62=\"\",\"\",'Requested '!C62)","v":""},{"$f":"IF('Requested '!D62=\"\",\"\",'Requested '!D62)","v":""},null,null,null,null,{"$f":"IF('Requested '!E62=\"\",\"\",'Requested '!E62)","v":""},{"$f":"IF(OR(G49=\"\",'Requested '!$B$93=\"\"),\"\",ROUND(G49*(1+(W49/100)*((20+1.389*(V49-20)*(0.9-(G49/1000/N49)))-25)),1))","v":""},null,"","",null,null,null,null,null,null,{"$f":"IF('Requested '!F62=\"\",\"\",'Requested '!F62)","v":""},{"$f":"IF('Requested '!G62=\"\",\"\",'Requested '!G62)","v":""},{"$f":"IF('Requested '!H62=\"\",\"\",'Requested '!H62)","v":""},{"$f":"IF('Requested '!I62=\"\",\"\",'Requested '!I62)","v":""},{"$f":"IF('Requested '!H$93=\"\",\"\",IF('Requested '!$D$62=\"\",\"\",'Requested '!H$93))","v":""},{"$f":"IF('Requested '!I$93=\"\",\"\",IF('Requested '!$D$62=\"\",\"\",'Requested '!I$93))","v":""},{"$f":"IF('Requested '!J$93=\"\",\"\",IF('Requested '!$D$62=\"\",\"\",'Requested '!J$93))","v":""}]
[{"$f":"IF('Requested '!C63=\"\",\"\",'Requested '!C63)","v":""},{"$f":"IF('Requested '!D63=\"\",\"\",'Requested '!D63)","v":""},null,null,null,null,{"$f":"IF('Requested '!E63=\"\",\"\",'Requested '!E63)","v":""},{"$f":"IF(OR(G50=\"\",'Requested '!$B$93=\"\"),\"\",ROUND(G50*(1+(W50/100)*((20+1.389*(V50-20)*(0.9-(G50/1000/N50)))-25)),1))","v":""},null,"","",null,null,null,null,null,null,{"$f":"IF('Requested '!F63=\"\",\"\",'Requested '!F63)","v":""},{"$f":"IF('Requested '!G63=\"\",\"\",'Requested '!G63)","v":""},{"$f":"IF('Requested '!H63=\"\",\"\",'Requested '!H63)","v":""},{"$f":"IF('Requested '!I63=\"\",\"\",'Requested '!I63)","v":""},{"$f":"IF('Requested '!H$93=\"\",\"\",IF('Requested '!$D$63=\"\",\"\",'Requested '!H$93))","v":""},{"$f":"IF('Requested '!I$93=\"\",\"\",IF('Requested '!$D$63=\"\",\"\",'Requested '!I$93))","v":""},{"$f":"IF('Requested '!J$93=\"\",\"\",IF('Requested '!$D$63=\"\",\"\",'Requested '!J$93))","v":""}]
[{"$f":"IF('Requested '!C64=\"\",\"\",'Requested '!C64)","v":""},{"$f":"IF('Requested '!D64=\"\",\"\",'Requested '!D64)","v":""},null,null,null,null,{"$f":"IF('Requested '!E64=\"\",\"\",'Requested '!E64)","v":""},{"$f":"IF(OR(G51=\"\",'Requested '!$B$93=\"\"),\"\",ROUND(G51*(1+(W51/100)*((20+1.389*(V51-20)*(0.9-(G51/1000/N51)))-25)),1))","v":""},null,"","",null,null,null,null,null,null,{"$f":"IF('Requested '!F64=\"\",\"\",'Requested '!F64)","v":""},{"$f":"IF('Requested '!G64=\"\",\"\",'Requested '!G64)","v":""},{"$f":"IF('Requested '!H64=\"\",\"\",'Requested '!H64)","v":""},{"$f":"IF('Requested '!I64=\"\",\"\",'Requested '!I64)","v":""},{"$f":"IF('Requested '!H$93=\"\",\"\",IF('Requested '!$D$64=\"\",\"\",'Requested '!H$93))","v":""},{"$f":"IF('Requested '!I$93=\"\",\"\",IF('Requested '!$D$64=\"\",\"\",'Requested '!I$93))","v":""},{"$f":"IF('Requested '!J$93=\"\",\"\",IF('Requested '!$D$64=\"\",\"\",'Requested '!J$93))","v":""}]
[{"$f":"IF('Requested '!C65=\"\",\"\",'Requested '!C65)","v":""},{"$f":"IF('Requested '!D65=\"\",\"\",'Requested '!D65)","v":""},null,null,null,null,{"$f":"IF('Requested '!E65=\"\",\"\",'Requested '!E65)","v":""},{"$f":"IF(OR(G52=\"\",'Requested '!$B$93=\"\"),\"\",ROUND(G52*(1+(W52/100)*((20+1.389*(V52-20)*(0.9-(G52/1000/N52)))-25)),1))","v":""},null,"","",null,null,null,null,null,null,{"$f":"IF('Requested '!F65=\"\",\"\",'Requested '!F65)","v":""},{"$f":"IF('Requested '!G65=\"\",\"\",'Requested '!G65)","v":""},{"$f":"IF('Requested '!H65=\"\",\"\",'Requested '!H65)","v":""},{"$f":"IF('Requested '!I65=\"\",\"\",'Requested '!I65)","v":""},{"$f":"IF('Requested '!H$93=\"\",\"\",IF('Requested '!$D$65=\"\",\"\",'Requested '!H$93))","v":""},{"$f":"IF('Requested '!I$93=\"\",\"\",IF('Requested '!$D$65=\"\",\"\",'Requested '!I$93))","v":""},{"$f":"IF('Requested '!J$93=\"\",\"\",IF('Requested '!$D$65=\"\",\"\",'Requested '!J$93))","v":""}]
[{"$f":"IF('Requested '!C66=\"\",\"\",'Requested '!C66)","v":""},{"$f":"IF('Requested '!D66=\"\",\"\",'Requested '!D66)","v":""},null,null,null,null,{"$f":"IF('Requested '!E66=\"\",\"\",'Requested '!E66)","v":""},{"$f":"IF(OR(G53=\"\",'Requested '!$B$93=\"\"),\"\",ROUND(G53*(1+(W53/100)*((20+1.389*(V53-20)*(0.9-(G53/1000/N53)))-25)),1))","v":""},null,"","",null,null,null,null,null,null,{"$f":"IF('Requested '!F66=\"\",\"\",'Requested '!F66)","v":""},{"$f":"IF('Requested '!G66=\"\",\"\",'Requested '!G66)","v":""},{"$f":"IF('Requested '!H66=\"\",\"\",'Requested '!H66)","v":""},{"$f":"IF('Requested '!I66=\"\",\"\",'Requested '!I66)","v":""},{"$f":"IF('Requested '!H$93=\"\",\"\",IF('Requested '!$D$66=\"\",\"\",'Requested '!H$93))","v":""},{"$f":"IF('Requested '!I$93=\"\",\"\",IF('Requested '!$D$66=\"\",\"\",'Requested '!I$93))","v":""},{"$f":"IF('Requested '!J$93=\"\",\"\",IF('Requested '!$D$66=\"\",\"\",'Requested '!J$93))","v":""}]
[{"$f":"IF('Requested '!C67=\"\",\"\",'Requested '!C67)","v":""},{"$f":"IF('Requested '!D67=\"\",\"\",'Requested '!D67)","v":""},null,null,null,null,{"$f":"IF('Requested '!E67=\"\",\"\",'Requested '!E67)","v":""},{"$f":"IF(OR(G54=\"\",'Requested '!$B$93=\"\"),\"\",ROUND(G54*(1+(W54/100)*((20+1.389*(V54-20)*(0.9-(G54/1000/N54)))-25)),1))","v":""},null,"","",null,null,null,null,null,null,{"$f":"IF('Requested '!F67=\"\",\"\",'Requested '!F67)","v":""},{"$f":"IF('Requested '!G67=\"\",\"\",'Requested '!G67)","v":""},{"$f":"IF('Requested '!H67=\"\",\"\",'Requested '!H67)","v":""},{"$f":"IF('Requested '!I67=\"\",\"\",'Requested '!I67)","v":""},{"$f":"IF('Requested '!H$93=\"\",\"\",IF('Requested '!$D$67=\"\",\"\",'Requested '!H$93))","v":""},{"$f":"IF('Requested '!I$93=\"\",\"\",IF('Requested '!$D$67=\"\",\"\",'Requested '!I$93))","v":""},{"$f":"IF('Requested '!J$93=\"\",\"\",IF('Requested '!$D$67=\"\",\"\",'Requested '!J$93))","v":""}]
[{"$f":"IF('Requested '!C68=\"\",\"\",'Requested '!C68)","v":""},{"$f":"IF('Requested '!D68=\"\",\"\",'Requested '!D68)","v":""},null,null,null,null,{"$f":"IF('Requested '!E68=\"\",\"\",'Requested '!E68)","v":""},{"$f":"IF(OR(G55=\"\",'Requested '!$B$93=\"\"),\"\",ROUND(G55*(1+(W55/100)*((20+1.389*(V55-20)*(0.9-(G55/1000/N55)))-25)),1))","v":""},null,"","",null,null,null,null,null,null,{"$f":"IF('Requested '!F68=\"\",\"\",'Requested '!F68)","v":""},{"$f":"IF('Requested '!G68=\"\",\"\",'Requested '!G68)","v":""},{"$f":"IF('Requested '!H68=\"\",\"\",'Requested '!H68)","v":""},{"$f":"IF('Requested '!I68=\"\",\"\",'Requested '!I68)","v":""},{"$f":"IF('Requested '!H$93=\"\",\"\",IF('Requested '!$D$68=\"\",\"\",'Requested '!H$93))","v":""},{"$f":"IF('Requested '!I$93=\"\",\"\",IF('Requested '!$D$68=\"\",\"\",'Requested '!I$93))","v":""},{"$f":"IF('Requested '!J$93=\"\",\"\",IF('Requested '!$D$68=\"\",\"\",'Requested '!J$93))","v":""}]
[{"$f":"IF('Requested '!C69=\"\",\"\",'Requested '!C69)","v":""},{"$f":"IF('Requested '!D69=\"\",\"\",'Requested '!D69)","v":""},null,null,null,null,{"$f":"IF('Requested '!E69=\"\",\"\",'Requested '!E69)","v":""},{"$f":"IF(OR(G56=\"\",'Requested '!$B$93=\"\"),\"\",ROUND(G56*(1+(W56/100)*((20+1.389*(V56-20)*(0.9-(G56/1000/N56)))-25)),1))","v":""},null,"","",null,null,null,null,null,null,{"$f":"IF('Requested '!F69=\"\",\"\",'Requested '!F69)","v":""},{"$f":"IF('Requested '!G69=\"\",\"\",'Requested '!G69)","v":""},{"$f":"IF('Requested '!H69=\"\",\"\",'Requested '!H69)","v":""},{"$f":"IF('Requested '!I69=\"\",\"\",'Requested '!I69)","v":""},{"$f":"IF('Requested '!H$93=\"\",\"\",IF('Requested '!$D$69=\"\",\"\",'Requested '!H$93))","v":""},{"$f":"IF('Requested '!I$93=\"\",\"\",IF('Requested '!$D$69=\"\",\"\",'Requested '!I$93))","v":""},{"$f":"IF('Requested '!J$93=\"\",\"\",IF('Requested '!$D$69=\"\",\"\",'Requested '!J$93))","v":""}]
["Notes:"]

{"sheet":"Pull-Down","index":2,"n_rows":7,"n_cols":13,"rows_kept":7,"cut":false,"hidden":true,"merged":[]}
["Add","Corrected value","UL 1703","N",null,"N/A",null,null,"Monocrystalline","Mono-c-Si",{"$f":"IF(D2=\"Monocrystalline\",\"Mono-c-Si\",IF(D2=\"Polycrystalline\",\"Multi-c-Si\",IF(A2=\"Sanyo Electric\",\"HIT-Si\",IF(A2=\"Solyndra\",\"CIGS\",\"Thin Film\"))))","v":"Thin Film"},"Yes","Select One"]
["Revise","New test report","UL 61730","Y",null,"This component is specific to ACPV and is not available individually.",null,null,"Polycrystalline","Multi-c-Si",null,null,"Add DC Modules"]
[null,"Relabeled model number  ","Both",null,null,"Multiple Listing ",null,null,"Thin Film","a-Si/nc",null,null,"Revise UL 1703 to UL 61730"]
[null,"Company name change",null,null,null,null,null,null,"Other","1-a-Si",null,null,"DC Module Revision for New Test Report"]
[null,"Other - see Notes below",null,null,null,null,null,null,null,"CdTe",null,null,"Other DC Module Revisions"]
[null,null,null,null,null,null,null,null,null,"Thin Film",null,null,"Add or Revise ACPV Modules"]
[null,null,null,null,null,null,null,null,null,"Other",null,null,"Add or Revise Multiple Listings"]

{"sheet":"SortSheet","index":3,"n_rows":1,"n_cols":13,"rows_kept":1,"cut":false,"hidden":true,"merged":[]}
["Manufacturer Name","Model Number","Description","BIPV         ","PTC","Notes","Correlated Manufacturers ","Correlated Model Numbers","Family","Ac     ","Ns","Np","Technology"]