Workbook
Name CFM: #REF!
Name CFM: #REF!
Name CFM: #REF!
Name CFM: #REF!
Name CPD: #REF!
Name CPD: #REF!
Name CPD: #REF!
Name CPD: #REF!
Name ECB: #REF!
Name ECB: #REF!
Name ECB: #REF!
Name ECB: #REF!
Name ECBasic: #REF!
Name ECBasic: #REF!
Name ECBasic: #REF!
Name ECBasic: #REF!
Name GAS: #REF!
Name GAS: #REF!
Name GAS: #REF!
Name GAS: #REF!
Name NACM: #REF!
Name NACM: #REF!
Name NACM: #REF!
Name NACM: #REF!
Name NACMWB: #REF!
Name NACMWB: #REF!
Name NACMWB: #REF!
Name NACMWB: #REF!
Name NREL: #REF!
Name NREL: #REF!
Name NREL: #REF!
Name NREL: #REF!
Name NRELPBA: #REF!
Name NRELPBA: #REF!
Name NRELPBA: #REF!
Name NRELPBA: #REF!
Name NRELWB: #REF!
Name NRELWB: #REF!
Name NRELWB: #REF!
Name NRELWB: #REF!
Name PBAPLUS: #REF!
Name PBAPLUS: #REF!
Name PBAPLUS: #REF!
Name PBAPLUS: #REF!
Name SDF: #REF!
Name SDF: #REF!
Name SDF: #REF!
Name SDF: #REF!

Sheet Complete Building Method
A1: 2013 NACM | B1: People | C1: Occupancy Vent Factor | D1: Sensible heat | E1: Latent heat | F1: Receptacle | G1: Hot water | H1: Lighting | I1: Min. Vent per Area | J1: Ventilation | K1: Cooling UMLH Limit | L1: Heating UMLH Limit | M1: Gas Appl Load | N1: Refrig Load | O1: Schedule
B2: # per 1000 ft² | D2: Btu/h per person | E2: Btu/h per person | F2: Load W/ft² | G2: Gal/h per person | H2: W/ft² | I2: CFM/ft² | J2: CFM/ft² | K2: Hrs | L2: Hrs | M2: Btu/h-ft2 | N2: W/ft2
A3: Auditorium Building | B3: 143 | C3: 1 | D3: 245 | E3: 105 | F3: 1 | G3: 0.09 | H3: 1.5 | I3: 0.15 | J3: 1.07 | K3: 150 | L3: 150 | M3: 0 | N3: 0 | O3: Assembly
A4: Classroom Building | B4: 40 | C4: 0.5 | D4: 246 | E4: 171 | F4: 1 | G4: 0.162 | H4: 1.1 | I4: 0.15 | J4: 0.32 | K4: 150 | L4: 150 | M4: 0 | N4: 0 | O4: School
A5: Commercial and Industrial Storage Building | B5: 5 | C5: 0.5 | D5: 268 | E5: 403 | F5: 0.43 | G5: 0.162 | H5: 0.6 | I5: 0.15 | J5: 0.15 | K5: 150 | L5: 150 | M5: 0 | N5: 0.28 | O5: Warehouse
A6: Convention Center Building | B6: 136 | C6: 0.5 | D6: 245 | E6: 112 | F6: 0.96 | G6: 0.086 | H6: 1.2 | I6: 0.15 | J6: 1.02 | K6: 150 | L6: 150 | M6: 0.04 | N6: 0.03 | O6: Assembly
A7: Data Center Buildings (Note 9) | B7: 5 | C7: 0.5 | D7: 268 | E7: 403 | F7: note 9 | G7: 0.162 | H7: 0.8 | I7: 0.15 | J7: 0.15 | K7: 150 | L7: 150 | M7: 0 | N7: 0 | O7: Data
A8: Financial Institution Building | B8: 10 | C8: 0.5 | D8: 250 | E8: 250 | F8: 1.5 | G8: 0.18 | H8: 1.1 | I8: 0.15 | J8: 0.15 | K8: 150 | L8: 150 | M8: 0 | N8: 0 | O8: Office
A9: General Commercia' or Industrial Work Building | B9: 7 | C9: 0.5 | D9: 375 | E9: 625 | F9: 1 | G9: 0.18 | H9: 1 | I9: 0.15 | J9: 0.15 | K9: 150 | L9: 150 | M9: 0 | N9: 0.28 | O9: Manufacturing
A10: Grocery Store Buildings | B10: 29 | C10: 0.5 | D10: 252 | E10: 225 | F10: 0.91 | G10: 0.17 | H10: 1.5 | I10: 0.15 | J10: 0.22 | K10: 150 | L10: 150 | M10: 0.03 | N10: 0.14 | O10: Retail
A11: Library Building | B11: 10 | C11: 0.5 | D11: 250 | E11: 250 | F11: 1.5 | G11: 0.18 | H11: 1.3 | I11: 0.15 | J11: 0.15 | K11: 150 | L11: 150 | M11: 0 | N11: 0 | O11: Office
A12: Medical Building/Clinic Building | B12: 10 | C12: 0.5 | D12: 250 | E12: 213 | F12: 1.18 | G12: 0.165 | H12: 1.1 | I12: 0.15 | J12: 0.15 | K12: 150 | L12: 150 | M12: 0.33 | N12: 1.12 | O12: Health
A13: Office Building | B13: 10 | C13: 0.5 | D13: 250 | E13: 206 | F13: 1.34 | G13: 0.159 | H13: 0.8 | I13: 0.15 | J13: 0.15 | K13: 150 | L13: 150 | M13: 0 | N13: 0 | O13: Office
A14: Parking Garage Building | B14: 10 | C14: 0.5 | D14: 250 | E14: 200 | F14: 0 | G14: 0 | H14: 0.2 | I14: 0.15 | J14: 0.15 | K14: 150 | L14: 150 | M14: 0 | N14: 0 | O14: Parking
A15: Religious Facility Building | B15: 136 | C15: 0.5 | D15: 245 | E15: 112 | F15: 0.96 | G15: 0.086 | H15: 1.6 | I15: 0.15 | J15: 1.03 | K15: 150 | L15: 150 | M15: 0.04 | N15: 0 | O15: Assembly
A16: Restaurant Building | B16: 45 | C16: 0.5 | D16: 274 | E16: 334 | F16: 0.79 | G16: 0.549 | H16: 1.2 | I16: 0.15 | J16: 0.38 | K16: 150 | L16: 150 | M16: 5.14 | N16: 0.06 | O16: Restaurant
A17: School Building | B17: 40 | C17: 0.5 | D17: 246 | E17: 171 | F17: 1 | G17: 0.162 | H17: 1 | I17: 0.15 | J17: 0.32 | K17: 150 | L17: 150 | M17: 0.04 | N17: 0.03 | O17: School
A18: Theater Building | B18: 130 | C18: 1 | D18: 268 | E18: 403 | F18: 0.54 | G18: 0.09 | H18: 1.3 | I18: 0.15 | J18: 0.98 | K18: 150 | L18: 150 | M18: 0.04 | N18: 0 | O18: Assembly
A19: All Other Buildings | B19: 10 | C19: 0.5 | D19: 250 | E19: 200 | F19: 1 | G19: 0.18 | H19: 0.6 | I19: 0.15 | J19: 0.15 | K19: 150 | L19: 150 | M19: 0.04 | N19: 0.03 | O19: Office
B21: Note 9 - Receptacle Load shall be specified by the user.

Sheet 2022 Stds Ltg Table
B2: Primary Function Area | C2: Allowed Lighting Power Density (W/ft2) | D2: Additional Lighting Power (Note 1) | K2: 2019 Values
D3: Qualified Lighting Systems | E3: Additional Allowance (W/ft2, unless noted otherwise) | F3: Qualified Lighting Systems | G3: Additional Allowance (W/ft2, unless noted otherwise) | H3: Qualified Lighting Systems | I3: Additional Allowance (W/ft2, unless noted otherwise)
B4: Aging Eye/Low-vision (Corridor Area) (Note 11) | C4: 0.7 | D4: Decorative/Display | E4: 0.3 | F4: None | H4: None | K4: 0.8 | L4: Decorative (Note 4) | M4: 0.15
B5: Aging Eye/Low-vision (Dining) (Note 11) | C5: 0.8 | D5: Decorative/Display | E5: 0.3 | F5: TunableWhiteOrDimToWarm (Note 10) | G5: 0.1 | H5: None | K5: 0.8 | L5: Ornamental | M5: 0.3
B6: Aging Eye/Low-vision (Lobby, Main Entry) (Note 11) | C6: 0.85 | D6: Decorative/Display | E6: 0.3 | F6: TransitionLightingOffAtNight (Note 12) | G6: 0.95 | H6: TunableWhiteOrDimToWarm (Note 10) | I6: 0.1 | K6: 0.85 | L6: Ornamental | M6: 0.3 | N6: Transition Lighitng OFF at night (Note 12) | O6: 0.95
B7: Aging Eye/Low-vision (Lounge/Waiting Area) (Note 11) | C7: 0.8 | D7: Decorative/Display | E7: 0.3 | F7: TunableWhiteOrDimToWarm (Note 10) | G7: 0.1 | H7: None | K7: 0.75 | L7: Ornamental | M7: 0.3
B8: Aging Eye/Low-vision (Multipurpose Room) (Note 11) | C8: 0.85 | D8: Decorative/Display | E8: 0.3 | F8: TunableWhiteOrDimToWarm (Note 10) | G8: 0.1 | H8: None | K8: 0.95 | L8: Ornamental | M8: 0.3
B9: Aging Eye/Low-vision (Religious Worship Area) (Note 11) | C9: 1 | D9: Decorative/Display | E9: 0.3 | F9: TunableWhiteOrDimToWarm (Note 10) | G9: 0.1 | H9: None | K9: 1 | L9: Ornamental | M9: 0.3
B10: Aging Eye/Low-vision (Restroom) (Note 11) | C10: 1 | D10: Decorative/Display | E10: 0.2 | F10: None | H10: None | K10: 0.8 | L10: Accent, display and feature (Note 3) | M10: 0.2
B11: Aging Eye/Low-vision (Stairwell) (Note 11) | C11: 0.8 | D11: Decorative/Display | E11: 0.3 | F11: None | H11: None | K11: 0.8
B12: Audience Seating Area | C12: 0.5 | D12: Decorative/Display | E12: 0.25 | F12: None | H12: None | K12: 0.6 | L12: Ornamental | M12: 0.3
B13: Auditorium Area | C13: 0.7 | D13: Decorative/Display | E13: 0.45 | F13: None | H13: None | K13: 0.7 | L13: Ornamental | M13: 0.3 | N13: Accent, display and feature (Note 3) | O13: 0.2
B14: Auto Repair / Maintenance Area | C14: 0.55 | D14: DetailedTaskWork (Note 7) | E14: 0.2 | F14: None | H14: None | K14: 0.55 | L14: Detailed Task Work (Note 7) | M14: 0.2
B15: Barber, Beauty Salon, Spa Area | C15: 0.7 | D15: DetailedTaskWork (Note 7) | E15: 0.3 | F15: Decorative/Display | G15: 0.25 | H15: None | K15: 0.8 | L15: Detailed Task Work (Note 7) | M15: 0.2 | N15: Ornamental | O15: 0.3
B16: Civic Meeting Place Area | C16: 0.9 | D16: Decorative/Display | E16: 0.25 | F16: None | H16: None | K16: 1 | L16: Ornamental | M16: 0.3
B17: Classroom, Lecture, Training, Vocational Areas | C17: 0.6 | D17: WhiteOrChalkBoard (W/ft) (Note 1) | E17: 7 | F17: None | H17: None | K17: 0.7 | L17: White or Chalk Board (W/ft) (Note 1) | M17: 4.5
B18: Concourse and Atria Area | C18: 0.6 | D18: Decorative/Display | E18: 0.25 | F18: None | H18: None | K18: 0.9 | L18: Ornamental | M18: 0.3
B19: Convention, Conference, Multipurpose and Meeting Area | C19: 0.75 | D19: Decorative/Display | E19: 0.25 | F19: None | H19: None | K19: 0.85 | L19: Ornamental | M19: 0.3
B20: Copy Room | C20: 0.5 | D20: None | F20: None | H20: None | K20: 0.5
B21: Corridor Area | C21: 0.4 | D21: Decorative/Display | E21: 0.25 | F21: None | H21: None | K21: 0.6
B22: Dining Area (Bar/Lounge and Fine Dining) | C22: 0.45 | D22: Decorative/Display | E22: 0.35 | F22: None | H22: None | K22: 0.55 | L22: Ornamental | M22: 0.3
B23: Dining Area (Cafeteria/Fast Food) | C23: 0.45 | D23: Decorative/Display | E23: 0.25 | F23: None | H23: None | K23: 0.4 | L23: Ornamental | M23: 0.3
B24: Dining Area (Family and Leisure) | C24: 0.4 | D24: Decorative/Display | E24: 0.25 | F24: None | H24: None | K24: 0.5 | L24: Ornamental | M24: 0.3
B25: Electrical, Mechanical, Telephone Rooms | C25: 0.4 | D25: DetailedTaskWork (Note 7) | E25: 0.2 | F25: None | H25: None | K25: 0.4 | L25: Detailed Task Work (Note 7) | M25: 0.2
B26: Exercise/Fitness Center and Gymnasium Areas | C26: 0.5 | D26: None | F26: None | H26: None | K26: 0.5
B27: Financial Transaction Area | C27: 0.7 | D27: Decorative/Display | E27: 0.25 | F27: None | H27: None | K27: 0.8 | L27: Ornamental | M27: 0.3
B28: Healthcare Facility and Hospitals (Exam/Treatment Room) | C28: 1.15 | D28: None | F28: None | H28: None | K28: 1.15
B29: Healthcare Facility and Hospitals (Imaging Room) | C29: 0.6 | D29: Decorative/Display | E29: 0.2 | F29: TunableWhiteOrDimToWarm (Note 10) | G29: 0.1 | H29: None | K29: 1
B30: Healthcare Facility and Hospitals (Medical Supply Room) | C30: 0.55 | D30: None | F30: None | H30: None | K30: 0.55
B31: Healthcare Facility and Hospitals (Nursery) | C31: 0.8 | D31: TunableWhiteOrDimToWarm (Note 10) | E31: 0.1 | F31: None | H31: None | K31: 0.95 | L31: Tunable while or dim-to-warm (Note 10) | M31: 0.1
B32: Healthcare Facility and Hospitals (Nurse's Station) | C32: 0.85 | D32: TunableWhiteOrDimToWarm (Note 10) | E32: 0.1 | F32: DetailedTaskWork (Note 7) | G32: 0.2 | H32: None | K32: 0.75 | L32: Tunable while or dim-to-warm (Note 10) | M32: 0.1
B33: Healthcare Facility and Hospitals (Operating Room) | C33: 1.9 | D33: None | F33: None | H33: None | K33: 1.9
B34: Healthcare Facility and Hospitals (Patient Room) | C34: 0.7 | D34: Decorative/Display | E34: 0.15 | F34: TunableWhiteOrDimToWarm (Note 10) | G34: 0.1 | H34: None | K34: 0.55 | L34: Decorative | M34: 0.15 | N34: Tunable while or dim-to-warm (Note 10) | O34: 0.1
B35: Healthcare Facility and Hospitals (Physical Therapy Room) | C35: 0.75 | D35: TunableWhiteOrDimToWarm (Note 10) | E35: 0.1 | F35: None | H35: None | K35: 0.85 | L35: Tunable while or dim-to-warm (Note 10) | M35: 0.1
B36: Healthcare Facility and Hospitals (Recovery Room) | C36: 0.9 | D36: TunableWhiteOrDimToWarm (Note 10) | E36: 0.1 | F36: None | H36: None | K36: 0.9 | L36: Tunable while or dim-to-warm (Note 10) | M36: 0.1
B37: Hotel Function Area | C37: 0.85 | D37: Decorative/Display | E37: 0.25 | F37: None | H37: None | K37: 0.85 | L37: Ornamental | M37: 0.3
B38: Kitchen/Food Preparation Area | C38: 0.95 | D38: None | F38: None | H38: None | K38: 0.95
B39: Laboratory, Scientific | C39: 0.9 | D39: SpecializedTaskWork (Note 8) | E39: 0.35 | F39: None | H39: None | K39: 1 | L39: Specialized Task Work (Note 8) | M39: 0.35
B40: Laundry Area | C40: 0.45 | D40: None | F40: None | H40: None | K40: 0.45
B41: Library (Reading Area) | C41: 0.8 | D41: Decorative/Display | E41: 0.25 | F41: None | H41: None | K41: 0.8 | L41: Ornamental | M41: 0.3
...

Sheet 2025 Stds Ltg Table
B2: Primary Function Area | C2: Allowed Lighting Power Density (W/ft2) | D2: Additional Lighting Power Additional Allowance (Note 1)
D3: Enclosed Space Of Ceiling Hight > 10' (W/ft2) | E3: Detailed Task Work (W/ft2) | F3: Specialized Task Work (W/ft2) | G3: Decorative/Display (W/ft2) | H3: Precision Work (W/ft2) | I3: White Or Chalk Board (W/ft) | J3: Video Conferencing Studio Lighting (W/ft2) | K3: ATM/Ticket Machine (W) | L3: Decorative/Display And Portable Lighting Office (W/ft2) | M3: External Iluminate Mirror (W/ft2) | N3: Internal Iluminate Mirror (W/ft2) | O3: Transition Lighting Off At Night (W/ft2) | P3: Tunable White Or Dim To Warm (W/ft2) | Q3: Wall Display MH <= 10'6" (W/ft) | R3: Wall Display MH 10'7" - 14' (W/ft) | S3: Wall Display MH > 14' (W/ft) | T3: Floor Display And Task MH <= 10'6" (W/ft2) | U3: Floor Display And Task MH 10'7" - 14' (W/ft2) | V3: Floor Display And Task MH > 14' (W/ft2) | W3: Valuable Display Case (W/ft2)
B4: Aging Eye/Low-vision (Corridor Area) (Note 11) | C4: 0.7 | G4: 0.3
B5: Aging Eye/Low-vision (Dining) (Note 11) | C5: 0.8 | G5: 0.3 | P5: 0.1
B6: Aging Eye/Low-vision (Lobby, Main Entry) (Note 11) | C6: 0.85 | G6: 0.3 | O6: 0.95 | P6: 0.1
B7: Aging Eye/Low-vision (Lounge/Waiting Area) (Note 11) | C7: 0.8 | G7: 0.3 | P7: 0.1
B8: Aging Eye/Low-vision (Multipurpose Room) (Note 11) | C8: 0.85 | G8: 0.3 | P8: 0.1
B9: Aging Eye/Low-vision (Religious Worship Area) (Note 11) | C9: 1 | G9: 0.3 | P9: 0.1
B10: Aging Eye/Low-vision (Restroom) (Note 11) | C10: 1 | G10: 0.2
B11: Aging Eye/Low-vision (Stairwell) (Note 11) | C11: 0.8 | G11: 0.3
B12: Audience Seating Area | C12: 0.5 | G12: 0.25
B13: Auditorium Area | C13: 0.7 | G13: 0.45
B14: Auto Repair / Maintenance Area | C14: 0.55 | E14: 0.2
B15: Barber, Beauty Salon, Spa Area | C15: 0.7 | E15: 0.3 | G15: 0.25
B16: Civic Meeting Place Area | C16: 0.9 | G16: 0.25
B17: Classroom, Lecture, Training, Vocational Areas | C17: 0.6 | I17: 7
B18: Concourse and Atria Area | C18: 0.6 | G18: 0.25
B19: Convention, Conference, Multipurpose and Meeting Area | C19: 0.75 | G19: 0.25 | Q19: 2 | R19: 2.35 | S19: 2.66 | T19: 0.3 | U19: 0.35 | V19: 0.4
B20: Copy Room | C20: 0.5
B21: Corridor Area | C21: 0.4 | G21: 0.25
B22: Dining Area (Bar/Lounge and Fine Dining) | C22: 0.45 | D22: 0.25 | G22: 0.35 | Q22: 1.25 | R22: 1.5 | S22: 1.7 | T22: 0.45 | U22: 0.52 | V22: 0.6
B23: Dining Area (Cafeteria/Fast Food) | C23: 0.45 | G23: 0.25
B24: Dining Area (Family and Leisure) | C24: 0.4 | G24: 0.25
B25: Electrical, Mechanical, Telephone Rooms | C25: 0.4 | E25: 0.2
B26: Exercise/Fitness Center and Gymnasium Areas | C26: 0.5
B27: Financial Transaction Area | C27: 0.7 | G27: 0.25
B28: Healthcare Facility and Hospitals (Exam/Treatment Room) | C28: 1.15
B29: Healthcare Facility and Hospitals (Imaging Room) | C29: 0.6 | G29: 0.2 | P29: 0.1
B30: Healthcare Facility and Hospitals (Medical Supply Room) | C30: 0.55
B31: Healthcare Facility and Hospitals (Nursery) | C31: 0.8 | P31: 0.1
B32: Healthcare Facility and Hospitals (Nurse's Station) | C32: 0.85 | E32: 0.2 | P32: 0.1
B33: Healthcare Facility and Hospitals (Operating Room) | C33: 1.9
B34: Healthcare Facility and Hospitals (Patient Room) | C34: 0.7 | G34: 0.15 | P34: 0.1
B35: Healthcare Facility and Hospitals (Physical Therapy Room) | C35: 0.75 | P35: 0.1
B36: Healthcare Facility and Hospitals (Recovery Room) | C36: 0.9 | P36: 0.1
B37: Hotel Function Area | C37: 0.85 | G37: 0.25
B38: Kitchen/Food Preparation Area | C38: 0.95
B39: Laboratory, Scientific | C39: 0.9 | F39: 0.35
B40: Laundry Area | C40: 0.45
B41: Library (Reading Area) | C41: 0.8 | G41: 0.25
...

Sheet 2022 SpaceFuncData-Input
A1: 2022 NACM Space Type | B1: Default Ventilation Space Function | C1: People | D1: Occupancy Vent Factor | E1: Sensible heat | F1: Latent heat | G1: Receptacle | H1: Hot water | I1: Baseline WtrHtr Type | J1: Lighting | K1: Qualified Lighting Systems | L1: Additional Allowance | M1: Qualified Lighting Systems | N1: Additional Allowance | O1: Qualified Lighting Systems | P1: Additional Allowance | Q1: Cooling UMLH Limit | R1: Heating UMLH Limit | S1: Gas Equipment Power | T1: Refrig Load | U1: Illuminance Setpoint for Daylighting | W1: Primary Sidelit Daylighting Zone Setpoint Adjustment Factor | X1: Secondary Sidelit Daylighting Zone Setpoint Adjustment Factor | Y1: Schedule | Z1: Eligible for Healthcare | AA1: Excluded From Predominant Calculation | AB1: FuncSchGrp is Editable | AC1: SpcFuncIdx (For Perf Reporting) | AD1: Notes
C2: # per 1000 ft² | E2: per person | F2: per person | G2: Load W/ft² | H2: Gal/h per person | J2: W/ft² | L2: W/ft², unless noted otherwise | N2: W/ft², unless noted otherwise | P2: W/ft², unless noted otherwise | Q2: Hrs | R2: Hrs | S2: Btu/h-ft2 | T2: W/ft2 | U2: Min (lux) | V2: Max (lux)
A3: ='2022 Stds Ltg Table'!B4 -> Aging Eye/Low-vision (Corridor Area) (Note 11) | B3: General - Corridors | C3: 10 | D3: 0.5 | E3: 250 | F3: 250 | G3: 0 | H3: 0 | I3: Electric | J3: =VLOOKUP($A3,'2022 Stds Ltg Table'!$B$4:$G$92,2,0) -> 0.7 | K3: =VLOOKUP($A3,'2022 Stds Ltg Table'!$B$4:$G$92,3,0) -> Decorative/Display | L3: =VLOOKUP($A3,'2022 Stds Ltg Table'!$B$4:$G$92,4,0) -> 0.3 | M3: =VLOOKUP($A3,'2022 Stds Ltg Table'!$B$4:$G$92,5,0) -> None | N3: =VLOOKUP($A3,'2022 Stds Ltg Table'!$B$4:$G$92,6,0) -> 0 | O3: =VLOOKUP($A3,'2022 Stds Ltg Table'!$B$4:$I$92,7,0) -> None | P3: =VLOOKUP($A3,'2022 Stds Ltg Table'!$B$4:$I$92,8,0) -> 0 | Q3: 150 | R3: 150 | S3: 0 | T3: 0 | U3: 50 | V3: 100 | W3: 1.5 | X3: 2 | Y3: Office | Z3: 1 | AA3: 1 | AB3: 0 | AC3: 302
A4: ='2022 Stds Ltg Table'!B5 -> Aging Eye/Low-vision (Dining) (Note 11) | B4: Food Service - Cafeteria/fast-food dining | C4: 66.666667 | D4: 0.5 | E4: 275 | F4: 275 | G4: 0.5 | H4: 0.578 | I4: Gas | J4: =VLOOKUP($A4,'2022 Stds Ltg Table'!$B$4:$G$92,2,0) -> 0.8 | K4: =VLOOKUP($A4,'2022 Stds Ltg Table'!$B$4:$G$92,3,0) -> Decorative/Display | L4: =VLOOKUP($A4,'2022 Stds Ltg Table'!$B$4:$G$92,4,0) -> 0.3 | M4: =VLOOKUP($A4,'2022 Stds Ltg Table'!$B$4:$G$92,5,0) -> TunableWhiteOrDimToWarm (Note 10) | N4: =VLOOKUP($A4,'2022 Stds Ltg Table'!$B$4:$G$92,6,0) -> 0.1 | O4: =VLOOKUP($A4,'2022 Stds Ltg Table'!$B$4:$I$92,7,0) -> None | P4: =VLOOKUP($A4,'2022 Stds Ltg Table'!$B$4:$I$92,8,0) -> 0 | Q4: 150 | R4: 150 | S4: 0 | T4: 0.25 | U4: 50 | V4: 200 | W4: 1.5 | X4: 2 | Y4: Restaurant | Z4: 1 | AA4: 0 | AB4: 0 | AC4: 303
A5: ='2022 Stds Ltg Table'!B6 -> Aging Eye/Low-vision (Lobby, Main Entry) (Note 11) | B5: Office - Main entry lobbies | C5: 66.666667 | D5: 0.5 | E5: 250 | F5: 250 | G5: 0.5 | H5: 0.09 | I5: Electric | J5: =VLOOKUP($A5,'2022 Stds Ltg Table'!$B$4:$G$92,2,0) -> 0.85 | K5: =VLOOKUP($A5,'2022 Stds Ltg Table'!$B$4:$G$92,3,0) -> Decorative/Display | L5: =VLOOKUP($A5,'2022 Stds Ltg Table'!$B$4:$G$92,4,0) -> 0.3 | M5: =VLOOKUP($A5,'2022 Stds Ltg Table'!$B$4:$G$92,5,0) -> TransitionLightingOffAtNight (Note 12) | N5: =VLOOKUP($A5,'2022 Stds Ltg Table'!$B$4:$G$92,6,0) -> 0.95 | O5: =VLOOKUP($A5,'2022 Stds Ltg Table'!$B$4:$I$92,7,0) -> TunableWhiteOrDimToWarm (Note 10) | P5: =VLOOKUP($A5,'2022 Stds Ltg Table'!$B$4:$I$92,8,0) -> 0.1 | Q5: 150 | R5: 150 | S5: 0 | T5: 0 | U5: 50 | V5: 200 | W5: 1.5 | X5: 2 | Y5: Assembly | Z5: 1 | AA5: 0 | AB5: 0 | AC5: 304
A6: ='2022 Stds Ltg Table'!B7 -> Aging Eye/Low-vision (Lounge/Waiting Area) (Note 11) | B6: General - Break rooms | C6: 66.666667 | D6: 0.5 | E6: 275 | F6: 275 | G6: 1 | H6: 0.09 | I6: Gas | J6: =VLOOKUP($A6,'2022 Stds Ltg Table'!$B$4:$G$92,2,0) -> 0.8 | K6: =VLOOKUP($A6,'2022 Stds Ltg Table'!$B$4:$G$92,3,0) -> Decorative/Display | L6: =VLOOKUP($A6,'2022 Stds Ltg Table'!$B$4:$G$92,4,0) -> 0.3 | M6: =VLOOKUP($A6,'2022 Stds Ltg Table'!$B$4:$G$92,5,0) -> TunableWhiteOrDimToWarm (Note 10) | N6: =VLOOKUP($A6,'2022 Stds Ltg Table'!$B$4:$G$92,6,0) -> 0.1 | O6: =VLOOKUP($A6,'2022 Stds Ltg Table'!$B$4:$I$92,7,0) -> None | P6: =VLOOKUP($A6,'2022 Stds Ltg Table'!$B$4:$I$92,8,0) -> 0 | Q6: 150 | R6: 150 | S6: 0 | T6: 0 | U6: 40 | V6: 300 | W6: 1.5 | X6: 2 | Y6: Assembly | Z6: 1 | AA6: 0 | AB6: 0 | AC6: 305
A7: ='2022 Stds Ltg Table'!B8 -> Aging Eye/Low-vision (Multipurpose Room) (Note 11) | B7: General - Conference/meeting | C7: 66.666667 | D7: 0.5 | E7: 245 | F7: 155 | G7: 1 | H7: 0.09 | I7: Electric | J7: =VLOOKUP($A7,'2022 Stds Ltg Table'!$B$4:$G$92,2,0) -> 0.85 | K7: =VLOOKUP($A7,'2022 Stds Ltg Table'!$B$4:$G$92,3,0) -> Decorative/Display | L7: =VLOOKUP($A7,'2022 Stds Ltg Table'!$B$4:$G$92,4,0) -> 0.3 | M7: =VLOOKUP($A7,'2022 Stds Ltg Table'!$B$4:$G$92,5,0) -> TunableWhiteOrDimToWarm (Note 10) | N7: =VLOOKUP($A7,'2022 Stds Ltg Table'!$B$4:$G$92,6,0) -> 0.1 | O7: =VLOOKUP($A7,'2022 Stds Ltg Table'!$B$4:$I$92,7,0) -> None | P7: =VLOOKUP($A7,'2022 Stds Ltg Table'!$B$4:$I$92,8,0) -> 0 | Q7: 150 | R7: 150 | S7: 0 | T7: 0 | U7: 30 | V7: 300 | W7: 1.5 | X7: 2 | Y7: Assembly | Z7: 1 | AA7: 0 | AB7: 0 | AC7: 306
A8: ='2022 Stds Ltg Table'!B9 -> Aging Eye/Low-vision (Religious Worship Area) (Note 11) | B8: Assembly - Places of religious worship | C8: 142.85714 | D8: 0.5 | E8: 245 | F8: 105 | G8: 0.5 | H8: 0.09 | I8: Electric | J8: =VLOOKUP($A8,'2022 Stds Ltg Table'!$B$4:$G$92,2,0) -> 1 | K8: =VLOOKUP($A8,'2022 Stds Ltg Table'!$B$4:$G$92,3,0) -> Decorative/Display | L8: =VLOOKUP($A8,'2022 Stds Ltg Table'!$B$4:$G$92,4,0) -> 0.3 | M8: =VLOOKUP($A8,'2022 Stds Ltg Table'!$B$4:$G$92,5,0) -> TunableWhiteOrDimToWarm (Note 10) | N8: =VLOOKUP($A8,'2022 Stds Ltg Table'!$B$4:$G$92,6,0) -> 0.1 | O8: =VLOOKUP($A8,'2022 Stds Ltg Table'!$B$4:$I$92,7,0) -> None | P8: =VLOOKUP($A8,'2022 Stds Ltg Table'!$B$4:$I$92,8,0) -> 0 | Q8: 150 | R8: 150 | S8: 0 | T8: 0 | U8: 200 | V8: 1500 | W8: 1.5 | X8: 2 | Y8: Assembly | Z8: 1 | AA8: 0 | AB8: 0 | AC8: 307
A9: ='2022 Stds Ltg Table'!B10 -> Aging Eye/Low-vision (Restroom) (Note 11) | B9: Exhaust - Toilets, public | C9: 10 | D9: 0.5 | E9: 250 | F9: 250 | G9: 0 | H9: 0 | I9: Gas | J9: =VLOOKUP($A9,'2022 Stds Ltg Table'!$B$4:$G$92,2,0) -> 1 | K9: =VLOOKUP($A9,'2022 Stds Ltg Table'!$B$4:$G$92,3,0) -> Decorative/Display | L9: =VLOOKUP($A9,'2022 Stds Ltg Table'!$B$4:$G$92,4,0) -> 0.2 | M9: =VLOOKUP($A9,'2022 Stds Ltg Table'!$B$4:$G$92,5,0) -> None | N9: =VLOOKUP($A9,'2022 Stds Ltg Table'!$B$4:$G$92,6,0) -> 0 | O9: =VLOOKUP($A9,'2022 Stds Ltg Table'!$B$4:$I$92,7,0) -> None | P9: =VLOOKUP($A9,'2022 Stds Ltg Table'!$B$4:$I$92,8,0) -> 0 | Q9: 150 | R9: 150 | S9: 0 | T9: 0 | U9: 50 | V9: 100 | W9: 1.5 | X9: 2 | Y9: Office | Z9: 1 | AA9: 1 | AB9: 0 | AC9: 308
A10: ='2022 Stds Ltg Table'!B11 -> Aging Eye/Low-vision (Stairwell) (Note 11) | B10: General - Corridors | C10: 10 | D10: 0.5 | E10: 250 | F10: 250 | G10: 0 | H10: 0 | I10: Electric | J10: =VLOOKUP($A10,'2022 Stds Ltg Table'!$B$4:$G$92,2,0) -> 0.8 | K10: =VLOOKUP($A10,'2022 Stds Ltg Table'!$B$4:$G$92,3,0) -> Decorative/Display | L10: =VLOOKUP($A10,'2022 Stds Ltg Table'!$B$4:$G$92,4,0) -> 0.3 | M10: =VLOOKUP($A10,'2022 Stds Ltg Table'!$B$4:$G$92,5,0) -> None | N10: =VLOOKUP($A10,'2022 Stds Ltg Table'!$B$4:$G$92,6,0) -> 0 | O10: =VLOOKUP($A10,'2022 Stds Ltg Table'!$B$4:$I$92,7,0) -> None | P10: =VLOOKUP($A10,'2022 Stds Ltg Table'!$B$4:$I$92,8,0) -> 0 | Q10: 150 | R10: 150 | S10: 0 | T10: 0 | U10: 50 | V10: 100 | W10: 1.5 | X10: 2 | Y10: Office | Z10: 1 | AA10: 1 | AB10: 0 | AC10: 309
A11: ='2022 Stds Ltg Table'!B12 -> Audience Seating Area | B11: Assembly - Auditorium seating area | C11: 142.85714 | D11: 0.5 | E11: 245 | F11: 105 | G11: 1 | H11: 0.09 | I11: Electric | J11: =VLOOKUP($A11,'2022 Stds Ltg Table'!$B$4:$G$92,2,0) -> 0.5 | K11: =VLOOKUP($A11,'2022 Stds Ltg Table'!$B$4:$G$92,3,0) -> Decorative/Display | L11: =VLOOKUP($A11,'2022 Stds Ltg Table'!$B$4:$G$92,4,0) -> 0.25 | M11: =VLOOKUP($A11,'2022 Stds Ltg Table'!$B$4:$G$92,5,0) -> None | N11: =VLOOKUP($A11,'2022 Stds Ltg Table'!$B$4:$G$92,6,0) -> 0 | O11: =VLOOKUP($A11,'2022 Stds Ltg Table'!$B$4:$I$92,7,0) -> None | P11: =VLOOKUP($A11,'2022 Stds Ltg Table'!$B$4:$I$92,8,0) -> 0 | Q11: 150 | R11: 150 | S11: 0 | T11: 0 | U11: 50 | V11: 1000 | W11: 1.5 | X11: 2 | Y11: Assembly | Z11: 1 | AA11: 0 | AB11: 0 | AC11: 310
A12: ='2022 Stds Ltg Table'!B13 -> Auditorium Area | B12: Assembly - Auditorium seating area | C12: 142.85714 | D12: 0.5 | E12: 245 | F12: 105 | G12: 1 | H12: 0.09 | I12: Electric | J12: =VLOOKUP($A12,'2022 Stds Ltg Table'!$B$4:$G$92,2,0) -> 0.7 | K12: =VLOOKUP($A12,'2022 Stds Ltg Table'!$B$4:$G$92,3,0) -> Decorative/Display | L12: =VLOOKUP($A12,'2022 Stds Ltg Table'!$B$4:$G$92,4,0) -> 0.45 | M12: =VLOOKUP($A12,'2022 Stds Ltg Table'!$B$4:$G$92,5,0) -> None | N12: =VLOOKUP($A12,'2022 Stds Ltg Table'!$B$4:$G$92,6,0) -> 0 | O12: =VLOOKUP($A12,'2022 Stds Ltg Table'!$B$4:$I$92,7,0) -> None | P12: =VLOOKUP($A12,'2022 Stds Ltg Table'!$B$4:$I$92,8,0) -> 0 | Q12: 150 | R12: 150 | S12: 0 | T12: 0 | U12: 50 | V12: 1000 | W12: 1.5 | X12: 2 | Y12: Assembly | Z12: 1 | AA12: 0 | AB12: 0 | AC12: 311
A13: ='2022 Stds Ltg Table'!B14 -> Auto Repair / Maintenance Area | B13: Exhaust - Auto repair rooms | C13: 10 | D13: 0.5 | E13: 275 | F13: 475 | G13: 1 | H13: 0.18 | I13: Gas | J13: =VLOOKUP($A13,'2022 Stds Ltg Table'!$B$4:$G$92,2,0) -> 0.55 | K13: =VLOOKUP($A13,'2022 Stds Ltg Table'!$B$4:$G$92,3,0) -> DetailedTaskWork (Note 7) | L13: =VLOOKUP($A13,'2022 Stds Ltg Table'!$B$4:$G$92,4,0) -> 0.2 | M13: =VLOOKUP($A13,'2022 Stds Ltg Table'!$B$4:$G$92,5,0) -> None | N13: =VLOOKUP($A13,'2022 Stds Ltg Table'!$B$4:$G$92,6,0) -> 0 | O13: =VLOOKUP($A13,'2022 Stds Ltg Table'!$B$4:$I$92,7,0) -> None | P13: =VLOOKUP($A13,'2022 Stds Ltg Table'!$B$4:$I$92,8,0) -> 0 | Q13: 150 | R13: 150 | S13: 0.75064 | T13: 0 | U13: 200 | V13: 1500 | W13: 1.5 | X13: 2 | Y13: Manufacturing | Z13: 1 | AA13: 0 | AB13: 0 | AC13: 312
A14: ='2022 Stds Ltg Table'!B15 -> Barber, Beauty Salon, Spa Area | B14: Retail - Beauty and nail salons | C14: 10 | D14: 0.5 | E14: 250 | F14: 200 | G14: 2 | H14: 0.18 | I14: Gas | J14: =VLOOKUP($A14,'2022 Stds Ltg Table'!$B$4:$G$92,2,0) -> 0.7 | K14: =VLOOKUP($A14,'2022 Stds Ltg Table'!$B$4:$G$92,3,0) -> DetailedTaskWork (Note 7) | L14: =VLOOKUP($A14,'2022 Stds Ltg Table'!$B$4:$G$92,4,0) -> 0.3 | M14: =VLOOKUP($A14,'2022 Stds Ltg Table'!$B$4:$G$92,5,0) -> Decorative/Display | N14: =VLOOKUP($A14,'2022 Stds Ltg Table'!$B$4:$G$92,6,0) -> 0.25 | O14: =VLOOKUP($A14,'2022 Stds Ltg Table'!$B$4:$I$92,7,0) -> None | P14: =VLOOKUP($A14,'2022 Stds Ltg Table'!$B$4:$I$92,8,0) -> 0 | Q14: 150 | R14: 150 | S14: 0 | T14: 0 | U14: 500 | V14: 500 | W14: 1.5 | X14: 2 | Y14: Retail | Z14: 1 | AA14: 0 | AB14: 0 | AC14: 313
... A16: ='2022 Stds Ltg Table'!B17 -> Classroom, Lecture, Training, Vocational Areas | B16: Education - Classrooms (ages 9-18) | C16: 50 | D16: 0.5 | E16: 245 | F16: 155 | G16: 1 | H16: 0.18 | I16: Gas | J16: =VLOOKUP($A16,'2022 Stds Ltg Table'!$B$4:$G$92,2,0) -> 0.6 | K16: =VLOOKUP($A16,'2022 Stds Ltg Table'!$B$4:$G$92,3,0) -> WhiteOrChalkBoard (W/ft) (Note 1) | L16: =VLOOKUP($A16,'2022 Stds Ltg Table'!$B$4:$G$92,4,0) -> 7 | M16: =VLOOKUP($A16,'2022 Stds Ltg Table'!$B$4:$G$92,5,0) -> None | N16: =VLOOKUP($A16,'2022 Stds Ltg Table'!$B$4:$G$92,6,0) -> 0 | O16: =VLOOKUP($A16,'2022 Stds Ltg Table'!$B$4:$I$92,7,0) -> None | P16: =VLOOKUP($A16,'2022 Stds Ltg Table'!$B$4:$I$92,8,0) -> 0 | Q16: 150 | R16: 150 | S16: 0 | T16: 0 | U16: 50 | V16: 500 | W16: 1.5 | X16: 2 | Y16: School | Z16: 1 | AA16: 0 | AB16: 0 | AC16: 315
A17: ='2022 Stds Ltg Table'!B85 -> Computer Room | B17: Misc - Computer (not printing) | C17: 3 | D17: 0.5 | E17: 275 | F17: 475 | G17: 0 | H17: 0.18 | I17: Electric | J17: =VLOOKUP($A17,'2022 Stds Ltg Table'!$B$4:$G$92,2,0) -> 0.5 | K17: =VLOOKUP($A17,'2022 Stds Ltg Table'!$B$4:$G$92,3,0) -> None | L17: =VLOOKUP($A17,'2022 Stds Ltg Table'!$B$4:$G$92,4,0) -> 0 | M17: =VLOOKUP($A17,'2022 Stds Ltg Table'!$B$4:$G$92,5,0) -> None | N17: =VLOOKUP($A17,'2022 Stds Ltg Table'!$B$4:$G$92,6,0) -> 0 | O17: =VLOOKUP($A17,'2022 Stds Ltg Table'!$B$4:$I$92,7,0) -> None | P17: =VLOOKUP($A17,'2022 Stds Ltg Table'!$B$4:$I$92,8,0) -> 0 | Q17: 150 | R17: 150 | S17: 0 | T17: 0 | U17: 75 | V17: 300 | W17: 1 | X17: 4 | Y17: Data | Z17: 0 | AA17: 1 | AB17: 0 | AC17: 316
A18: ='2022 Stds Ltg Table'!B18 -> Concourse and Atria Area | B18: Retail - Mall common areas | C18: 33.333333 | D18: 0.5 | E18: 250 | F18: 250 | G18: 0.5 | H18: 0.18 | I18: Electric | J18: =VLOOKUP($A18,'2022 Stds Ltg Table'!$B$4:$G$92,2,0) -> 0.6 | K18: =VLOOKUP($A18,'2022 Stds Ltg Table'!$B$4:$G$92,3,0) -> Decorative/Display | L18: =VLOOKUP($A18,'2022 Stds Ltg Table'!$B$4:$G$92,4,0) -> 0.25 | M18: =VLOOKUP($A18,'2022 Stds Ltg Table'!$B$4:$G$92,5,0) -> None | N18: =VLOOKUP($A18,'2022 Stds Ltg Table'!$B$4:$G$92,6,0) -> 0 | O18: =VLOOKUP($A18,'2022 Stds Ltg Table'!$B$4:$I$92,7,0) -> None | P18: =VLOOKUP($A18,'2022 Stds Ltg Table'!$B$4:$I$92,8,0) -> 0 | Q18: 150 | R18: 150 | S18: 0 | T18: 0 | U18: 100 | V18: 300 | W18: 1.5 | X18: 2 | Y18: Retail | Z18: 1 | AA18: 1 | AB18: 0 | AC18: 317
A19: ='2022 Stds Ltg Table'!B19 -> Convention, Conference, Multipurpose and Meeting Area | B19: General - Conference/meeting | C19: 66.666667 | D19: 0.5 | E19: 245 | F19: 155 | G19: 1 | H19: 0.09 | I19: Electric | J19: =VLOOKUP($A19,'2022 Stds Ltg Table'!$B$4:$G$92,2,0) -> 0.75 | K19: =VLOOKUP($A19,'2022 Stds Ltg Table'!$B$4:$G$92,3,0) -> Decorative/Display | L19: =VLOOKUP($A19,'2022 Stds Ltg Table'!$B$4:$G$92,4,0) -> 0.25 | M19: =VLOOKUP($A19,'2022 Stds Ltg Table'!$B$4:$G$92,5,0) -> None | N19: =VLOOKUP($A19,'2022 Stds Ltg Table'!$B$4:$G$92,6,0) -> 0 | O19: =VLOOKUP($A19,'2022 Stds Ltg Table'!$B$4:$I$92,7,0) -> None | P19: =VLOOKUP($A19,'2022 Stds Ltg Table'!$B$4:$I$92,8,0) -> 0 | Q19: 150 | R19: 150 | S19: 0 | T19: 0 | U19: 30 | V19: 300 | W19: 1.5 | X19: 2 | Y19: Assembly | Z19: 1 | AA19: 0 | AB19: 1 | AC19: 318
A20: ='2022 Stds Ltg Table'!B20 -> Copy Room | B20: Exhaust - Copy, printing rooms | C20: 10 | D20: 0.5 | E20: 250 | F20: 250 | G20: 1 | H20: 0.18 | I20: Electric | J20: =VLOOKUP($A20,'2022 Stds Ltg Table'!$B$4:$G$92,2,0) -> 0.5 | K20: =VLOOKUP($A20,'2022 Stds Ltg Table'!$B$4:$G$92,3,0) -> None | L20: =VLOOKUP($A20,'2022 Stds Ltg Table'!$B$4:$G$92,4,0) -> 0 | M20: =VLOOKUP($A20,'2022 Stds Ltg Table'!$B$4:$G$92,5,0) -> None | N20: =VLOOKUP($A20,'2022 Stds Ltg Table'!$B$4:$G$92,6,0) -> 0 | O20: =VLOOKUP($A20,'2022 Stds Ltg Table'!$B$4:$I$92,7,0) -> None | P20: =VLOOKUP($A20,'2022 Stds Ltg Table'!$B$4:$I$92,8,0) -> 0 | Q20: 8760 | R20: 8760 | S20: 0 | T20: 0 | U20: 75 | V20: 500 | W20: 1.5 | X20: 2 | Y20: Office | Z20: 1 | AA20: 0 | AB20: 1 | AC20: 319
A21: ='2022 Stds Ltg Table'!B21 -> Corridor Area | B21: General - Corridors | C21: 10 | D21: 0.5 | E21: 250 | F21: 250 | G21: 0 | H21: 0 | I21: Electric | J21: =VLOOKUP($A21,'2022 Stds Ltg Table'!$B$4:$G$92,2,0) -> 0.4 | K21: =VLOOKUP($A21,'2022 Stds Ltg Table'!$B$4:$G$92,3,0) -> Decorative/Display | L21: =VLOOKUP($A21,'2022 Stds Ltg Table'!$B$4:$G$92,4,0) -> 0.25 | M21: =VLOOKUP($A21,'2022 Stds Ltg Table'!$B$4:$G$92,5,0) -> None | N21: =VLOOKUP($A21,'2022 Stds Ltg Table'!$B$4:$G$92,6,0) -> 0 | O21: =VLOOKUP($A21,'2022 Stds Ltg Table'!$B$4:$I$92,7,0) -> None | P21: =VLOOKUP($A21,'2022 Stds Ltg Table'!$B$4:$I$92,8,0) -> 0 | Q21: 8760 | R21: 8760 | S21: 0 | T21: 0 | U21: 50 | V21: 100 | W21: 1.5 | X21: 2 | Y21: Office | Z21: 1 | AA21: 1 | AB21: 0 | AC21: 320
A22: ='2022 Stds Ltg Table'!B22 -> Dining Area (Bar/Lounge and Fine Dining) | B22: Food Service - Restaurant dining rooms | C22: 66.666667 | D22: 0.5 | E22: 275 | F22: 275 | G22: 0.5 | H22: 0.578 | I22: Gas | J22: =VLOOKUP($A22,'2022 Stds Ltg Table'!$B$4:$G$92,2,0) -> 0.45 | K22: =VLOOKUP($A22,'2022 Stds Ltg Table'!$B$4:$G$92,3,0) -> Decorative/Display | L22: =VLOOKUP($A22,'2022 Stds Ltg Table'!$B$4:$G$92,4,0) -> 0.35 | M22: =VLOOKUP($A22,'2022 Stds Ltg Table'!$B$4:$G$92,5,0) -> None | N22: =VLOOKUP($A22,'2022 Stds Ltg Table'!$B$4:$G$92,6,0) -> 0 | O22: =VLOOKUP($A22,'2022 Stds Ltg Table'!$B$4:$I$92,7,0) -> None | P22: =VLOOKUP($A22,'2022 Stds Ltg Table'!$B$4:$I$92,8,0) -> 0 | Q22: 150 | R22: 150 | S22: 0 | T22: 0 | U22: 50 | V22: 200 | W22: 1.5 | X22: 2 | Y22: Restaurant | Z22: 1 | AA22: 0 | AB22: 0 | AC22: 321
A23: ='2022 Stds Ltg Table'!B23 -> Dining Area (Cafeteria/Fast Food) | B23: Food Service - Cafeteria/fast-food dining | C23: 66.666667 | D23: 0.5 | E23: 275 | F23: 275 | G23: 0.5 | H23: 0.578 | I23: Gas | J23: =VLOOKUP($A23,'2022 Stds Ltg Table'!$B$4:$G$92,2,0) -> 0.45 | K23: =VLOOKUP($A23,'2022 Stds Ltg Table'!$B$4:$G$92,3,0) -> Decorative/Display | L23: =VLOOKUP($A23,'2022 Stds Ltg Table'!$B$4:$G$92,4,0) -> 0.25 | M23: =VLOOKUP($A23,'2022 Stds Ltg Table'!$B$4:$G$92,5,0) -> None | N23: =VLOOKUP($A23,'2022 Stds Ltg Table'!$B$4:$G$92,6,0) -> 0 | O23: =VLOOKUP($A23,'2022 Stds Ltg Table'!$B$4:$I$92,7,0) -> None | P23: =VLOOKUP($A23,'2022 Stds Ltg Table'!$B$4:$I$92,8,0) -> 0 | Q23: 150 | R23: 150 | S23: 0 | T23: 0.25 | U23: 50 | V23: 200 | W23: 1.5 | X23: 2 | Y23: Restaurant | Z23: 1 | AA23: 0 | AB23: 1 | AC23: 322
A24: ='2022 Stds Ltg Table'!B24 -> Dining Area (Family and Leisure) | B24: Food Service - Cafeteria/fast-food dining | C24: 66.666667 | D24: 0.5 | E24: 275 | F24: 275 | G24: 0.5 | H24: 0.578 | I24: Gas | J24: =VLOOKUP($A24,'2022 Stds Ltg Table'!$B$4:$G$92,2,0) -> 0.4 | K24: =VLOOKUP($A24,'2022 Stds Ltg Table'!$B$4:$G$92,3,0) -> Decorative/Display | L24: =VLOOKUP($A24,'2022 Stds Ltg Table'!$B$4:$G$92,4,0) -> 0.25 | M24: =VLOOKUP($A24,'2022 Stds Ltg Table'!$B$4:$G$92,5,0) -> None | N24: =VLOOKUP($A24,'2022 Stds Ltg Table'!$B$4:$G$92,6,0) -> 0 | O24: =VLOOKUP($A24,'2022 Stds Ltg Table'!$B$4:$I$92,7,0) -> None | P24: =VLOOKUP($A24,'2022 Stds Ltg Table'!$B$4:$I$92,8,0) -> 0 | Q24: 150 | R24: 150 | S24: 0 | T24: 0.25 | U24: 50 | V24: 200 | W24: 1.5 | X24: 2 | Y24: Restaurant | Z24: 1 | AA24: 0 | AB24: 0 | AC24: 323
A25: ='2022 Stds Ltg Table'!B25 -> Electrical, Mechanical, Telephone Rooms | B25: Misc - Telephone closets | C25: 3 | D25: 0.5 | E25: 250 | F25: 250 | G25: 3 | H25: 0.18 | I25: Electric | J25: =VLOOKUP($A25,'2022 Stds Ltg Table'!$B$4:$G$92,2,0) -> 0.4 | K25: =VLOOKUP($A25,'2022 Stds Ltg Table'!$B$4:$G$92,3,0) -> DetailedTaskWork (Note 7) | L25: =VLOOKUP($A25,'2022 Stds Ltg Table'!$B$4:$G$92,4,0) -> 0.2 | M25: =VLOOKUP($A25,'2022 Stds Ltg Table'!$B$4:$G$92,5,0) -> None | N25: =VLOOKUP($A25,'2022 Stds Ltg Table'!$B$4:$G$92,6,0) -> 0 | O25: =VLOOKUP($A25,'2022 Stds Ltg Table'!$B$4:$I$92,7,0) -> None | P25: =VLOOKUP($A25,'2022 Stds Ltg Table'!$B$4:$I$92,8,0) -> 0 | Q25: 8760 | R25: 8760 | S25: 0 | T25: 0 | U25: 200 | V25: 200 | W25: 1 | X25: 4 | Y25: Warehouse | Z25: 1 | AA25: 1 | AB25: 0 | AC25: 324
A26: ='2022 Stds Ltg Table'!B26 -> Exercise/Fitness Center and Gymnasium Areas | B26: Sports/Entertainment - Gym, sports arena (play area) | C26: 20 | D26: 0.5 | E26: 255 | F26: 875 | G26: 0.5 | H26: 0.18 | I26: Gas | J26: =VLOOKUP($A26,'2022 Stds Ltg Table'!$B$4:$G$92,2,0) -> 0.5 | K26: =VLOOKUP($A26,'2022 Stds Ltg Table'!$B$4:$G$92,3,0) -> None | L26: =VLOOKUP($A26,'2022 Stds Ltg Table'!$B$4:$G$92,4,0) -> 0 | M26: =VLOOKUP($A26,'2022 Stds Ltg Table'!$B$4:$G$92,5,0) -> None | N26: =VLOOKUP($A26,'2022 Stds Ltg Table'!$B$4:$G$92,6,0) -> 0 | O26: =VLOOKUP($A26,'2022 Stds Ltg Table'!$B$4:$I$92,7,0) -> None | P26: =VLOOKUP($A26,'2022 Stds Ltg Table'!$B$4:$I$92,8,0) -> 0 | Q26: 150 | R26: 150 | S26: 0 | T26: 0 | U26: 150 | V26: 400 | W26: 1.5 | X26: 2 | Y26: Retail | Z26: 1 | AA26: 0 | AB26: 1 | AC26: 325
A27: ='2022 Stds Ltg Table'!B27 -> Financial Transaction Area | B27: Misc - Banks or bank lobbies | C27: 10 | D27: 0.5 | E27: 250 | F27: 250 | G27: 1.5 | H27: 0.18 | I27: Electric | J27: =VLOOKUP($A27,'2022 Stds Ltg Table'!$B$4:$G$92,2,0) -> 0.7 | K27: =VLOOKUP($A27,'2022 Stds Ltg Table'!$B$4:$G$92,3,0) -> Decorative/Display | L27: =VLOOKUP($A27,'2022 Stds Ltg Table'!$B$4:$G$92,4,0) -> 0.25 | M27: =VLOOKUP($A27,'2022 Stds Ltg Table'!$B$4:$G$92,5,0) -> None | N27: =VLOOKUP($A27,'2022 Stds Ltg Table'!$B$4:$G$92,6,0) -> 0 | O27: =VLOOKUP($A27,'2022 Stds Ltg Table'!$B$4:$I$92,7,0) -> None | P27: =VLOOKUP($A27,'2022 Stds Ltg Table'!$B$4:$I$92,8,0) -> 0 | Q27: 150 | R27: 150 | S27: 0 | T27: 0 | U27: 100 | V27: 300 | W27: 1.5 | X27: 2 | Y27: Office | Z27: 1 | AA27: 0 | AB27: 0 | AC27: 326
A28: ='2022 Stds Ltg Table'!B28 -> Healthcare Facility and Hospitals (Exam/Treatment Room) | B28: Misc - All others | C28: 10 | D28: 0.5 | E28: 250 | F28: 200 | G28: 1.5 | H28: 0.24 | I28: Electric | J28: =VLOOKUP($A28,'2022 Stds Ltg Table'!$B$4:$G$92,2,0) -> 1.15 | K28: =VLOOKUP($A28,'2022 Stds Ltg Table'!$B$4:$G$92,3,0) -> None | L28: =VLOOKUP($A28,'2022 Stds Ltg Table'!$B$4:$G$92,4,0) -> 0 | M28: =VLOOKUP($A28,'2022 Stds Ltg Table'!$B$4:$G$92,5,0) -> None | N28: =VLOOKUP($A28,'2022 Stds Ltg Table'!$B$4:$G$92,6,0) -> 0 | O28: =VLOOKUP($A28,'2022 Stds Ltg Table'!$B$4:$I$92,7,0) -> None | P28: =VLOOKUP($A28,'2022 Stds Ltg Table'!$B$4:$I$92,8,0) -> 0 | Q28: 150 | R28: 150 | S28: 1.12596 | T28: 0 | U28: 300 | V28: 3000 | W28: 1.5 | X28: 2 | Y28: Health | Z28: 1 | AA28: 0 | AB28: 0 | AC28: 327
A29: ='2022 Stds Ltg Table'!B29 -> Healthcare Facility and Hospitals (Imaging Room) | B29: Misc - All others | C29: 10 | D29: 0.5 | E29: 250 | F29: 200 | G29: 1.5 | H29: 0.24 | I29: Gas | J29: =VLOOKUP($A29,'2022 Stds Ltg Table'!$B$4:$G$92,2,0) -> 0.6 | K29: =VLOOKUP($A29,'2022 Stds Ltg Table'!$B$4:$G$92,3,0) -> Decorative/Display | L29: =VLOOKUP($A29,'2022 Stds Ltg Table'!$B$4:$G$92,4,0) -> 0.2 | M29: =VLOOKUP($A29,'2022 Stds Ltg Table'!$B$4:$G$92,5,0) -> TunableWhiteOrDimToWarm (Note 10) | N29: =VLOOKUP($A29,'2022 Stds Ltg Table'!$B$4:$G$92,6,0) -> 0.1 | O29: =VLOOKUP($A29,'2022 Stds Ltg Table'!$B$4:$I$92,7,0) -> None | P29: =VLOOKUP($A29,'2022 Stds Ltg Table'!$B$4:$I$92,8,0) -> 0 | Q29: 150 | R29: 150 | S29: 0 | T29: 0 | U29: 75 | V29: 500 | W29: 1.5 | X29: 2 | Y29: Health | Z29: 1 | AA29: 0 | AB29: 0 | AC29: 328
... A36: ='2022 Stds Ltg Table'!B36 -> Healthcare Facility and Hospitals (Recovery Room) | B36: Misc - All others | C36: 10 | D36: 0.5 | E36: 250 | F36: 200 | G36: 1.5 | H36: 0.24 | I36: Gas | J36: =VLOOKUP($A36,'2022 Stds Ltg Table'!$B$4:$G$92,2,0) -> 0.9 | K36: =VLOOKUP($A36,'2022 Stds Ltg Table'!$B$4:$G$92,3,0) -> TunableWhiteOrDimToWarm (Note 10) | L36: =VLOOKUP($A36,'2022 Stds Ltg Table'!$B$4:$G$92,4,0) -> 0.1 | M36: =VLOOKUP($A36,'2022 Stds Ltg Table'!$B$4:$G$92,5,0) -> None | N36: =VLOOKUP($A36,'2022 Stds Ltg Table'!$B$4:$G$92,6,0) -> 0 | O36: =VLOOKUP($A36,'2022 Stds Ltg Table'!$B$4:$I$92,7,0) -> None | P36: =VLOOKUP($A36,'2022 Stds Ltg Table'!$B$4:$I$92,8,0) -> 0 | Q36: 150 | R36: 150 | S36: 0 | T36: 0 | U36: 20 | V36: 200 | W36: 1.5 | X36: 2 | Y36: Health | Z36: 1 | AA36: 0 | AB36: 0 | AC36: 335
A37: ='2022 Stds Ltg Table'!B77 -> High-Rise Residential Living Spaces | B37: NA | C37: 5 | D37: 0.5 | E37: 245 | F37: 155 | G37: 0.5 | H37: RULE Spc:DwellingUnitXGalPerDay | I37: Gas | J37: =VLOOKUP($A37,'2022 Stds Ltg Table'!$B$4:$G$92,2,0) -> na | K37: =VLOOKUP($A37,'2022 Stds Ltg Table'!$B$4:$G$92,3,0) -> None | L37: =VLOOKUP($A37,'2022 Stds Ltg Table'!$B$4:$G$92,4,0) -> 0 | M37: =VLOOKUP($A37,'2022 Stds Ltg Table'!$B$4:$G$92,5,0) -> None | N37: =VLOOKUP($A37,'2022 Stds Ltg Table'!$B$4:$G$92,6,0) -> 0 | O37: =VLOOKUP($A37,'2022 Stds Ltg Table'!$B$4:$I$92,7,0) -> None | P37: =VLOOKUP($A37,'2022 Stds Ltg Table'!$B$4:$I$92,8,0) -> 0 | Q37: 150 | R37: 150 | S37: 0.6824 | T37: 0 | U37: 20 | V37: 200 | W37: 1.5 | X37: 2 | Y37: ResidentialLiving | Z37: 0 | AA37: 1 | AB37: 0 | AC37: 336
A38: ='2022 Stds Ltg Table'!B37 -> Hotel Function Area | B38: Lodging - Multipurpose assembly | C38: 142.85714 | D38: 0.5 | E38: 250 | F38: 200 | G38: 0.5 | H38: 0.096 | I38: Gas | J38: =VLOOKUP($A38,'2022 Stds Ltg Table'!$B$4:$G$92,2,0) -> 0.85 | K38: =VLOOKUP($A38,'2022 Stds Ltg Table'!$B$4:$G$92,3,0) -> Decorative/Display | L38: =VLOOKUP($A38,'2022 Stds Ltg Table'!$B$4:$G$92,4,0) -> 0.25 | M38: =VLOOKUP($A38,'2022 Stds Ltg Table'!$B$4:$G$92,5,0) -> None | N38: =VLOOKUP($A38,'2022 Stds Ltg Table'!$B$4:$G$92,6,0) -> 0 | O38: =VLOOKUP($A38,'2022 Stds Ltg Table'!$B$4:$I$92,7,0) -> None | P38: =VLOOKUP($A38,'2022 Stds Ltg Table'!$B$4:$I$92,8,0) -> 0 | Q38: 150 | R38: 150 | S38: 0 | T38: 0 | U38: 50 | V38: 300 | W38: 1.5 | X38: 2 | Y38: Assembly | Z38: 0 | AA38: 0 | AB38: 0 | AC38: 337
A39: ='2022 Stds Ltg Table'!B78 -> Hotel/Motel Guest Room | B39: Lodging - Bedroom/living room | C39: 5 | D39: 0.5 | E39: 245 | F39: 155 | G39: 0.5 | H39: 4.48 | I39: Gas | J39: =VLOOKUP($A39,'2022 Stds Ltg Table'!$B$4:$G$92,2,0) -> na | K39: =VLOOKUP($A39,'2022 Stds Ltg Table'!$B$4:$G$92,3,0) -> None | L39: =VLOOKUP($A39,'2022 Stds Ltg Table'!$B$4:$G$92,4,0) -> 0 | M39: =VLOOKUP($A39,'2022 Stds Ltg Table'!$B$4:$G$92,5,0) -> None | N39: =VLOOKUP($A39,'2022 Stds Ltg Table'!$B$4:$G$92,6,0) -> 0 | O39: =VLOOKUP($A39,'2022 Stds Ltg Table'!$B$4:$I$92,7,0) -> None | P39: =VLOOKUP($A39,'2022 Stds Ltg Table'!$B$4:$I$92,8,0) -> 0 | Q39: 150 | R39: 150 | S39: 0 | T39: 0 | U39: 20 | V39: 200 | W39: 1.5 | X39: 2 | Y39: ResidentialLiving | Z39: 0 | AA39: 0 | AB39: 0 | AC39: 338
A40: ='2022 Stds Ltg Table'!B38 -> Kitchen/Food Preparation Area | B40: Food Service - Kitchen (cooking) | C40: 5 | D40: 0.5 | E40: 275 | F40: 475 | G40: 1.5 | H40: 0.578 | I40: Gas | J40: =VLOOKUP($A40,'2022 Stds Ltg Table'!$B$4:$G$92,2,0) -> 0.95 | K40: =VLOOKUP($A40,'2022 Stds Ltg Table'!$B$4:$G$92,3,0) -> None | L40: =VLOOKUP($A40,'2022 Stds Ltg Table'!$B$4:$G$92,4,0) -> 0 | M40: =VLOOKUP($A40,'2022 Stds Ltg Table'!$B$4:$G$92,5,0) -> None | N40: =VLOOKUP($A40,'2022 Stds Ltg Table'!$B$4:$G$92,6,0) -> 0 | O40: =VLOOKUP($A40,'2022 Stds Ltg Table'!$B$4:$I$92,7,0) -> None | P40: =VLOOKUP($A40,'2022 Stds Ltg Table'!$B$4:$I$92,8,0) -> 0 | Q40: 150 | R40: 150 | S40: 17.53768 | T40: 1.12 | U40: 100 | V40: 500 | W40: 1.5 | X40: 2 | Y40: Restaurant | Z40: 1 | AA40: 0 | AB40: 1 | AC40: 339
A41: ='2022 Stds Ltg Table'!B79 -> Kitchenette or Residential Kitchen | B41: Exhaust - Kitchenettes | C41: 5 | D41: 0.5 | E41: 275 | F41: 475 | G41: 1 | H41: 0.36 | I41: Gas | J41: =VLOOKUP($A41,'2022 Stds Ltg Table'!$B$4:$G$92,2,0) -> 0.95 | K41: =VLOOKUP($A41,'2022 Stds Ltg Table'!$B$4:$G$92,3,0) -> None | L41: =VLOOKUP($A41,'2022 Stds Ltg Table'!$B$4:$G$92,4,0) -> 0 | M41: =VLOOKUP($A41,'2022 Stds Ltg Table'!$B$4:$G$92,5,0) -> None | N41: =VLOOKUP($A41,'2022 Stds Ltg Table'!$B$4:$G$92,6,0) -> 0 | O41: =VLOOKUP($A41,'2022 Stds Ltg Table'!$B$4:$I$92,7,0) -> None | P41: =VLOOKUP($A41,'2022 Stds Ltg Table'!$B$4:$I$92,8,0) -> 0 | Q41: 150 | R41: 150 | S41: 3 | T41: 0.5 | U41: 100 | V41: 500 | W41: 1.5 | X41: 2 | Y41: Office | Z41: 1 | AA41: 0 | AB41: 0 | AC41: 340
A42: ='2022 Stds Ltg Table'!B39 -> Laboratory, Scientific | B42: Education - University/college laboratories | C42: 10 | D42: 0.5 | E42: 250 | F42: 200 | G42: 2 | H42: 0.18 | I42: Gas | J42: =VLOOKUP($A42,'2022 Stds Ltg Table'!$B$4:$G$92,2,0) -> 0.9 | K42: =VLOOKUP($A42,'2022 Stds Ltg Table'!$B$4:$G$92,3,0) -> SpecializedTaskWork (Note 8) | L42: =VLOOKUP($A42,'2022 Stds Ltg Table'!$B$4:$G$92,4,0) -> 0.35 | M42: =VLOOKUP($A42,'2022 Stds Ltg Table'!$B$4:$G$92,5,0) -> None | N42: =VLOOKUP($A42,'2022 Stds Ltg Table'!$B$4:$G$92,6,0) -> 0 | O42: =VLOOKUP($A42,'2022 Stds Ltg Table'!$B$4:$I$92,7,0) -> None | P42: =VLOOKUP($A42,'2022 Stds Ltg Table'!$B$4:$I$92,8,0) -> 0 | Q42: 150 | R42: 150 | S42: 12.69264 | T42: 0.28 | U42: 500 | V42: 1000 | W42: 1.5 | X42: 2 | Y42: Laboratory | Z42: 1 | AA42: 1 | AB42: 0 | AC42: 341
A43: ='2022 Stds Ltg Table'!B40 -> Laundry Area | B43: Lodging - Laundry rooms, central | C43: 10 | D43: 0.5 | E43: 250 | F43: 250 | G43: 3 | H43: 0.578 | I43: Gas | J43: =VLOOKUP($A43,'2022 Stds Ltg Table'!$B$4:$G$92,2,0) -> 0.45 | K43: =VLOOKUP($A43,'2022 Stds Ltg Table'!$B$4:$G$92,3,0) -> None | L43: =VLOOKUP($A43,'2022 Stds Ltg Table'!$B$4:$G$92,4,0) -> 0 | M43: =VLOOKUP($A43,'2022 Stds Ltg Table'!$B$4:$G$92,5,0) -> None | N43: =VLOOKUP($A43,'2022 Stds Ltg Table'!$B$4:$G$92,6,0) -> 0 | O43: =VLOOKUP($A43,'2022 Stds Ltg Table'!$B$4:$I$92,7,0) -> None | P43: =VLOOKUP($A43,'2022 Stds Ltg Table'!$B$4:$I$92,8,0) -> 0 | Q43: 8760 | R43: 8760 | S43: 0.75064 | T43: 0 | U43: 100 | V43: 300 | W43: 1.5 | X43: 2 | Y43: ResidentialCommon | Z43: 1 | AA43: 0 | AB43: 1 | AC43: 342
A44: ='2022 Stds Ltg Table'!B41 -> Library (Reading Area) | B44: Assembly - Libraries (reading rooms and stack areas) | C44: 20 | D44: 0.5 | E44: 250 | F44: 200 | G44: 1.5 | H44: 0.18 | I44: Electric | J44: =VLOOKUP($A44,'2022 Stds Ltg Table'!$B$4:$G$92,2,0) -> 0.8 | K44: =VLOOKUP($A44,'2022 Stds Ltg Table'!$B$4:$G$92,3,0) -> Decorative/Display | L44: =VLOOKUP($A44,'2022 Stds Ltg Table'!$B$4:$G$92,4,0) -> 0.25 | M44: =VLOOKUP($A44,'2022 Stds Ltg Table'!$B$4:$G$92,5,0) -> None | N44: =VLOOKUP($A44,'2022 Stds Ltg Table'!$B$4:$G$92,6,0) -> 0 | O44: =VLOOKUP($A44,'2022 Stds Ltg Table'!$B$4:$I$92,7,0) -> None | P44: =VLOOKUP($A44,'2022 Stds Ltg Table'!$B$4:$I$92,8,0) -> 0 | Q44: 150 | R44: 150 | S44: 0 | T44: 0 | U44: 150 | V44: 500 | W44: 1.5 | X44: 2 | Y44: Office | Z44: 1 | AA44: 0 | AB44: 0 | AC44: 343
A45: ='2022 Stds Ltg Table'!B42 -> Library (Stacks Area) | B45: Assembly - Libraries (reading rooms and stack areas) | C45: 10 | D45: 0.5 | E45: 250 | F45: 200 | G45: 1.5 | H45: 0.18 | I45: Electric | J45: =VLOOKUP($A45,'2022 Stds Ltg Table'!$B$4:$G$92,2,0) -> 1 | K45: =VLOOKUP($A45,'2022 Stds Ltg Table'!$B$4:$G$92,3,0) -> None | L45: =VLOOKUP($A45,'2022 Stds Ltg Table'!$B$4:$G$92,4,0) -> 0 | M45: =VLOOKUP($A45,'2022 Stds Ltg Table'!$B$4:$G$92,5,0) -> None | N45: =VLOOKUP($A45,'2022 Stds Ltg Table'!$B$4:$G$92,6,0) -> 0 | O45: =VLOOKUP($A45,'2022 Stds Ltg Table'!$B$4:$I$92,7,0) -> None | P45: =VLOOKUP($A45,'2022 Stds Ltg Table'!$B$4:$I$92,8,0) -> 0 | Q45: 150 | R45: 150 | S45: 0 | T45: 0 | U45: 200 | V45: 300 | W45: 1 | X45: 4 | Y45: Office | Z45: 1 | AA45: 0 | AB45: 0 | AC45: 344
A46: ='2022 Stds Ltg Table'!B43 -> Lobby, Main Entry | B46: Office - Main entry lobbies | C46: 66.666667 | D46: 0.5 | E46: 250 | F46: 250 | G46: 0.5 | H46: 0.09 | I46: Electric | J46: =VLOOKUP($A46,'2022 Stds Ltg Table'!$B$4:$G$92,2,0) -> 0.7 | K46: =VLOOKUP($A46,'2022 Stds Ltg Table'!$B$4:$G$92,3,0) -> Decorative/Display | L46: =VLOOKUP($A46,'2022 Stds Ltg Table'!$B$4:$G$92,4,0) -> 0.25 | M46: =VLOOKUP($A46,'2022 Stds Ltg Table'!$B$4:$G$92,5,0) -> None | N46: =VLOOKUP($A46,'2022 Stds Ltg Table'!$B$4:$G$92,6,0) -> 0 | O46: =VLOOKUP($A46,'2022 Stds Ltg Table'!$B$4:$I$92,7,0) -> None | P46: =VLOOKUP($A46,'2022 Stds Ltg Table'!$B$4:$I$92,8,0) -> 0 | Q46: 150 | R46: 150 | S46: 0 | T46: 0 | U46: 50 | V46: 200 | W46: 1.5 | X46: 2 | Y46: Assembly | Z46: 1 | AA46: 0 | AB46: 1 | AC46: 345
A47: ='2022 Stds Ltg Table'!B44 -> Locker Room | B47: Exhaust - Locker rooms for athletic or industrial facilities | C47: 20 | D47: 0.5 | E47: 255 | F47: 475 | G47: 0.5 | H47: 0.578 | I47: Gas | J47: =VLOOKUP($A47,'2022 Stds Ltg Table'!$B$4:$G$92,2,0) -> 0.45 | K47: =VLOOKUP($A47,'2022 Stds Ltg Table'!$B$4:$G$92,3,0) -> None | L47: =VLOOKUP($A47,'2022 Stds Ltg Table'!$B$4:$G$92,4,0) -> 0 | M47: =VLOOKUP($A47,'2022 Stds Ltg Table'!$B$4:$G$92,5,0) -> None | N47: =VLOOKUP($A47,'2022 Stds Ltg Table'!$B$4:$G$92,6,0) -> 0 | O47: =VLOOKUP($A47,'2022 Stds Ltg Table'!$B$4:$I$92,7,0) -> None | P47: =VLOOKUP($A47,'2022 Stds Ltg Table'!$B$4:$I$92,8,0) -> 0 | Q47: 8760 | R47: 8760 | S47: 0 | T47: 0 | U47: 20 | V47: 200 | W47: 1 | X47: 4 | Y47: Assembly | Z47: 1 | AA47: 0 | AB47: 1 | AC47: 346
...

Sheet 2025 SpaceFuncData-Input
K1: 3 | L1: =K1+1 -> 4 | M1: =L1+1 -> 5 | N1: =M1+1 -> 6 | O1: =N1+1 -> 7 | P1: =O1+1 -> 8 | Q1: =P1+1 -> 9 | R1: =Q1+1 -> 10 | S1: =R1+1 -> 11 | ... AD1: =AC1+1 -> 22
A2: 2025 NACM Space Type | B2: Default Ventilation Space Function | C2: People | D2: Occupancy Vent Factor | E2: Sensible heat | F2: Latent heat | G2: Receptacle | H2: Hot water | I2: Baseline WtrHtr Type | J2: Lighting | K2: ="Additional Allowance For "&'2025 Stds Ltg Table'!D3 -> Additional Allowance For Enclosed Space Of Ceiling Hight > 10' (W/ft2) | L2: ="Additional Allowance For "&'2025 Stds Ltg Table'!E3 -> Additional Allowance For Detailed Task Work (W/ft2) | M2: ="Additional Allowance For "&'2025 Stds Ltg Table'!F3 -> Additional Allowance For Specialized Task Work (W/ft2) | N2: ="Additional Allowance For "&'2025 Stds Ltg Table'!G3 -> Additional Allowance For Decorative/Display (W/ft2) | O2: ="Additional Allowance For "&'2025 Stds Ltg Table'!H3 -> Additional Allowance For Precision Work (W/ft2) | P2: ="Additional Allowance For "&'2025 Stds Ltg Table'!I3 -> Additional Allowance For White Or Chalk Board (W/ft) | Q2: ="Additional Allowance For "&'2025 Stds Ltg Table'!J3 -> Additional Allowance For Video Conferencing Studio Lighting (W/ft2) | R2: ="Additional Allowance For "&'2025 Stds Ltg Table'!K3 -> Additional Allowance For ATM/Ticket Machine (W) | ... AD2: ="Additional Allowance For "&'2025 Stds Ltg Table'!W3 -> Additional Allowance For Valuable Display Case (W/ft2) | AE2: Cooling UMLH Limit | AF2: Heating UMLH Limit | AG2: Gas Equipment Power | AH2: Refrig Load | AI2: Illuminance Setpoint for Daylighting | AK2: Primary Sidelit Daylighting Zone Setpoint Adjustment Factor | AL2: Secondary Sidelit Daylighting Zone Setpoint Adjustment Factor | AM2: Schedule | AN2: Eligible for Healthcare | AO2: Excluded From Predominant Calculation | AP2: FuncSchGrp is Editable | AQ2: SpcFuncIdx (For Perf Reporting) | AR2: Notes
C3: # per 1000 ft² | E3: per person | F3: per person | G3: Load W/ft² | H3: Gal/h per person | J3: W/ft² | L3: W/ft², unless noted otherwise | N3: W/ft², unless noted otherwise | P3: W/ft², unless noted otherwise | Q3: W/ft² | AE3: Hrs | AF3: Hrs | AG3: Btu/h-ft2 | AH3: W/ft2 | AI3: Min (lux) | AJ3: Max (lux)
A4: ='2025 Stds Ltg Table'!B4 -> Aging Eye/Low-vision (Corridor Area) (Note 11) | B4: =VLOOKUP($A4,'2022 SpaceFuncData-Input'!$A$3:$I$82,2,FALSE) -> General - Corridors | C4: =VLOOKUP($A4,'2022 SpaceFuncData-Input'!$A$3:$I$85,3,FALSE) -> 10 | D4: =VLOOKUP($A4,'2022 SpaceFuncData-Input'!$A$3:$I$85,4,FALSE) -> 0.5 | E4: =VLOOKUP($A4,'2022 SpaceFuncData-Input'!$A$3:$I$85,5,FALSE) -> 250 | F4: =VLOOKUP($A4,'2022 SpaceFuncData-Input'!$A$3:$I$85,6,FALSE) -> 250 | G4: =VLOOKUP($A4,'2022 SpaceFuncData-Input'!$A$3:$I$85,7,FALSE) -> 0 | H4: =VLOOKUP($A4,'2022 SpaceFuncData-Input'!$A$3:$I$85,8,FALSE) -> 0 | I4: =VLOOKUP($A4,'2022 SpaceFuncData-Input'!$A$3:$I$85,9,FALSE) -> Electric | J4: =VLOOKUP($A4,'2025 Stds Ltg Table'!$B$4:$V$92,2,0) -> 0.7 | K4: =VLOOKUP($A4,'2025 Stds Ltg Table'!$B$4:$W$92,K$1,0) -> 0 | L4: =VLOOKUP($A4,'2025 Stds Ltg Table'!$B$4:$W$92,L$1,0) -> 0 | M4: =VLOOKUP($A4,'2025 Stds Ltg Table'!$B$4:$W$92,M$1,0) -> 0 | N4: =VLOOKUP($A4,'2025 Stds Ltg Table'!$B$4:$W$92,N$1,0) -> 0.3 | O4: =VLOOKUP($A4,'2025 Stds Ltg Table'!$B$4:$W$92,O$1,0) -> 0 | P4: =VLOOKUP($A4,'2025 Stds Ltg Table'!$B$4:$W$92,P$1,0) -> 0 | Q4: =VLOOKUP($A4,'2025 Stds Ltg Table'!$B$4:$W$92,Q$1,0) -> 0 | R4: =VLOOKUP($A4,'2025 Stds Ltg Table'!$B$4:$W$92,R$1,0) -> 0 | ... AD4: =VLOOKUP($A4,'2025 Stds Ltg Table'!$B$4:$W$92,AD$1,0) -> 0 | AE4: =VLOOKUP($A4,'2022 SpaceFuncData-Input'!$A$3:$Y$82,17,FALSE) -> 150 | AF4: =VLOOKUP($A4,'2022 SpaceFuncData-Input'!$A$3:$Y$82,18,FALSE) -> 150 | AG4: =VLOOKUP($A4,'2022 SpaceFuncData-Input'!$A$3:$Y$82,19,FALSE) -> 0 | AH4: =VLOOKUP($A4,'2022 SpaceFuncData-Input'!$A$3:$Y$82,20,FALSE) -> 0 | AI4: =VLOOKUP($A4,'2022 SpaceFuncData-Input'!$A$3:$Y$82,21,FALSE) -> 50 | AJ4: =VLOOKUP($A4,'2022 SpaceFuncData-Input'!$A$3:$Y$82,22,FALSE) -> 100 | AK4: =VLOOKUP($A4,'2022 SpaceFuncData-Input'!$A$3:$Y$82,23,FALSE) -> 1.5 | AL4: =VLOOKUP($A4,'2022 SpaceFuncData-Input'!$A$3:$Y$82,24,FALSE) -> 2 | AM4: =VLOOKUP($A4,'2022 SpaceFuncData-Input'!$A$3:$Y$82,25,FALSE) -> Office | AN4: 1 | AO4: 1 | AP4: 0 | AQ4: 302
A5: ='2025 Stds Ltg Table'!B5 -> Aging Eye/Low-vision (Dining) (Note 11) | B5: =VLOOKUP($A5,'2022 SpaceFuncData-Input'!$A$3:$I$82,2,FALSE) -> Food Service - Cafeteria/fast-food dining | C5: =VLOOKUP($A5,'2022 SpaceFuncData-Input'!$A$3:$I$85,3,FALSE) -> 66.666667 | D5: =VLOOKUP($A5,'2022 SpaceFuncData-Input'!$A$3:$I$85,4,FALSE) -> 0.5 | E5: =VLOOKUP($A5,'2022 SpaceFuncData-Input'!$A$3:$I$85,5,FALSE) -> 275 | F5: =VLOOKUP($A5,'2022 SpaceFuncData-Input'!$A$3:$I$85,6,FALSE) -> 275 | G5: =VLOOKUP($A5,'2022 SpaceFuncData-Input'!$A$3:$I$85,7,FALSE) -> 0.5 | H5: =VLOOKUP($A5,'2022 SpaceFuncData-Input'!$A$3:$I$85,8,FALSE) -> 0.578 | I5: =VLOOKUP($A5,'2022 SpaceFuncData-Input'!$A$3:$I$85,9,FALSE) -> Gas | J5: =VLOOKUP($A5,'2025 Stds Ltg Table'!$B$4:$V$92,2,0) -> 0.8 | K5: =VLOOKUP($A5,'2025 Stds Ltg Table'!$B$4:$W$92,K$1,0) -> 0 | L5: =VLOOKUP($A5,'2025 Stds Ltg Table'!$B$4:$W$92,L$1,0) -> 0 | M5: =VLOOKUP($A5,'2025 Stds Ltg Table'!$B$4:$W$92,M$1,0) -> 0 | N5: =VLOOKUP($A5,'2025 Stds Ltg Table'!$B$4:$W$92,N$1,0) -> 0.3 | O5: =VLOOKUP($A5,'2025 Stds Ltg Table'!$B$4:$W$92,O$1,0) -> 0 | P5: =VLOOKUP($A5,'2025 Stds Ltg Table'!$B$4:$W$92,P$1,0) -> 0 | Q5: =VLOOKUP($A5,'2025 Stds Ltg Table'!$B$4:$W$92,Q$1,0) -> 0 | R5: =VLOOKUP($A5,'2025 Stds Ltg Table'!$B$4:$W$92,R$1,0) -> 0 | ... AD5: =VLOOKUP($A5,'2025 Stds Ltg Table'!$B$4:$W$92,AD$1,0) -> 0 | AE5: =VLOOKUP($A5,'2022 SpaceFuncData-Input'!$A$3:$Y$82,17,FALSE) -> 150 | AF5: =VLOOKUP($A5,'2022 SpaceFuncData-Input'!$A$3:$Y$82,18,FALSE) -> 150 | AG5: =VLOOKUP($A5,'2022 SpaceFuncData-Input'!$A$3:$Y$82,19,FALSE) -> 0 | AH5: =VLOOKUP($A5,'2022 SpaceFuncData-Input'!$A$3:$Y$82,20,FALSE) -> 0.25 | AI5: =VLOOKUP($A5,'2022 SpaceFuncData-Input'!$A$3:$Y$82,21,FALSE) -> 50 | AJ5: =VLOOKUP($A5,'2022 SpaceFuncData-Input'!$A$3:$Y$82,22,FALSE) -> 200 | AK5: =VLOOKUP($A5,'2022 SpaceFuncData-Input'!$A$3:$Y$82,23,FALSE) -> 1.5 | AL5: =VLOOKUP($A5,'2022 SpaceFuncData-Input'!$A$3:$Y$82,24,FALSE) -> 2 | AM5: =VLOOKUP($A5,'2022 SpaceFuncData-Input'!$A$3:$Y$82,25,FALSE) -> Restaurant | AN5: 1 | AO5: 0 | AP5: 0 | AQ5: 303
A6: ='2025 Stds Ltg Table'!B6 -> Aging Eye/Low-vision (Lobby, Main Entry) (Note 11) | B6: =VLOOKUP($A6,'2022 SpaceFuncData-Input'!$A$3:$I$82,2,FALSE) -> Office - Main entry lobbies | C6: =VLOOKUP($A6,'2022 SpaceFuncData-Input'!$A$3:$I$85,3,FALSE) -> 66.666667 | D6: =VLOOKUP($A6,'2022 SpaceFuncData-Input'!$A$3:$I$85,4,FALSE) -> 0.5 | E6: =VLOOKUP($A6,'2022 SpaceFuncData-Input'!$A$3:$I$85,5,FALSE) -> 250 | F6: =VLOOKUP($A6,'2022 SpaceFuncData-Input'!$A$3:$I$85,6,FALSE) -> 250 | G6: =VLOOKUP($A6,'2022 SpaceFuncData-Input'!$A$3:$I$85,7,FALSE) -> 0.5 | H6: =VLOOKUP($A6,'2022 SpaceFuncData-Input'!$A$3:$I$85,8,FALSE) -> 0.09 | I6: =VLOOKUP($A6,'2022 SpaceFuncData-Input'!$A$3:$I$85,9,FALSE) -> Electric | J6: =VLOOKUP($A6,'2025 Stds Ltg Table'!$B$4:$V$92,2,0) -> 0.85 | K6: =VLOOKUP($A6,'2025 Stds Ltg Table'!$B$4:$W$92,K$1,0) -> 0 | L6: =VLOOKUP($A6,'2025 Stds Ltg Table'!$B$4:$W$92,L$1,0) -> 0 | M6: =VLOOKUP($A6,'2025 Stds Ltg Table'!$B$4:$W$92,M$1,0) -> 0 | N6: =VLOOKUP($A6,'2025 Stds Ltg Table'!$B$4:$W$92,N$1,0) -> 0.3 | O6: =VLOOKUP($A6,'2025 Stds Ltg Table'!$B$4:$W$92,O$1,0) -> 0 | P6: =VLOOKUP($A6,'2025 Stds Ltg Table'!$B$4:$W$92,P$1,0) -> 0 | Q6: =VLOOKUP($A6,'2025 Stds Ltg Table'!$B$4:$W$92,Q$1,0) -> 0 | R6: =VLOOKUP($A6,'2025 Stds Ltg Table'!$B$4:$W$92,R$1,0) -> 0 | ... AD6: =VLOOKUP($A6,'2025 Stds Ltg Table'!$B$4:$W$92,AD$1,0) -> 0 | AE6: =VLOOKUP($A6,'2022 SpaceFuncData-Input'!$A$3:$Y$82,17,FALSE) -> 150 | AF6: =VLOOKUP($A6,'2022 SpaceFuncData-Input'!$A$3:$Y$82,18,FALSE) -> 150 | AG6: =VLOOKUP($A6,'2022 SpaceFuncData-Input'!$A$3:$Y$82,19,FALSE) -> 0 | AH6: =VLOOKUP($A6,'2022 SpaceFuncData-Input'!$A$3:$Y$82,20,FALSE) -> 0 | AI6: =VLOOKUP($A6,'2022 SpaceFuncData-Input'!$A$3:$Y$82,21,FALSE) -> 50 | AJ6: =VLOOKUP($A6,'2022 SpaceFuncData-Input'!$A$3:$Y$82,22,FALSE) -> 200 | AK6: =VLOOKUP($A6,'2022 SpaceFuncData-Input'!$A$3:$Y$82,23,FALSE) -> 1.5 | AL6: =VLOOKUP($A6,'2022 SpaceFuncData-Input'!$A$3:$Y$82,24,FALSE) -> 2 | AM6: =VLOOKUP($A6,'2022 SpaceFuncData-Input'!$A$3:$Y$82,25,FALSE) -> Assembly | AN6: 1 | AO6: 0 | AP6: 0 | AQ6: 304
A7: ='2025 Stds Ltg Table'!B7 -> Aging Eye/Low-vision (Lounge/Waiting Area) (Note 11) | B7: =VLOOKUP($A7,'2022 SpaceFuncData-Input'!$A$3:$I$82,2,FALSE) -> General - Break rooms | C7: =VLOOKUP($A7,'2022 SpaceFuncData-Input'!$A$3:$I$85,3,FALSE) -> 66.666667 | D7: =VLOOKUP($A7,'2022 SpaceFuncData-Input'!$A$3:$I$85,4,FALSE) -> 0.5 | E7: =VLOOKUP($A7,'2022 SpaceFuncData-Input'!$A$3:$I$85,5,FALSE) -> 275 | F7: =VLOOKUP($A7,'2022 SpaceFuncData-Input'!$A$3:$I$85,6,FALSE) -> 275 | G7: =VLOOKUP($A7,'2022 SpaceFuncData-Input'!$A$3:$I$85,7,FALSE) -> 1 | H7: =VLOOKUP($A7,'2022 SpaceFuncData-Input'!$A$3:$I$85,8,FALSE) -> 0.09 | I7: =VLOOKUP($A7,'2022 SpaceFuncData-Input'!$A$3:$I$85,9,FALSE) -> Gas | J7: =VLOOKUP($A7,'2025 Stds Ltg Table'!$B$4:$V$92,2,0) -> 0.8 | K7: =VLOOKUP($A7,'2025 Stds Ltg Table'!$B$4:$W$92,K$1,0) -> 0 | L7: =VLOOKUP($A7,'2025 Stds Ltg Table'!$B$4:$W$92,L$1,0) -> 0 | M7: =VLOOKUP($A7,'2025 Stds Ltg Table'!$B$4:$W$92,M$1,0) -> 0 | N7: =VLOOKUP($A7,'2025 Stds Ltg Table'!$B$4:$W$92,N$1,0) -> 0.3 | O7: =VLOOKUP($A7,'2025 Stds Ltg Table'!$B$4:$W$92,O$1,0) -> 0 | P7: =VLOOKUP($A7,'2025 Stds Ltg Table'!$B$4:$W$92,P$1,0) -> 0 | Q7: =VLOOKUP($A7,'2025 Stds Ltg Table'!$B$4:$W$92,Q$1,0) -> 0 | R7: =VLOOKUP($A7,'2025 Stds Ltg Table'!$B$4:$W$92,R$1,0) -> 0 | ... AD7: =VLOOKUP($A7,'2025 Stds Ltg Table'!$B$4:$W$92,AD$1,0) -> 0 | AE7: =VLOOKUP($A7,'2022 SpaceFuncData-Input'!$A$3:$Y$82,17,FALSE) -> 150 | AF7: =VLOOKUP($A7,'2022 SpaceFuncData-Input'!$A$3:$Y$82,18,FALSE) -> 150 | AG7: =VLOOKUP($A7,'2022 SpaceFuncData-Input'!$A$3:$Y$82,19,FALSE) -> 0 | AH7: =VLOOKUP($A7,'2022 SpaceFuncData-Input'!$A$3:$Y$82,20,FALSE) -> 0 | AI7: =VLOOKUP($A7,'2022 SpaceFuncData-Input'!$A$3:$Y$82,21,FALSE) -> 40 | AJ7: =VLOOKUP($A7,'2022 SpaceFuncData-Input'!$A$3:$Y$82,22,FALSE) -> 300 | AK7: =VLOOKUP($A7,'2022 SpaceFuncData-Input'!$A$3:$Y$82,23,FALSE) -> 1.5 | AL7: =VLOOKUP($A7,'2022 SpaceFuncData-Input'!$A$3:$Y$82,24,FALSE) -> 2 | AM7: =VLOOKUP($A7,'2022 SpaceFuncData-Input'!$A$3:$Y$82,25,FALSE) -> Assembly | AN7: 1 | AO7: 0 | AP7: 0 | AQ7: 305
A8: ='2025 Stds Ltg Table'!B8 -> Aging Eye/Low-vision (Multipurpose Room) (Note 11) | B8: =VLOOKUP($A8,'2022 SpaceFuncData-Input'!$A$3:$I$82,2,FALSE) -> General - Conference/meeting | C8: =VLOOKUP($A8,'2022 SpaceFuncData-Input'!$A$3:$I$85,3,FALSE) -> 66.666667 | D8: =VLOOKUP($A8,'2022 SpaceFuncData-Input'!$A$3:$I$85,4,FALSE) -> 0.5 | E8: =VLOOKUP($A8,'2022 SpaceFuncData-Input'!$A$3:$I$85,5,FALSE) -> 245 | F8: =VLOOKUP($A8,'2022 SpaceFuncData-Input'!$A$3:$I$85,6,FALSE) -> 155 | G8: =VLOOKUP($A8,'2022 SpaceFuncData-Input'!$A$3:$I$85,7,FALSE) -> 1 | H8: =VLOOKUP($A8,'2022 SpaceFuncData-Input'!$A$3:$I$85,8,FALSE) -> 0.09 | I8: =VLOOKUP($A8,'2022 SpaceFuncData-Input'!$A$3:$I$85,9,FALSE) -> Electric | J8: =VLOOKUP($A8,'2025 Stds Ltg Table'!$B$4:$V$92,2,0) -> 0.85 | K8: =VLOOKUP($A8,'2025 Stds Ltg Table'!$B$4:$W$92,K$1,0) -> 0 | L8: =VLOOKUP($A8,'2025 Stds Ltg Table'!$B$4:$W$92,L$1,0) -> 0 | M8: =VLOOKUP($A8,'2025 Stds Ltg Table'!$B$4:$W$92,M$1,0) -> 0 | N8: =VLOOKUP($A8,'2025 Stds Ltg Table'!$B$4:$W$92,N$1,0) -> 0.3 | O8: =VLOOKUP($A8,'2025 Stds Ltg Table'!$B$4:$W$92,O$1,0) -> 0 | P8: =VLOOKUP($A8,'2025 Stds Ltg Table'!$B$4:$W$92,P$1,0) -> 0 | Q8: =VLOOKUP($A8,'2025 Stds Ltg Table'!$B$4:$W$92,Q$1,0) -> 0 | R8: =VLOOKUP($A8,'2025 Stds Ltg Table'!$B$4:$W$92,R$1,0) -> 0 | ... AD8: =VLOOKUP($A8,'2025 Stds Ltg Table'!$B$4:$W$92,AD$1,0) -> 0 | AE8: =VLOOKUP($A8,'2022 SpaceFuncData-Input'!$A$3:$Y$82,17,FALSE) -> 150 | AF8: =VLOOKUP($A8,'2022 SpaceFuncData-Input'!$A$3:$Y$82,18,FALSE) -> 150 | AG8: =VLOOKUP($A8,'2022 SpaceFuncData-Input'!$A$3:$Y$82,19,FALSE) -> 0 | AH8: =VLOOKUP($A8,'2022 SpaceFuncData-Input'!$A$3:$Y$82,20,FALSE) -> 0 | AI8: =VLOOKUP($A8,'2022 SpaceFuncData-Input'!$A$3:$Y$82,21,FALSE) -> 30 | AJ8: =VLOOKUP($A8,'2022 SpaceFuncData-Input'!$A$3:$Y$82,22,FALSE) -> 300 | AK8: =VLOOKUP($A8,'2022 SpaceFuncData-Input'!$A$3:$Y$82,23,FALSE) -> 1.5 | AL8: =VLOOKUP($A8,'2022 SpaceFuncData-Input'!$A$3:$Y$82,24,FALSE) -> 2 | AM8: =VLOOKUP($A8,'2022 SpaceFuncData-Input'!$A$3:$Y$82,25,FALSE) -> Assembly | AN8: 1 | AO8: 0 | AP8: 0 | AQ8: 306
