Workbook
Name CFM: #REF!
Name CFM: #REF!
Name CFM: #REF!
Name CFM: #REF!
Name CPD: #REF!
Name CPD: #REF!
Name CPD: #REF!
Name CPD: #REF!
Name ECB: #REF!
Name ECB: #REF!
Name ECB: #REF!
Name ECB: #REF!
Name ECBasic: #REF!
Name ECBasic: #REF!
Name ECBasic: #REF!
Name ECBasic: #REF!
Name GAS: #REF!
Name GAS: #REF!
Name GAS: #REF!
Name GAS: #REF!
Name NACM: #REF!
Name NACM: #REF!
Name NACM: #REF!
Name NACM: #REF!
Name NACMWB: #REF!
Name NACMWB: #REF!
Name NACMWB: #REF!
Name NACMWB: #REF!
Name NREL: #REF!
Name NREL: #REF!
Name NREL: #REF!
Name NREL: #REF!
Name NRELPBA: #REF!
Name NRELPBA: #REF!
Name NRELPBA: #REF!
Name NRELPBA: #REF!
Name NRELWB: #REF!
Name NRELWB: #REF!
Name NRELWB: #REF!
Name NRELWB: #REF!
Name PBAPLUS: #REF!
Name PBAPLUS: #REF!
Name PBAPLUS: #REF!
Name PBAPLUS: #REF!
Name SDF: #REF!
Name SDF: #REF!
Name SDF: #REF!
Name SDF: #REF!

Sheet Complete Building Method
A1: 2013 NACM | B1: People | C1: Occupancy Vent Factor | D1: Sensible heat | E1: Latent heat | F1: Receptacle | G1: Hot water | H1: Lighting | I1: Min. Vent per Area | J1: Ventilation | K1: Cooling UMLH Limit | L1: Heating UMLH Limit | M1: Gas Appl Load | N1: Refrig Load | O1: Schedule
B2: # per 1000 ft² | D2: Btu/h per person | E2: Btu/h per person | F2: Load W/ft² | G2: Gal/h per person | H2: W/ft² | I2: CFM/ft² | J2: CFM/ft² | K2: Hrs | L2: Hrs | M2: Btu/h-ft2 | N2: W/ft2
A3: Auditorium Building | B3: 143 | C3: 1 | D3: 245 | E3: 105 | F3: 1 | G3: 0.09 | H3: 1.5 | I3: 0.15 | J3: 1.07 | K3: 150 | L3: 150 | M3: 0 | N3: 0 | O3: Assembly
A4: Classroom Building | B4: 40 | C4: 0.5 | D4: 246 | E4: 171 | F4: 1 | G4: 0.162 | H4: 1.1 | I4: 0.15 | J4: 0.32 | K4: 150 | L4: 150 | M4: 0 | N4: 0 | O4: School
A5: Commercial and Industrial Storage Building | B5: 5 | C5: 0.5 | D5: 268 | E5: 403 | F5: 0.43 | G5: 0.162 | H5: 0.6 | I5: 0.15 | J5: 0.15 | K5: 150 | L5: 150 | M5: 0 | N5: 0.28 | O5: Warehouse
A6: Convention Center Building | B6: 136 | C6: 0.5 | D6: 245 | E6: 112 | F6: 0.96 | G6: 0.086 | H6: 1.2 | I6: 0.15 | J6: 1.02 | K6: 150 | L6: 150 | M6: 0.04 | N6: 0.03 | O6: Assembly
A7: Data Center Buildings (Note 9) | B7: 5 | C7: 0.5 | D7: 268 | E7: 403 | F7: note 9 | G7: 0.162 | H7: 0.8 | I7: 0.15 | J7: 0.15 | K7: 150 | L7: 150 | M7: 0 | N7: 0 | O7: Data
A8: Financial Institution Building | B8: 10 | C8: 0.5 | D8: 250 | E8: 250 | F8: 1.5 | G8: 0.18 | H8: 1.1 | I8: 0.15 | J8: 0.15 | K8: 150 | L8: 150 | M8: 0 | N8: 0 | O8: Office
A9: General Commercia' or Industrial Work Building | B9: 7 | C9: 0.5 | D9: 375 | E9: 625 | F9: 1 | G9: 0.18 | H9: 1 | I9: 0.15 | J9: 0.15 | K9: 150 | L9: 150 | M9: 0 | N9: 0.28 | O9: Manufacturing
A10: Grocery Store Buildings | B10: 29 | C10: 0.5 | D10: 252 | E10: 225 | F10: 0.91 | G10: 0.17 | H10: 1.5 | I10: 0.15 | J10: 0.22 | K10: 150 | L10: 150 | M10: 0.03 | N10: 0.14 | O10: Retail
A11: Library Building | B11: 10 | C11: 0.5 | D11: 250 | E11: 250 | F11: 1.5 | G11: 0.18 | H11: 1.3 | I11: 0.15 | J11: 0.15 | K11: 150 | L11: 150 | M11: 0 | N11: 0 | O11: Office
A12: Medical Building/Clinic Building | B12: 10 | C12: 0.5 | D12: 250 | E12: 213 | F12: 1.18 | G12: 0.165 | H12: 1.1 | I12: 0.15 | J12: 0.15 | K12: 150 | L12: 150 | M12: 0.33 | N12: 1.12 | O12: Health
A13: Office Building | B13: 10 | C13: 0.5 | D13: 250 | E13: 206 | F13: 1.34 | G13: 0.159 | H13: 0.8 | I13: 0.15 | J13: 0.15 | K13: 150 | L13: 150 | M13: 0 | N13: 0 | O13: Office
A14: Parking Garage Building | B14: 10 | C14: 0.5 | D14: 250 | E14: 200 | F14: 0 | G14: 0 | H14: 0.2 | I14: 0.15 | J14: 0.15 | K14: 150 | L14: 150 | M14: 0 | N14: 0 | O14: Parking
A15: Religious Facility Building | B15: 136 | C15: 0.5 | D15: 245 | E15: 112 | F15: 0.96 | G15: 0.086 | H15: 1.6 | I15: 0.15 | J15: 1.03 | K15: 150 | L15: 150 | M15: 0.04 | N15: 0 | O15: Assembly
A16: Restaurant Building | B16: 45 | C16: 0.5 | D16: 274 | E16: 334 | F16: 0.79 | G16: 0.549 | H16: 1.2 | I16: 0.15 | J16: 0.38 | K16: 150 | L16: 150 | M16: 5.14 | N16: 0.06 | O16: Restaurant
A17: School Building | B17: 40 | C17: 0.5 | D17: 246 | E17: 171 | F17: 1 | G17: 0.162 | H17: 1 | I17: 0.15 | J17: 0.32 | K17: 150 | L17: 150 | M17: 0.04 | N17: 0.03 | O17: School
A18: Theater Building | B18: 130 | C18: 1 | D18: 268 | E18: 403 | F18: 0.54 | G18: 0.09 | H18: 1.3 | I18: 0.15 | J18: 0.98 | K18: 150 | L18: 150 | M18: 0.04 | N18: 0 | O18: Assembly
A19: All Other Buildings | B19: 10 | C19: 0.5 | D19: 250 | E19: 200 | F19: 1 | G19: 0.18 | H19: 0.6 | I19: 0.15 | J19: 0.15 | K19: 150 | L19: 150 | M19: 0.04 | N19: 0.03 | O19: Office
B21: Note 9 - Receptacle Load shall be specified by the user.

Sheet 2022 Stds Ltg Table
B2: Primary Function Area | C2: Allowed Lighting Power Density (W/ft2) | D2: Additional Lighting Power (Note 1) | K2: 2019 Values
D3: Qualified Lighting Systems | E3: Additional Allowance (W/ft2, unless noted otherwise) | F3: Qualified Lighting Systems | G3: Additional Allowance (W/ft2, unless noted otherwise) | H3: Qualified Lighting Systems | I3: Additional Allowance (W/ft2, unless noted otherwise)
B4: Aging Eye/Low-vision (Corridor Area) (Note 11) | C4: 0.7 | D4: Decorative/Display | E4: 0.3 | F4: None | H4: None | K4: 0.8 | L4: Decorative (Note 4) | M4: 0.15
B5: Aging Eye/Low-vision (Dining) (Note 11) | C5: 0.8 | D5: Decorative/Display | E5: 0.3 | F5: TunableWhiteOrDimToWarm (Note 10) | G5: 0.1 | H5: None | K5: 0.8 | L5: Ornamental | M5: 0.3
B6: Aging Eye/Low-vision (Lobby, Main Entry) (Note 11) | C6: 0.85 | D6: Decorative/Display | E6: 0.3 | F6: TransitionLightingOffAtNight (Note 12) | G6: 0.95 | H6: TunableWhiteOrDimToWarm (Note 10) | I6: 0.1 | K6: 0.85 | L6: Ornamental | M6: 0.3 | N6: Transition Lighitng OFF at night (Note 12) | O6: 0.95
B7: Aging Eye/Low-vision (Lounge/Waiting Area) (Note 11) | C7: 0.8 | D7: Decorative/Display | E7: 0.3 | F7: TunableWhiteOrDimToWarm (Note 10) | G7: 0.1 | H7: None | K7: 0.75 | L7: Ornamental | M7: 0.3
B8: Aging Eye/Low-vision (Multipurpose Room) (Note 11) | C8: 0.85 | D8: Decorative/Display | E8: 0.3 | F8: TunableWhiteOrDimToWarm (Note 10) | G8: 0.1 | H8: None | K8: 0.95 | L8: Ornamental | M8: 0.3
B9: Aging Eye/Low-vision (Religious Worship Area) (Note 11) | C9: 1 | D9: Decorative/Display | E9: 0.3 | F9: TunableWhiteOrDimToWarm (Note 10) | G9: 0.1 | H9: None | K9: 1 | L9: Ornamental | M9: 0.3
B10: Aging Eye/Low-vision (Restroom) (Note 11) | C10: 1 | D10: Decorative/Display | E10: 0.2 | F10: None | H10: None | K10: 0.8 | L10: Accent, display and feature (Note 3) | M10: 0.2
B11: Aging Eye/Low-vision (Stairwell) (Note 11) | C11: 0.8 | D11: Decorative/Display | E11: 0.3 | F11: None | H11: None | K11: 0.8
B12: Audience Seating Area | C12: 0.5 | D12: Decorative/Display | E12: 0.25 | F12: None | H12: None | K12: 0.6 | L12: Ornamental | M12: 0.3
B13: Auditorium Area | C13: 0.7 | D13: Decorative/Display | E13: 0.45 | F13: None | H13: None | K13: 0.7 | L13: Ornamental | M13: 0.3 | N13: Accent, display and feature (Note 3) | O13: 0.2
B14: Auto Repair / Maintenance Area | C14: 0.55 | D14: DetailedTaskWork (Note 7) | E14: 0.2 | F14: None | H14: None | K14: 0.55 | L14: Detailed Task Work (Note 7) | M14: 0.2
B15: Barber, Beauty Salon, Spa Area | C15: 0.7 | D15: DetailedTaskWork (Note 7) | E15: 0.3 | F15: Decorative/Display | G15: 0.25 | H15: None | K15: 0.8 | L15: Detailed Task Work (Note 7) | M15: 0.2 | N15: Ornamental | O15: 0.3
B16: Civic Meeting Place Area | C16: 0.9 | D16: Decorative/Display | E16: 0.25 | F16: None | H16: None | K16: 1 | L16: Ornamental | M16: 0.3
B17: Classroom, Lecture, Training, Vocational Areas | C17: 0.6 | D17: WhiteOrChalkBoard (W/ft) (Note 1) | E17: 7 | F17: None | H17: None | K17: 0.7 | L17: White or Chalk Board (W/ft) (Note 1) | M17: 4.5
B18: Concourse and Atria Area | C18: 0.6 | D18: Decorative/Display | E18: 0.25 | F18: None | H18: None | K18: 0.9 | L18: Ornamental | M18: 0.3
B19: Convention, Conference, Multipurpose and Meeting Area | C19: 0.75 | D19: Decorative/Display | E19: 0.25 | F19: None | H19: None | K19: 0.85 | L19: Ornamental | M19: 0.3
B20: Copy Room | C20: 0.5 | D20: None | F20: None | H20: None | K20: 0.5
B21: Corridor Area | C21: 0.4 | D21: Decorative/Display | E21: 0.25 | F21: None | H21: None | K21: 0.6
B22: Dining Area (Bar/Lounge and Fine Dining) | C22: 0.45 | D22: Decorative/Display | E22: 0.35 | F22: None | H22: None | K22: 0.55 | L22: Ornamental | M22: 0.3
B23: Dining Area (Cafeteria/Fast Food) | C23: 0.45 | D23: Decorative/Display | E23: 0.25 | F23: None | H23: None | K23: 0.4 | L23: Ornamental | M23: 0.3
B24: Dining Area (Family and Leisure) | C24: 0.4 | D24: Decorative/Display | E24: 0.25 | F24: None | H24: None | K24: 0.5 | L24: Ornamental | M24: 0.3
B25: Electrical, Mechanical, Telephone Rooms | C25: 0.4 | D25: DetailedTaskWork (Note 7) | E25: 0.2 | F25: None | H25: None | K25: 0.4 | L25: Detailed Task Work (Note 7) | M25: 0.2
B26: Exercise/Fitness Center and Gymnasium Areas | C26: 0.5 | D26: None | F26: None | H26: None | K26: 0.5
B27: Financial Transaction Area | C27: 0.7 | D27: Decorative/Display | E27: 0.25 | F27: None | H27: None | K27: 0.8 | L27: Ornamental | M27: 0.3
B28: Healthcare Facility and Hospitals (Exam/Treatment Room) | C28: 1.15 | D28: None | F28: None | H28: None | K28: 1.15
B29: Healthcare Facility and Hospitals (Imaging Room) | C29: 0.6 | D29: Decorative/Display | E29: 0.2 | F29: TunableWhiteOrDimToWarm (Note 10) | G29: 0.1 | H29: None | K29: 1
B30: Healthcare Facility and Hospitals (Medical Supply Room) | C30: 0.55 | D30: None | F30: None | H30: None | K30: 0.55
B31: Healthcare Facility and Hospitals (Nursery) | C31: 0.8 | D31: TunableWhiteOrDimToWarm (Note 10) | E31: 0.1 | F31: None | H31: None | K31: 0.95 | L31: Tunable while or dim-to-warm (Note 10) | M31: 0.1
B32: Healthcare Facility and Hospitals (Nurse's Station) | C32: 0.85 | D32: TunableWhiteOrDimToWarm (Note 10) | E32: 0.1 | F32: DetailedTaskWork (Note 7) | G32: 0.2 | H32: None | K32: 0.75 | L32: Tunable while or dim-to-warm (Note 10) | M32: 0.1
B33: Healthcare Facility and Hospitals (Operating Room) | C33: 1.9 | D33: None | F33: None | H33: None | K33: 1.9
B34: Healthcare Facility and Hospitals (Patient Room) | C34: 0.7 | D34: Decorative/Display | E34: 0.15 | F34: TunableWhiteOrDimToWarm (Note 10) | G34: 0.1 | H34: None | K34: 0.55 | L34: Decorative | M34: 0.15 | N34: Tunable while or dim-to-warm (Note 10) | O34: 0.1
B35: Healthcare Facility and Hospitals (Physical Therapy Room) | C35: 0.75 | D35: TunableWhiteOrDimToWarm (Note 10) | E35: 0.1 | F35: None | H35: None | K35: 0.85 | L35: Tunable while or dim-to-warm (Note 10) | M35: 0.1
B36: Healthcare Facility and Hospitals (Recovery Room) | C36: 0.9 | D36: TunableWhiteOrDimToWarm (Note 10) | E36: 0.1 | F36: None | H36: None | K36: 0.9 | L36: Tunable while or dim-to-warm (Note 10) | M36: 0.1
B37: Hotel Function Area | C37: 0.85 | D37: Decorative/Display | E37: 0.25 | F37: None | H37: None | K37: 0.85 | L37: Ornamental | M37: 0.3
B38: Kitchen/Food Preparation Area | C38: 0.95 | D38: None | F38: None | H38: None | K38: 0.95
B39: Laboratory, Scientific | C39: 0.9 | D39: SpecializedTaskWork (Note 8) | E39: 0.35 | F39: None | H39: None | K39: 1 | L39: Specialized Task Work (Note 8) | M39: 0.35
B40: Laundry Area | C40: 0.45 | D40: None | F40: None | H40: None | K40: 0.45
B41: Library (Reading Area) | C41: 0.8 | D41: Decorative/Display | E41: 0.25 | F41: None | H41: None | K41: 0.8 | L41: Ornamental | M41: 0.3
B42: Library (Stacks Area) | C42: 1 | D42: None | F42: None | H42: None | K42: 1.1
B43: Lobby, Main Entry | C43: 0.7 | D43: Decorative/Display | E43: 0.25 | F43: None | H43: None | K43: 0.85 | L43: Ornamental | M43: 0.3
B44: Locker Room | C44: 0.45 | D44: None | F44: None | H44: None | K44: 0.45
B45: Lounge, Breakroom, or Waiting Area | C45: 0.55 | D45: Decorative/Display | E45: 0.25 | F45: None | H45: None | K45: 0.65 | L45: Ornamental | M45: 0.3
B46: Manufacturing, Commercial & Industrial Work Area (Low Bay) | C46: 0.6 | D46: DetailedTaskWork (Note 7) | E46: 0.2 | F46: None | H46: None | K46: 0.6 | L46: Detailed Task Work (Note 7) | M46: 0.2
B47: Manufacturing, Commercial & Industrial Work Area (High Bay) | C47: 0.65 | D47: DetailedTaskWork (Note 7) | E47: 0.2 | F47: None | H47: None | K47: 0.65 | L47: Detailed Task Work (Note 7) | M47: 0.2
B48: Manufacturing, Commercial & Industrial Work Area (Precision) | C48: 0.85 | D48: PrecisionWork (Note 9) | E48: 0.7 | F48: None | H48: None | K48: 0.85 | L48: Precision Work (Note 9) | M48: 0.7
B49: Museum Area (Exhibition/Display) | C49: 0.6 | D49: Decorative/Display | E49: 0.45 | F49: None | H49: None | K49: 0.6 | L49: Accent, display and feature (Note 3) | M49: 0.5
B50: Museum Area (Restoration Room) | C50: 0.7 | D50: DetailedTaskWork (Note 7) | E50: 0.35 | F50: None | H50: None | K50: 0.75 | L50: Detailed Task Work (Note 7) | M50: 0.2
B51: Office Area (>250 square feet) | C51: 0.6 | D51: Decorative/Display&PortableLightingForOffice (Note 6) | E51: 0.2 | F51: None | H51: None | K51: 0.65 | L51: Portable lighting for office areas (Note 6) | M51: 0.2
B52: Office Area (<=250 square feet) | C52: 0.65 | D52: Decorative/Display&PortableLightingForOffice (Note 6) | E52: 0.2 | F52: None | H52: None | K52: 0.7 | L52: Portable lighting for office areas (Note 6) | M52: 0.2
B53: Parking Garage Area (Parking Zone and Ramps) | C53: 0.1 | D53: FirstATM/TicketMachine (W) | E53: 100 | F53: AdditionalATM/TicketMachine (50 W each) | G53: 50 | H53: None | K53: 0.1 | L53: First ATM (W) | M53: 100 | N53: Additional ATM (50 W each) | O53: 50
B54: Parking Garage Area (Daylight Adaptation Zones) (Note 2) | C54: 1 | D54: None | F54: None | H54: None | K54: 0.5
B55: Pharmacy Area | C55: 1 | D55: SpecializedTaskWork (Note 8) | E55: 0.35 | F55: None | H55: None | K55: 1.1 | L55: Specialized Task Work (Note 8) | M55: 0.35
B56: Retail Sales Area (Grocery Sales) | C56: 1 | D56: Decorative/Display | E56: 0.35 | F56: None | H56: None | K56: 1.05 | L56: Accent, display and feature (Note 3) | M56: 0.2 | N56: Decorative | O56: 0.15
B57: Retail Sales Area (Retail Merchandise Sales) | C57: 0.95 | D57: Decorative/Display | E57: 0.35 | F57: None | H57: None | K57: 1 | L57: Accent, display and feature (Note 3) | M57: 0.2 | N57: Decorative | O57: 0.15
B58: Retail Sales Area (Fitting Room) | C58: 0.6 | D58: ExternalIlluminatedMirror (Note5) | E58: 40 | F58: InternalIlluminatedMirror (Note 5) | G58: 120 | H58: None | K58: 0.6 | L58: External Illuminated Mirror (Note5) | M58: 40 | N58: Internal Illuminated Mirror (Note 5) | O58: 120
B59: Religious Worship Area | C59: 0.95 | D59: Decorative/Display | E59: 0.25 | F59: None | H59: None | K59: 0.95 | L59: Ornamental | M59: 0.3
B60: Restrooms | C60: 0.65 | D60: Decorative/Display | E60: 0.35 | F60: None | H60: None | K60: 0.65 | L60: Accent, display and feature (Note 3) | M60: 0.2 | N60: Decorative | O60: 0.15
B61: Stairwell | C61: 0.6 | D61: Decorative/Display | E61: 0.35 | F61: None | H61: None | K61: 0.5 | L61: Accent, display and feature (Note 3) | M61: 0.2 | N61: Decorative (Note 4) | O61: 0.15
B62: Storage, Commercial/Industrial (Warehouse) | C62: 0.4 | D62: None | F62: None | H62: None | K62: 0.45
B63: Storage, Commercial/Industrial (Shipping & Handling) | C63: 0.6 | D63: None | F63: None | H63: None | K63: 0.6 | P63: Original Designations:
B64: Sports Arena - Playing Area (> 5,000 Spectators) | C64: 2.25 | D64: None | F64: None | H64: None | K64: 2.25 | P64: Sports Arena - Playing Area (Class I Facility)
B65: Sports Arena - Playing Area (2,000 - 5,000 Spectators) | C65: 1.45 | D65: None | F65: None | H65: None | K65: 1.45 | P65: Sports Arena - Playing Area (Class II Facility)
B66: Sports Arena - Playing Area (< 2,000 Spectators) | C66: 1.1 | D66: None | F66: None | H66: None | K66: 1.1 | P66: Sports Arena - Playing Area (Class III Facility)
B67: Sports Arena - Playing Area (Recreational) | C67: 0.75 | D67: None | F67: None | H67: None | K67: 0.75 | P67: Sports Arena - Playing Area (Class IV Facility)
B68: Theater Area (Motion Picture) | C68: 0.5 | D68: Decorative/Display | E68: 0.25 | F68: None | H68: None | K68: 0.6 | L68: Ornamental | M68: 0.3
B69: Theater Area (Performance) | C69: 0.8 | D69: Decorative/Display | E69: 0.25 | F69: None | H69: None | K69: 1 | L69: Ornamental | M69: 0.3
B70: Transportation Function (Baggage Area) | C70: 0.4 | D70: None | F70: None | H70: None | K70: 0.4
B71: Transportation Function (Ticketing Area) | C71: 0.45 | D71: Decorative/Display | E71: 0.2 | F71: None | H71: None | K71: 0.45 | L71: Accent, display and feature (Note 3) | M71: 0.2
B72: Videoconferencing Studio | C72: 0.9 | D72: Videoconferencing (Note 14) | E72: 1 | F72: None | H72: None | K72: 0.9 | L72: Videoconferencing | M72: 1
B73: All other | C73: 0.4 | D73: None | F73: None | H73: None | K73: 0.4 | P73: why listed below as not called out and set to 0.85?
A76: vvv - Additional Space Types not specifically called out - vvv
B77: High-Rise Residential Living Spaces | C77: na | D77: None | F77: None | H77: None | J77: Handled in Rules
B78: Hotel/Motel Guest Room | C78: na | D78: None | F78: None | H78: None | J78: Handled in Rules
B79: Kitchenette or Residential Kitchen | C79: =C38 -> 0.95 | D79: None | F79: None | H79: None | J79: Same as Kitchen/Food Preparation Area
B80: Unleased Tenant Area | C80: =C51 -> 0.6 | D80: None | F80: None | H80: None | J80: Same as Open Office
B81: Unoccupied-Exclude from Gross Floor Area | C81: 0 | D81: None | F81: None | H81: None
B82: Unoccupied-Include in Gross Floor Area | C82: 0 | D82: None | F82: None | H82: None
B83: All other | C83: =C35 -> 0.75 | D83: None | F83: None | H83: None | J83: Same as Open Office
B84: Storage, Commercial/Industrial (Refrigerated) | C84: =C62 -> 0.4 | D84: None | F84: None | H84: None | J84: Same as Storage, Commercial/Industrial (Warehouse)
B85: Computer Room | C85: =C20 -> 0.5 | D85: None | F85: None | H85: None | J85: Same as Copy Room
B86: Storage, General | C86: =C62 -> 0.4 | D86: None | F86: None | H86: None | J86: Same as Storage, Commercial/Industrial (Warehouse)
A87: vvv - Multifamily only - vvv
B88: Conference, Multipurpose and Meeting Area | C88: 0.75 | D88: =D18 -> Decorative/Display | E88: 0.3 | F88: =F18 -> None | H88: =H18 -> None
B89: Storage | C89: 0.45 | D89: None | F89: None | H89: None
B90: Health Care / Assisted Living (Nurse's Station) | C90: 0.75 | D90: TunableWhiteOrDimToWarm (Note 10) | E90: 0.1 | F90: None | H90: None
B91: Health Care / Assisted Living (Physical Therapy Room) | C91: 0.85 | D91: TunableWhiteOrDimToWarm (Note 10) | E91: 0.1 | F91: None | H91: None
B98: Notes:
B99: 1. White board or chalk board. - Directional Llighting shall be dedicated to thea white board or chalk board.
B100: 2. Daylight Adaptation Zones shall be no longer than 66 feet from the entrance to the parking garage.
B101: 3. Accent, display and feature lighting - luminaires shall be adjustable or directional.
B102: 4. Decorative lighting - primary function shall be decorative and to provide general lighting.
B103: 5. Illuminated mirrors. Lighting shall be dedicated to the mirror.
B104: 6. Portable lighting in office areas includes under shelf or furniture-mounted supplemental task lighting.
B105: 7. Detailed task work - Lighting provides high level of visual acuity required for activities with close attention to small elements and/or
B106: extreme close up work.
B107: 8. Specialized task work - Lighting provides for small-scale, cognitive or fast performance visual tasks; lighting required for operating
B108: specialized equipment associated with pharmaceutical/laboratorial activities.
B109: 9. Precision specialized work - Lighting for work performed within a commercial or industrial environment that entails working with low
...

Sheet 2025 Stds Ltg Table
B2: Primary Function Area | C2: Allowed Lighting Power Density (W/ft2) | D2: Additional Lighting Power Additional Allowance (Note 1)
D3: Enclosed Space Of Ceiling Hight > 10' (W/ft2) | E3: Detailed Task Work (W/ft2) | F3: Specialized Task Work (W/ft2) | G3: Decorative/Display (W/ft2) | H3: Precision Work (W/ft2) | I3: White Or Chalk Board (W/ft) | J3: Video Conferencing Studio Lighting (W/ft2) | K3: ATM/Ticket Machine (W) | L3: Decorative/Display And Portable Lighting Office (W/ft2) | M3: External Iluminate Mirror (W/ft2) | N3: Internal Iluminate Mirror (W/ft2) | O3: Transition Lighting Off At Night (W/ft2) | P3: Tunable White Or Dim To Warm (W/ft2) | Q3: Wall Display MH <= 10'6" (W/ft) | R3: Wall Display MH 10'7" - 14' (W/ft) | S3: Wall Display MH > 14' (W/ft) | T3: Floor Display And Task MH <= 10'6" (W/ft2) | U3: Floor Display And Task MH 10'7" - 14' (W/ft2) | V3: Floor Display And Task MH > 14' (W/ft2) | W3: Valuable Display Case (W/ft2)
B4: Aging Eye/Low-vision (Corridor Area) (Note 11) | C4: 0.7 | G4: 0.3
B5: Aging Eye/Low-vision (Dining) (Note 11) | C5: 0.8 | G5: 0.3 | P5: 0.1
B6: Aging Eye/Low-vision (Lobby, Main Entry) (Note 11) | C6: 0.85 | G6: 0.3 | O6: 0.95 | P6: 0.1
B7: Aging Eye/Low-vision (Lounge/Waiting Area) (Note 11) | C7: 0.8 | G7: 0.3 | P7: 0.1
B8: Aging Eye/Low-vision (Multipurpose Room) (Note 11) | C8: 0.85 | G8: 0.3 | P8: 0.1
B9: Aging Eye/Low-vision (Religious Worship Area) (Note 11) | C9: 1 | G9: 0.3 | P9: 0.1
B10: Aging Eye/Low-vision (Restroom) (Note 11) | C10: 1 | G10: 0.2
B11: Aging Eye/Low-vision (Stairwell) (Note 11) | C11: 0.8 | G11: 0.3
B12: Audience Seating Area | C12: 0.5 | G12: 0.25
B13: Auditorium Area | C13: 0.7 | G13: 0.45
B14: Auto Repair / Maintenance Area | C14: 0.55 | E14: 0.2
B15: Barber, Beauty Salon, Spa Area | C15: 0.7 | E15: 0.3 | G15: 0.25
B16: Civic Meeting Place Area | C16: 0.9 | G16: 0.25
B17: Classroom, Lecture, Training, Vocational Areas | C17: 0.6 | I17: 7
B18: Concourse and Atria Area | C18: 0.6 | G18: 0.25
B19: Convention, Conference, Multipurpose and Meeting Area | C19: 0.75 | G19: 0.25 | Q19: 2 | R19: 2.35 | S19: 2.66 | T19: 0.3 | U19: 0.35 | V19: 0.4
B20: Copy Room | C20: 0.5
B21: Corridor Area | C21: 0.4 | G21: 0.25
B22: Dining Area (Bar/Lounge and Fine Dining) | C22: 0.45 | D22: 0.25 | G22: 0.35 | Q22: 1.25 | R22: 1.5 | S22: 1.7 | T22: 0.45 | U22: 0.52 | V22: 0.6
B23: Dining Area (Cafeteria/Fast Food) | C23: 0.45 | G23: 0.25
B24: Dining Area (Family and Leisure) | C24: 0.4 | G24: 0.25
B25: Electrical, Mechanical, Telephone Rooms | C25: 0.4 | E25: 0.2
B26: Exercise/Fitness Center and Gymnasium Areas | C26: 0.5
B27: Financial Transaction Area | C27: 0.7 | G27: 0.25
B28: Healthcare Facility and Hospitals (Exam/Treatment Room) | C28: 1.15
B29: Healthcare Facility and Hospitals (Imaging Room) | C29: 0.6 | G29: 0.2 | P29: 0.1
B30: Healthcare Facility and Hospitals (Medical Supply Room) | C30: 0.55
B31: Healthcare Facility and Hospitals (Nursery) | C31: 0.8 | P31: 0.1
B32: Healthcare Facility and Hospitals (Nurse's Station) | C32: 0.85 | E32: 0.2 | P32: 0.1
B33: Healthcare Facility and Hospitals (Operating Room) | C33: 1.9
B34: Healthcare Facility and Hospitals (Patient Room) | C34: 0.7 | G34: 0.15 | P34: 0.1
B35: Healthcare Facility and Hospitals (Physical Therapy Room) | C35: 0.75 | P35: 0.1
B36: Healthcare Facility and Hospitals (Recovery Room) | C36: 0.9 | P36: 0.1
B37: Hotel Function Area | C37: 0.85 | G37: 0.25
B38: Kitchen/Food Preparation Area | C38: 0.95
B39: Laboratory, Scientific | C39: 0.9 | F39: 0.35
B40: Laundry Area | C40: 0.45
B41: Library (Reading Area) | C41: 0.8 | G41: 0.25
B42: Library (Stacks Area) | C42: 1
B43: Lobby, Main Entry | C43: 0.7 | G43: 0.25 | Q43: 3 | R43: 3.5 | S43: 4
B44: Locker Room | C44: 0.45
B45: Lounge, Breakroom, or Waiting Area | C45: 0.55 | G45: 0.25
B46: Manufacturing, Commercial & Industrial Work Area (Low Bay) | C46: 0.6 | E46: 0.2
B47: Manufacturing, Commercial & Industrial Work Area (High Bay) | C47: 0.65 | E47: 0.2
B48: Manufacturing, Commercial & Industrial Work Area (Precision) | C48: 0.85 | H48: 0.7
B49: Museum Area (Exhibition/Display) | C49: 0.6 | G49: 0.45
B50: Museum Area (Restoration Room) | C50: 0.7 | E50: 0.35
B51: Office Area (>250 square feet) | C51: 0.6 | L51: 0.2
B52: Office Area (<=250 square feet) | C52: 0.65 | L52: 0.2
B53: Parking Garage Area (Parking Zone and Ramps) | C53: 0.1 | K53: First 100 + 50 for each additional one
B54: Parking Garage Area (Daylight Adaptation Zones) (Note 2) | C54: 1
B55: Pharmacy Area | C55: 1 | F55: 0.35
B56: Retail Sales Area (Grocery Sales) | C56: 1 | D56: 0.1 | G56: 0.35 | Q56: 6.6 | R56: 7.76 | S56: 8.8 | T56: 0.6 | U56: 0.7 | V56: 0.8
B57: Retail Sales Area (Retail Merchandise Sales) | C57: 0.95 | D57: 0.1 | G57: 0.35 | Q57: 9.5 | R57: 11.2 | S57: 12.7 | T57: 0.45 | U57: 0.52 | V57: 0.6 | W57: 0.5
B58: Retail Sales Area (Fitting Room) | C58: 0.6 | M58: 40 | N58: 120
B59: Religious Worship Area | C59: 0.95 | G59: 0.25
B60: Restrooms | C60: 0.65 | G60: 0.35
B61: Stairwell | C61: 0.6 | G61: 0.35
B62: Storage, Commercial/Industrial (Warehouse) | C62: 0.4
B63: Storage, Commercial/Industrial (Shipping & Handling) | C63: 0.6
B64: Sports Arena - Playing Area (> 5,000 Spectators) | C64: 2.25
B65: Sports Arena - Playing Area (2,000 - 5,000 Spectators) | C65: 1.45
B66: Sports Arena - Playing Area (< 2,000 Spectators) | C66: 1.1
B67: Sports Arena - Playing Area (Recreational) | C67: 0.75
B68: Theater Area (Motion Picture) | C68: 0.5 | G68: 0.25
B69: Theater Area (Performance) | C69: 0.8 | G69: 0.25
B70: Transportation Function (Baggage Area) | C70: 0.4
B71: Transportation Function (Ticketing Area) | C71: 0.45 | G71: 0.2
B72: Videoconferencing Studio | C72: 0.9 | J72: 1
B73: All other | C73: 0.4
A76: vvv - Additional Space Types not specifically called out - vvv
B77: High-Rise Residential Living Spaces | C77: na | X77: Handled in Rules
B78: Hotel/Motel Guest Room | C78: na | X78: Handled in Rules
B79: Kitchenette or Residential Kitchen | C79: =C38 -> 0.95 | X79: Same as Kitchen/Food Preparation Area
B80: Unleased Tenant Area | C80: =C51 -> 0.6 | X80: Same as Open Office
B81: Unoccupied-Exclude from Gross Floor Area | C81: 0
B82: Unoccupied-Include in Gross Floor Area | C82: 0
B83: All other | C83: 0.4 | X83: Same as Open Office
B84: Storage, Commercial/Industrial (Refrigerated) | C84: =C62 -> 0.4 | X84: Same as Storage, Commercial/Industrial (Warehouse)
B85: Computer Room | C85: =C20 -> 0.5 | X85: Same as Copy Room
B86: Storage, General | C86: =C62 -> 0.4 | X86: Same as Storage, Commercial/Industrial (Warehouse)
A87: vvv - Multifamily only - vvv
B88: Conference, Multipurpose and Meeting Area | C88: 0.75 | G88: 0.25 | Q88: 2 | R88: 2.35 | S88: 2.66 | T88: 0.3 | U88: 0.35 | V88: 0.4
B89: Storage | C89: 0.4
B90: Health Care / Assisted Living (Nurse's Station) | C90: 0.85 | P90: 0.1
B91: Health Care / Assisted Living (Physical Therapy Room) | C91: 0.75 | P91: 0.1
B98: Notes:
B99: 1. White board or chalk board. - Directional Llighting shall be dedicated to thea white board or chalk board.
B100: 2. Daylight Adaptation Zones shall be no longer than 66 feet from the entrance to the parking garage.
B101: 3. MH denotes the luminaire mounting height of the qualified lighting systems.
B102: 4. Reserved
B103: 5. Illuminated mirrors. Lighting shall be dedicated to the mirror.
B104: 6. Portable lighting in office areas includes under shelf or furniture-mounted supplemental task lighting.
B105: 7. Detailed task work - Lighting provides high level of visual acuity required for activities with close attention to small elements and/or extreme close up work.
B106: 8. Specialized task work - Lighting provides for small-scale, cognitive or fast performance visual tasks; lighting required for operating specialized equipment associated with pharmaceutical/laboratorial activities.
B107: 9. Precision specialized work - Lighting for work performed within a commercial or industrial environment that entails working with low contrast, finely detailed, or fast moving objects.
B108: 10. Tunable white luminaires capable of color change greater than or equal to 2000K CCT, or dim-to-warm luminaires capable of color change greater than or equal to 500K CCT, connected to controls that allows color
B109: 11. Aging Eye/Low-vision areas can be documented as being designed to comply with the light levels in ANSI/IES RP-28 and are or will be licensed by local or state authorities for either senior long-term care, adult day care, senior support, and/or people with special visual needs.
...

Sheet 2022 SpaceFuncData-Input
A1: 2022 NACM Space Type | B1: Default Ventilation Space Function | C1: People | D1: Occupancy Vent Factor | E1: Sensible heat | F1: Latent heat | G1: Receptacle | H1: Hot water | I1: Baseline WtrHtr Type | J1: Lighting | K1: Qualified Lighting Systems | L1: Additional Allowance | M1: Qualified Lighting Systems | N1: Additional Allowance | O1: Qualified Lighting Systems | P1: Additional Allowance | Q1: Cooling UMLH Limit | R1: Heating UMLH Limit | S1: Gas Equipment Power | T1: Refrig Load | U1: Illuminance Setpoint for Daylighting | W1: Primary Sidelit Daylighting Zone Setpoint Adjustment Factor | X1: Secondary Sidelit Daylighting Zone Setpoint Adjustment Factor | Y1: Schedule | Z1: Eligible for Healthcare | AA1: Excluded From Predominant Calculation | AB1: FuncSchGrp is Editable | AC1: SpcFuncIdx (For Perf Reporting) | AD1: Notes
C2: # per 1000 ft² | E2: per person | F2: per person | G2: Load W/ft² | H2: Gal/h per person | J2: W/ft² | L2: W/ft², unless noted otherwise | N2: W/ft², unless noted otherwise | P2: W/ft², unless noted otherwise | Q2: Hrs | R2: Hrs | S2: Btu/h-ft2 | T2: W/ft2 | U2: Min (lux) | V2: Max (lux)
A3: ='2022 Stds Ltg Table'!B4 -> Aging Eye/Low-vision (Corridor Area) (Note 11) | B3: General - Corridors | C3: 10 | D3: 0.5 | E3: 250 | F3: 250 | G3: 0 | H3: 0 | I3: Electric | J3: =VLOOKUP($A3,'2022 Stds Ltg Table'!$B$4:$G$92,2,0) -> 0.7 | K3: =VLOOKUP($A3,'2022 Stds Ltg Table'!$B$4:$G$92,3,0) -> Decorative/Display | L3: =VLOOKUP($A3,'2022 Stds Ltg Table'!$B$4:$G$92,4,0) -> 0.3 | M3: =VLOOKUP($A3,'2022 Stds Ltg Table'!$B$4:$G$92,5,0) -> None | N3: =VLOOKUP($A3,'2022 Stds Ltg Table'!$B$4:$G$92,6,0) -> 0 | O3: =VLOOKUP($A3,'2022 Stds Ltg Table'!$B$4:$I$92,7,0) -> None | P3: =VLOOKUP($A3,'2022 Stds Ltg Table'!$B$4:$I$92,8,0) -> 0 | Q3: 150 | R3: 150 | S3: 0 | T3: 0 | U3: 50 | V3: 100 | W3: 1.5 | X3: 2 | Y3: Office | Z3: 1 | AA3: 1 | AB3: 0 | AC3: 302
A4: ='2022 Stds Ltg Table'!B5 -> Aging Eye/Low-vision (Dining) (Note 11) | B4: Food Service - Cafeteria/fast-food dining | C4: 66.666667 | D4: 0.5 | E4: 275 | F4: 275 | G4: 0.5 | H4: 0.578 | I4: Gas | J4: =VLOOKUP($A4,'2022 Stds Ltg Table'!$B$4:$G$92,2,0) -> 0.8 | K4: =VLOOKUP($A4,'2022 Stds Ltg Table'!$B$4:$G$92,3,0) -> Decorative/Display | L4: =VLOOKUP($A4,'2022 Stds Ltg Table'!$B$4:$G$92,4,0) -> 0.3 | M4: =VLOOKUP($A4,'2022 Stds Ltg Table'!$B$4:$G$92,5,0) -> TunableWhiteOrDimToWarm (Note 10) | N4: =VLOOKUP($A4,'2022 Stds Ltg Table'!$B$4:$G$92,6,0) -> 0.1 | O4: =VLOOKUP($A4,'2022 Stds Ltg Table'!$B$4:$I$92,7,0) -> None | P4: =VLOOKUP($A4,'2022 Stds Ltg Table'!$B$4:$I$92,8,0) -> 0 | Q4: 150 | R4: 150 | S4: 0 | T4: 0.25 | U4: 50 | V4: 200 | W4: 1.5 | X4: 2 | Y4: Restaurant | Z4: 1 | AA4: 0 | AB4: 0 | AC4: 303
A5: ='2022 Stds Ltg Table'!B6 -> Aging Eye/Low-vision (Lobby, Main Entry) (Note 11) | B5: Office - Main entry lobbies | C5: 66.666667 | D5: 0.5 | E5: 250 | F5: 250 | G5: 0.5 | H5: 0.09 | I5: Electric | J5: =VLOOKUP($A5,'2022 Stds Ltg Table'!$B$4:$G$92,2,0) -> 0.85 | K5: =VLOOKUP($A5,'2022 Stds Ltg Table'!$B$4:$G$92,3,0) -> Decorative/Display | L5: =VLOOKUP($A5,'2022 Stds Ltg Table'!$B$4:$G$92,4,0) -> 0.3 | M5: =VLOOKUP($A5,'2022 Stds Ltg Table'!$B$4:$G$92,5,0) -> TransitionLightingOffAtNight (Note 12) | N5: =VLOOKUP($A5,'2022 Stds Ltg Table'!$B$4:$G$92,6,0) -> 0.95 | O5: =VLOOKUP($A5,'2022 Stds Ltg Table'!$B$4:$I$92,7,0) -> TunableWhiteOrDimToWarm (Note 10) | P5: =VLOOKUP($A5,'2022 Stds Ltg Table'!$B$4:$I$92,8,0) -> 0.1 | Q5: 150 | R5: 150 | S5: 0 | T5: 0 | U5: 50 | V5: 200 | W5: 1.5 | X5: 2 | Y5: Assembly | Z5: 1 | AA5: 0 | AB5: 0 | AC5: 304
A6: ='2022 Stds Ltg Table'!B7 -> Aging Eye/Low-vision (Lounge/Waiting Area) (Note 11) | B6: General - Break rooms | C6: 66.666667 | D6: 0.5 | E6: 275 | F6: 275 | G6: 1 | H6: 0.09 | I6: Gas | J6: =VLOOKUP($A6,'2022 Stds Ltg Table'!$B$4:$G$92,2,0) -> 0.8 | K6: =VLOOKUP($A6,'2022 Stds Ltg Table'!$B$4:$G$92,3,0) -> Decorative/Display | L6: =VLOOKUP($A6,'2022 Stds Ltg Table'!$B$4:$G$92,4,0) -> 0.3 | M6: =VLOOKUP($A6,'2022 Stds Ltg Table'!$B$4:$G$92,5,0) -> TunableWhiteOrDimToWarm (Note 10) | N6: =VLOOKUP($A6,'2022 Stds Ltg Table'!$B$4:$G$92,6,0) -> 0.1 | O6: =VLOOKUP($A6,'2022 Stds Ltg Table'!$B$4:$I$92,7,0) -> None | P6: =VLOOKUP($A6,'2022 Stds Ltg Table'!$B$4:$I$92,8,0) -> 0 | Q6: 150 | R6: 150 | S6: 0 | T6: 0 | U6: 40 | V6: 300 | W6: 1.5 | X6: 2 | Y6: Assembly | Z6: 1 | AA6: 0 | AB6: 0 | AC6: 305
A7: ='2022 Stds Ltg Table'!B8 -> Aging Eye/Low-vision (Multipurpose Room) (Note 11) | B7: General - Conference/meeting | C7: 66.666667 | D7: 0.5 | E7: 245 | F7: 155 | G7: 1 | H7: 0.09 | I7: Electric | J7: =VLOOKUP($A7,'2022 Stds Ltg Table'!$B$4:$G$92,2,0) -> 0.85 | K7: =VLOOKUP($A7,'2022 Stds Ltg Table'!$B$4:$G$92,3,0) -> Decorative/Display | L7: =VLOOKUP($A7,'2022 Stds Ltg Table'!$B$4:$G$92,4,0) -> 0.3 | M7: =VLOOKUP($A7,'2022 Stds Ltg Table'!$B$4:$G$92,5,0) -> TunableWhiteOrDimToWarm (Note 10) | N7: =VLOOKUP($A7,'2022 Stds Ltg Table'!$B$4:$G$92,6,0) -> 0.1 | O7: =VLOOKUP($A7,'2022 Stds Ltg Table'!$B$4:$I$92,7,0) -> None | P7: =VLOOKUP($A7,'2022 Stds Ltg Table'!$B$4:$I$92,8,0) -> 0 | Q7: 150 | R7: 150 | S7: 0 | T7: 0 | U7: 30 | V7: 300 | W7: 1.5 | X7: 2 | Y7: Assembly | Z7: 1 | AA7: 0 | AB7: 0 | AC7: 306
A8: ='2022 Stds Ltg Table'!B9 -> Aging Eye/Low-vision (Religious Worship Area) (Note 11) | B8: Assembly - Places of religious worship | C8: 142.85714 | D8: 0.5 | E8: 245 | F8: 105 | G8: 0.5 | H8: 0.09 | I8: Electric | J8: =VLOOKUP($A8,'2022 Stds Ltg Table'!$B$4:$G$92,2,0) -> 1 | K8: =VLOOKUP($A8,'2022 Stds Ltg Table'!$B$4:$G$92,3,0) -> Decorative/Display | L8: =VLOOKUP($A8,'2022 Stds Ltg Table'!$B$4:$G$92,4,0) -> 0.3 | M8: =VLOOKUP($A8,'2022 Stds Ltg Table'!$B$4:$G$92,5,0) -> TunableWhiteOrDimToWarm (Note 10) | N8: =VLOOKUP($A8,'2022 Stds Ltg Table'!$B$4:$G$92,6,0) -> 0.1 | O8: =VLOOKUP($A8,'2022 Stds Ltg Table'!$B$4:$I$92,7,0) -> None | P8: =VLOOKUP($A8,'2022 Stds Ltg Table'!$B$4:$I$92,8,0) -> 0 | Q8: 150 | R8: 150 | S8: 0 | T8: 0 | U8: 200 | V8: 1500 | W8: 1.5 | X8: 2 | Y8: Assembly | Z8: 1 | AA8: 0 | AB8: 0 | AC8: 307
A9: ='2022 Stds Ltg Table'!B10 -> Aging Eye/Low-vision (Restroom) (Note 11) | B9: Exhaust - Toilets, public | C9: 10 | D9: 0.5 | E9: 250 | F9: 250 | G9: 0 | H9: 0 | I9: Gas | J9: =VLOOKUP($A9,'2022 Stds Ltg Table'!$B$4:$G$92,2,0) -> 1 | K9: =VLOOKUP($A9,'2022 Stds Ltg Table'!$B$4:$G$92,3,0) -> Decorative/Display | L9: =VLOOKUP($A9,'2022 Stds Ltg Table'!$B$4:$G$92,4,0) -> 0.2 | M9: =VLOOKUP($A9,'2022 Stds Ltg Table'!$B$4:$G$92,5,0) -> None | N9: =VLOOKUP($A9,'2022 Stds Ltg Table'!$B$4:$G$92,6,0) -> 0 | O9: =VLOOKUP($A9,'2022 Stds Ltg Table'!$B$4:$I$92,7,0) -> None | P9: =VLOOKUP($A9,'2022 Stds Ltg Table'!$B$4:$I$92,8,0) -> 0 | Q9: 150 | R9: 150 | S9: 0 | T9: 0 | U9: 50 | V9: 100 | W9: 1.5 | X9: 2 | Y9: Office | Z9: 1 | AA9: 1 | AB9: 0 | AC9: 308
A10: ='2022 Stds Ltg Table'!B11 -> Aging Eye/Low-vision (Stairwell) (Note 11) | B10: General - Corridors | C10: 10 | D10: 0.5 | E10: 250 | F10: 250 | G10: 0 | H10: 0 | I10: Electric | J10: =VLOOKUP($A10,'2022 Stds Ltg Table'!$B$4:$G$92,2,0) -> 0.8 | K10: =VLOOKUP($A10,'2022 Stds Ltg Table'!$B$4:$G$92,3,0) -> Decorative/Display | L10: =VLOOKUP($A10,'2022 Stds Ltg Table'!$B$4:$G$92,4,0) -> 0.3 | M10: =VLOOKUP($A10,'2022 Stds Ltg Table'!$B$4:$G$92,5,0) -> None | N10: =VLOOKUP($A10,'2022 Stds Ltg Table'!$B$4:$G$92,6,0) -> 0 | O10: =VLOOKUP($A10,'2022 Stds Ltg Table'!$B$4:$I$92,7,0) -> None | P10: =VLOOKUP($A10,'2022 Stds Ltg Table'!$B$4:$I$92,8,0) -> 0 | Q10: 150 | R10: 150 | S10: 0 | T10: 0 | U10: 50 | V10: 100 | W10: 1.5 | X10: 2 | Y10: Office | Z10: 1 | AA10: 1 | AB10: 0 | AC10: 309
A11: ='2022 Stds Ltg Table'!B12 -> Audience Seating Area | B11: Assembly - Auditorium seating area | C11: 142.85714 | D11: 0.5 | E11: 245 | F11: 105 | G11: 1 | H11: 0.09 | I11: Electric | J11: =VLOOKUP($A11,'2022 Stds Ltg Table'!$B$4:$G$92,2,0) -> 0.5 | K11: =VLOOKUP($A11,'2022 Stds Ltg Table'!$B$4:$G$92,3,0) -> Decorative/Display | L11: =VLOOKUP($A11,'2022 Stds Ltg Table'!$B$4:$G$92,4,0) -> 0.25 | M11: =VLOOKUP($A11,'2022 Stds Ltg Table'!$B$4:$G$92,5,0) -> None | N11: =VLOOKUP($A11,'2022 Stds Ltg Table'!$B$4:$G$92,6,0) -> 0 | O11: =VLOOKUP($A11,'2022 Stds Ltg Table'!$B$4:$I$92,7,0) -> None | P11: =VLOOKUP($A11,'2022 Stds Ltg Table'!$B$4:$I$92,8,0) -> 0 | Q11: 150 | R11: 150 | S11: 0 | T11: 0 | U11: 50 | V11: 1000 | W11: 1.5 | X11: 2 | Y11: Assembly | Z11: 1 | AA11: 0 | AB11: 0 | AC11: 310
A12: ='2022 Stds Ltg Table'!B13 -> Auditorium Area | B12: Assembly - Auditorium seating area | C12: 142.85714 | D12: 0.5 | E12: 245 | F12: 105 | G12: 1 | H12: 0.09 | I12: Electric | J12: =VLOOKUP($A12,'2022 Stds Ltg Table'!$B$4:$G$92,2,0) -> 0.7 | K12: =VLOOKUP($A12,'2022 Stds Ltg Table'!$B$4:$G$92,3,0) -> Decorative/Display | L12: =VLOOKUP($A12,'2022 Stds Ltg Table'!$B$4:$G$92,4,0) -> 0.45 | M12: =VLOOKUP($A12,'2022 Stds Ltg Table'!$B$4:$G$92,5,0) -> None | N12: =VLOOKUP($A12,'2022 Stds Ltg Table'!$B$4:$G$92,6,0) -> 0 | O12: =VLOOKUP($A12,'2022 Stds Ltg Table'!$B$4:$I$92,7,0) -> None | P12: =VLOOKUP($A12,'2022 Stds Ltg Table'!$B$4:$I$92,8,0) -> 0 | Q12: 150 | R12: 150 | S12: 0 | T12: 0 | U12: 50 | V12: 1000 | W12: 1.5 | X12: 2 | Y12: Assembly | Z12: 1 | AA12: 0 | AB12: 0 | AC12: 311
A13: ='2022 Stds Ltg Table'!B14 -> Auto Repair / Maintenance Area | B13: Exhaust - Auto repair rooms | C13: 10 | D13: 0.5 | E13: 275 | F13: 475 | G13: 1 | H13: 0.18 | I13: Gas | J13: =VLOOKUP($A13,'2022 Stds Ltg Table'!$B$4:$G$92,2,0) -> 0.55 | K13: =VLOOKUP($A13,'2022 Stds Ltg Table'!$B$4:$G$92,3,0) -> DetailedTaskWork (Note 7) | L13: =VLOOKUP($A13,'2022 Stds Ltg Table'!$B$4:$G$92,4,0) -> 0.2 | M13: =VLOOKUP($A13,'2022 Stds Ltg Table'!$B$4:$G$92,5,0) -> None | N13: =VLOOKUP($A13,'2022 Stds Ltg Table'!$B$4:$G$92,6,0) -> 0 | O13: =VLOOKUP($A13,'2022 Stds Ltg Table'!$B$4:$I$92,7,0) -> None | P13: =VLOOKUP($A13,'2022 Stds Ltg Table'!$B$4:$I$92,8,0) -> 0 | Q13: 150 | R13: 150 | S13: 0.75064 | T13: 0 | U13: 200 | V13: 1500 | W13: 1.5 | X13: 2 | Y13: Manufacturing | Z13: 1 | AA13: 0 | AB13: 0 | AC13: 312
A14: ='2022 Stds Ltg Table'!B15 -> Barber, Beauty Salon, Spa Area | B14: Retail - Beauty and nail salons | C14: 10 | D14: 0.5 | E14: 250 | F14: 200 | G14: 2 | H14: 0.18 | I14: Gas | J14: =VLOOKUP($A14,'2022 Stds Ltg Table'!$B$4:$G$92,2,0) -> 0.7 | K14: =VLOOKUP($A14,'2022 Stds Ltg Table'!$B$4:$G$92,3,0) -> DetailedTaskWork (Note 7) | L14: =VLOOKUP($A14,'2022 Stds Ltg Table'!$B$4:$G$92,4,0) -> 0.3 | M14: =VLOOKUP($A14,'2022 Stds Ltg Table'!$B$4:$G$92,5,0) -> Decorative/Display | N14: =VLOOKUP($A14,'2022 Stds Ltg Table'!$B$4:$G$92,6,0) -> 0.25 | O14: =VLOOKUP($A14,'2022 Stds Ltg Table'!$B$4:$I$92,7,0) -> None | P14: =VLOOKUP($A14,'2022 Stds Ltg Table'!$B$4:$I$92,8,0) -> 0 | Q14: 150 | R14: 150 | S14: 0 | T14: 0 | U14: 500 | V14: 500 | W14: 1.5 | X14: 2 | Y14: Retail | Z14: 1 | AA14: 0 | AB14: 0 | AC14: 313
... A16: ='2022 Stds Ltg Table'!B17 -> Classroom, Lecture, Training, Vocational Areas | B16: Education - Classrooms (ages 9-18) | C16: 50 | D16: 0.5 | E16: 245 | F16: 155 | G16: 1 | H16: 0.18 | I16: Gas | J16: =VLOOKUP($A16,'2022 Stds Ltg Table'!$B$4:$G$92,2,0) -> 0.6 | K16: =VLOOKUP($A16,'2022 Stds Ltg Table'!$B$4:$G$92,3,0) -> WhiteOrChalkBoard (W/ft) (Note 1) | L16: =VLOOKUP($A16,'2022 Stds Ltg Table'!$B$4:$G$92,4,0) -> 7 | M16: =VLOOKUP($A16,'2022 Stds Ltg Table'!$B$4:$G$92,5,0) -> None | N16: =VLOOKUP($A16,'2022 Stds Ltg Table'!$B$4:$G$92,6,0) -> 0 | O16: =VLOOKUP($A16,'2022 Stds Ltg Table'!$B$4:$I$92,7,0) -> None | P16: =VLOOKUP($A16,'2022 Stds Ltg Table'!$B$4:$I$92,8,0) -> 0 | Q16: 150 | R16: 150 | S16: 0 | T16: 0 | U16: 50 | V16: 500 | W16: 1.5 | X16: 2 | Y16: School | Z16: 1 | AA16: 0 | AB16: 0 | AC16: 315
A17: ='2022 Stds Ltg Table'!B85 -> Computer Room | B17: Misc - Computer (not printing) | C17: 3 | D17: 0.5 | E17: 275 | F17: 475 | G17: 0 | H17: 0.18 | I17: Electric | J17: =VLOOKUP($A17,'2022 Stds Ltg Table'!$B$4:$G$92,2,0) -> 0.5 | K17: =VLOOKUP($A17,'2022 Stds Ltg Table'!$B$4:$G$92,3,0) -> None | L17: =VLOOKUP($A17,'2022 Stds Ltg Table'!$B$4:$G$92,4,0) -> 0 | M17: =VLOOKUP($A17,'2022 Stds Ltg Table'!$B$4:$G$92,5,0) -> None | N17: =VLOOKUP($A17,'2022 Stds Ltg Table'!$B$4:$G$92,6,0) -> 0 | O17: =VLOOKUP($A17,'2022 Stds Ltg Table'!$B$4:$I$92,7,0) -> None | P17: =VLOOKUP($A17,'2022 Stds Ltg Table'!$B$4:$I$92,8,0) -> 0 | Q17: 150 | R17: 150 | S17: 0 | T17: 0 | U17: 75 | V17: 300 | W17: 1 | X17: 4 | Y17: Data | Z17: 0 | AA17: 1 | AB17: 0 | AC17: 316
A18: ='2022 Stds Ltg Table'!B18 -> Concourse and Atria Area | B18: Retail - Mall common areas | C18: 33.333333 | D18: 0.5 | E18: 250 | F18: 250 | G18: 0.5 | H18: 0.18 | I18: Electric | J18: =VLOOKUP($A18,'2022 Stds Ltg Table'!$B$4:$G$92,2,0) -> 0.6 | K18: =VLOOKUP($A18,'2022 Stds Ltg Table'!$B$4:$G$92,3,0) -> Decorative/Display | L18: =VLOOKUP($A18,'2022 Stds Ltg Table'!$B$4:$G$92,4,0) -> 0.25 | M18: =VLOOKUP($A18,'2022 Stds Ltg Table'!$B$4:$G$92,5,0) -> None | N18: =VLOOKUP($A18,'2022 Stds Ltg Table'!$B$4:$G$92,6,0) -> 0 | O18: =VLOOKUP($A18,'2022 Stds Ltg Table'!$B$4:$I$92,7,0) -> None | P18: =VLOOKUP($A18,'2022 Stds Ltg Table'!$B$4:$I$92,8,0) -> 0 | Q18: 150 | R18: 150 | S18: 0 | T18: 0 | U18: 100 | V18: 300 | W18: 1.5 | X18: 2 | Y18: Retail | Z18: 1 | AA18: 1 | AB18: 0 | AC18: 317
A19: ='2022 Stds Ltg Table'!B19 -> Convention, Conference, Multipurpose and Meeting Area | B19: General - Conference/meeting | C19: 66.666667 | D19: 0.5 | E19: 245 | F19: 155 | G19: 1 | H19: 0.09 | I19: Electric | J19: =VLOOKUP($A19,'2022 Stds Ltg Table'!$B$4:$G$92,2,0) -> 0.75 | K19: =VLOOKUP($A19,'2022 Stds Ltg Table'!$B$4:$G$92,3,0) -> Decorative/Display | L19: =VLOOKUP($A19,'2022 Stds Ltg Table'!$B$4:$G$92,4,0) -> 0.25 | M19: =VLOOKUP($A19,'2022 Stds Ltg Table'!$B$4:$G$92,5,0) -> None | N19: =VLOOKUP($A19,'2022 Stds Ltg Table'!$B$4:$G$92,6,0) -> 0 | O19: =VLOOKUP($A19,'2022 Stds Ltg Table'!$B$4:$I$92,7,0) -> None | P19: =VLOOKUP($A19,'2022 Stds Ltg Table'!$B$4:$I$92,8,0) -> 0 | Q19: 150 | R19: 150 | S19: 0 | T19: 0 | U19: 30 | V19: 300 | W19: 1.5 | X19: 2 | Y19: Assembly | Z19: 1 | AA19: 0 | AB19: 1 | AC19: 318
A20: ='2022 Stds Ltg Table'!B20 -> Copy Room | B20: Exhaust - Copy, printing rooms | C20: 10 | D20: 0.5 | E20: 250 | F20: 250 | G20: 1 | H20: 0.18 | I20: Electric | J20: =VLOOKUP($A20,'2022 Stds Ltg Table'!$B$4:$G$92,2,0) -> 0.5 | K20: =VLOOKUP($A20,'2022 Stds Ltg Table'!$B$4:$G$92,3,0) -> None | L20: =VLOOKUP($A20,'2022 Stds Ltg Table'!$B$4:$G$92,4,0) -> 0 | M20: =VLOOKUP($A20,'2022 Stds Ltg Table'!$B$4:$G$92,5,0) -> None | N20: =VLOOKUP($A20,'2022 Stds Ltg Table'!$B$4:$G$92,6,0) -> 0 | O20: =VLOOKUP($A20,'2022 Stds Ltg Table'!$B$4:$I$92,7,0) -> None | P20: =VLOOKUP($A20,'2022 Stds Ltg Table'!$B$4:$I$92,8,0) -> 0 | Q20: 8760 | R20: 8760 | S20: 0 | T20: 0 | U20: 75 | V20: 500 | W20: 1.5 | X20: 2 | Y20: Office | Z20: 1 | AA20: 0 | AB20: 1 | AC20: 319
A21: ='2022 Stds Ltg Table'!B21 -> Corridor Area | B21: General - Corridors | C21: 10 | D21: 0.5 | E21: 250 | F21: 250 | G21: 0 | H21: 0 | I21: Electric | J21: =VLOOKUP($A21,'2022 Stds Ltg Table'!$B$4:$G$92,2,0) -> 0.4 | K21: =VLOOKUP($A21,'2022 Stds Ltg Table'!$B$4:$G$92,3,0) -> Decorative/Display | L21: =VLOOKUP($A21,'2022 Stds Ltg Table'!$B$4:$G$92,4,0) -> 0.25 | M21: =VLOOKUP($A21,'2022 Stds Ltg Table'!$B$4:$G$92,5,0) -> None | N21: =VLOOKUP($A21,'2022 Stds Ltg Table'!$B$4:$G$92,6,0) -> 0 | O21: =VLOOKUP($A21,'2022 Stds Ltg Table'!$B$4:$I$92,7,0) -> None | P21: =VLOOKUP($A21,'2022 Stds Ltg Table'!$B$4:$I$92,8,0) -> 0 | Q21: 8760 | R21: 8760 | S21: 0 | T21: 0 | U21: 50 | V21: 100 | W21: 1.5 | X21: 2 | Y21: Office | Z21: 1 | AA21: 1 | AB21: 0 | AC21: 320
A22: ='2022 Stds Ltg Table'!B22 -> Dining Area (Bar/Lounge and Fine Dining) | B22: Food Service - Restaurant dining rooms | C22: 66.666667 | D22: 0.5 | E22: 275 | F22: 275 | G22: 0.5 | H22: 0.578 | I22: Gas | J22: =VLOOKUP($A22,'2022 Stds Ltg Table'!$B$4:$G$92,2,0) -> 0.45 | K22: =VLOOKUP($A22,'2022 Stds Ltg Table'!$B$4:$G$92,3,0) -> Decorative/Display | L22: =VLOOKUP($A22,'2022 Stds Ltg Table'!$B$4:$G$92,4,0) -> 0.35 | M22: =VLOOKUP($A22,'2022 Stds Ltg Table'!$B$4:$G$92,5,0) -> None | N22: =VLOOKUP($A22,'2022 Stds Ltg Table'!$B$4:$G$92,6,0) -> 0 | O22: =VLOOKUP($A22,'2022 Stds Ltg Table'!$B$4:$I$92,7,0) -> None | P22: =VLOOKUP($A22,'2022 Stds Ltg Table'!$B$4:$I$92,8,0) -> 0 | Q22: 150 | R22: 150 | S22: 0 | T22: 0 | U22: 50 | V22: 200 | W22: 1.5 | X22: 2 | Y22: Restaurant | Z22: 1 | AA22: 0 | AB22: 0 | AC22: 321
A23: ='2022 Stds Ltg Table'!B23 -> Dining Area (Cafeteria/Fast Food) | B23: Food Service - Cafeteria/fast-food dining | C23: 66.666667 | D23: 0.5 | E23: 275 | F23: 275 | G23: 0.5 | H23: 0.578 | I23: Gas | J23: =VLOOKUP($A23,'2022 Stds Ltg Table'!$B$4:$G$92,2,0) -> 0.45 | K23: =VLOOKUP($A23,'2022 Stds Ltg Table'!$B$4:$G$92,3,0) -> Decorative/Display | L23: =VLOOKUP($A23,'2022 Stds Ltg Table'!$B$4:$G$92,4,0) -> 0.25 | M23: =VLOOKUP($A23,'2022 Stds Ltg Table'!$B$4:$G$92,5,0) -> None | N23: =VLOOKUP($A23,'2022 Stds Ltg Table'!$B$4:$G$92,6,0) -> 0 | O23: =VLOOKUP($A23,'2022 Stds Ltg Table'!$B$4:$I$92,7,0) -> None | P23: =VLOOKUP($A23,'2022 Stds Ltg Table'!$B$4:$I$92,8,0) -> 0 | Q23: 150 | R23: 150 | S23: 0 | T23: 0.25 | U23: 50 | V23: 200 | W23: 1.5 | X23: 2 | Y23: Restaurant | Z23: 1 | AA23: 0 | AB23: 1 | AC23: 322
A24: ='2022 Stds Ltg Table'!B24 -> Dining Area (Family and Leisure) | B24: Food Service - Cafeteria/fast-food dining | C24: 66.666667 | D24: 0.5 | E24: 275 | F24: 275 | G24: 0.5 | H24: 0.578 | I24: Gas | J24: =VLOOKUP($A24,'2022 Stds Ltg Table'!$B$4:$G$92,2,0) -> 0.4 | K24: =VLOOKUP($A24,'2022 Stds Ltg Table'!$B$4:$G$92,3,0) -> Decorative/Display | L24: =VLOOKUP($A24,'2022 Stds Ltg Table'!$B$4:$G$92,4,0) -> 0.25 | M24: =VLOOKUP($A24,'2022 Stds Ltg Table'!$B$4:$G$92,5,0) -> None | N24: =VLOOKUP($A24,'2022 Stds Ltg Table'!$B$4:$G$92,6,0) -> 0 | O24: =VLOOKUP($A24,'2022 Stds Ltg Table'!$B$4:$I$92,7,0) -> None | P24: =VLOOKUP($A24,'2022 Stds Ltg Table'!$B$4:$I$92,8,0) -> 0 | Q24: 150 | R24: 150 | S24: 0 | T24: 0.25 | U24: 50 | V24: 200 | W24: 1.5 | X24: 2 | Y24: Restaurant | Z24: 1 | AA24: 0 | AB24: 0 | AC24: 323
A25: ='2022 Stds Ltg Table'!B25 -> Electrical, Mechanical, Telephone Rooms | B25: Misc - Telephone closets | C25: 3 | D25: 0.5 | E25: 250 | F25: 250 | G25: 3 | H25: 0.18 | I25: Electric | J25: =VLOOKUP($A25,'2022 Stds Ltg Table'!$B$4:$G$92,2,0) -> 0.4 | K25: =VLOOKUP($A25,'2022 Stds Ltg Table'!$B$4:$G$92,3,0) -> DetailedTaskWork (Note 7) | L25: =VLOOKUP($A25,'2022 Stds Ltg Table'!$B$4:$G$92,4,0) -> 0.2 | M25: =VLOOKUP($A25,'2022 Stds Ltg Table'!$B$4:$G$92,5,0) -> None | N25: =VLOOKUP($A25,'2022 Stds Ltg Table'!$B$4:$G$92,6,0) -> 0 | O25: =VLOOKUP($A25,'2022 Stds Ltg Table'!$B$4:$I$92,7,0) -> None | P25: =VLOOKUP($A25,'2022 Stds Ltg Table'!$B$4:$I$92,8,0) -> 0 | Q25: 8760 | R25: 8760 | S25: 0 | T25: 0 | U25: 200 | V25: 200 | W25: 1 | X25: 4 | Y25: Warehouse | Z25: 1 | AA25: 1 | AB25: 0 | AC25: 324
A26: ='2022 Stds Ltg Table'!B26 -> Exercise/Fitness Center and Gymnasium Areas | B26: Sports/Entertainment - Gym, sports arena (play area) | C26: 20 | D26: 0.5 | E26: 255 | F26: 875 | G26: 0.5 | H26: 0.18 | I26: Gas | J26: =VLOOKUP($A26,'2022 Stds Ltg Table'!$B$4:$G$92,2,0) -> 0.5 | K26: =VLOOKUP($A26,'2022 Stds Ltg Table'!$B$4:$G$92,3,0) -> None | L26: =VLOOKUP($A26,'2022 Stds Ltg Table'!$B$4:$G$92,4,0) -> 0 | M26: =VLOOKUP($A26,'2022 Stds Ltg Table'!$B$4:$G$92,5,0) -> None | N26: =VLOOKUP($A26,'2022 Stds Ltg Table'!$B$4:$G$92,6,0) -> 0 | O26: =VLOOKUP($A26,'2022 Stds Ltg Table'!$B$4:$I$92,7,0) -> None | P26: =VLOOKUP($A26,'2022 Stds Ltg Table'!$B$4:$I$92,8,0) -> 0 | Q26: 150 | R26: 150 | S26: 0 | T26: 0 | U26: 150 | V26: 400 | W26: 1.5 | X26: 2 | Y26: Retail | Z26: 1 | AA26: 0 | AB26: 1 | AC26: 325
A27: ='2022 Stds Ltg Table'!B27 -> Financial Transaction Area | B27: Misc - Banks or bank lobbies | C27: 10 | D27: 0.5 | E27: 250 | F27: 250 | G27: 1.5 | H27: 0.18 | I27: Electric | J27: =VLOOKUP($A27,'2022 Stds Ltg Table'!$B$4:$G$92,2,0) -> 0.7 | K27: =VLOOKUP($A27,'2022 Stds Ltg Table'!$B$4:$G$92,3,0) -> Decorative/Display | L27: =VLOOKUP($A27,'2022 Stds Ltg Table'!$B$4:$G$92,4,0) -> 0.25 | M27: =VLOOKUP($A27,'2022 Stds Ltg Table'!$B$4:$G$92,5,0) -> None | N27: =VLOOKUP($A27,'2022 Stds Ltg Table'!$B$4:$G$92,6,0) -> 0 | O27: =VLOOKUP($A27,'2022 Stds Ltg Table'!$B$4:$I$92,7,0) -> None | P27: =VLOOKUP($A27,'2022 Stds Ltg Table'!$B$4:$I$92,8,0) -> 0 | Q27: 150 | R27: 150 | S27: 0 | T27: 0 | U27: 100 | V27: 300 | W27: 1.5 | X27: 2 | Y27: Office | Z27: 1 | AA27: 0 | AB27: 0 | AC27: 326
A28: ='2022 Stds Ltg Table'!B28 -> Healthcare Facility and Hospitals (Exam/Treatment Room) | B28: Misc - All others | C28: 10 | D28: 0.5 | E28: 250 | F28: 200 | G28: 1.5 | H28: 0.24 | I28: Electric | J28: =VLOOKUP($A28,'2022 Stds Ltg Table'!$B$4:$G$92,2,0) -> 1.15 | K28: =VLOOKUP($A28,'2022 Stds Ltg Table'!$B$4:$G$92,3,0) -> None | L28: =VLOOKUP($A28,'2022 Stds Ltg Table'!$B$4:$G$92,4,0) -> 0 | M28: =VLOOKUP($A28,'2022 Stds Ltg Table'!$B$4:$G$92,5,0) -> None | N28: =VLOOKUP($A28,'2022 Stds Ltg Table'!$B$4:$G$92,6,0) -> 0 | O28: =VLOOKUP($A28,'2022 Stds Ltg Table'!$B$4:$I$92,7,0) -> None | P28: =VLOOKUP($A28,'2022 Stds Ltg Table'!$B$4:$I$92,8,0) -> 0 | Q28: 150 | R28: 150 | S28: 1.12596 | T28: 0 | U28: 300 | V28: 3000 | W28: 1.5 | X28: 2 | Y28: Health | Z28: 1 | AA28: 0 | AB28: 0 | AC28: 327
A29: ='2022 Stds Ltg Table'!B29 -> Healthcare Facility and Hospitals (Imaging Room) | B29: Misc - All others | C29: 10 | D29: 0.5 | E29: 250 | F29: 200 | G29: 1.5 | H29: 0.24 | I29: Gas | J29: =VLOOKUP($A29,'2022 Stds Ltg Table'!$B$4:$G$92,2,0) -> 0.6 | K29: =VLOOKUP($A29,'2022 Stds Ltg Table'!$B$4:$G$92,3,0) -> Decorative/Display | L29: =VLOOKUP($A29,'2022 Stds Ltg Table'!$B$4:$G$92,4,0) -> 0.2 | M29: =VLOOKUP($A29,'2022 Stds Ltg Table'!$B$4:$G$92,5,0) -> TunableWhiteOrDimToWarm (Note 10) | N29: =VLOOKUP($A29,'2022 Stds Ltg Table'!$B$4:$G$92,6,0) -> 0.1 | O29: =VLOOKUP($A29,'2022 Stds Ltg Table'!$B$4:$I$92,7,0) -> None | P29: =VLOOKUP($A29,'2022 Stds Ltg Table'!$B$4:$I$92,8,0) -> 0 | Q29: 150 | R29: 150 | S29: 0 | T29: 0 | U29: 75 | V29: 500 | W29: 1.5 | X29: 2 | Y29: Health | Z29: 1 | AA29: 0 | AB29: 0 | AC29: 328
... A36: ='2022 Stds Ltg Table'!B36 -> Healthcare Facility and Hospitals (Recovery Room) | B36: Misc - All others | C36: 10 | D36: 0.5 | E36: 250 | F36: 200 | G36: 1.5 | H36: 0.24 | I36: Gas | J36: =VLOOKUP($A36,'2022 Stds Ltg Table'!$B$4:$G$92,2,0) -> 0.9 | K36: =VLOOKUP($A36,'2022 Stds Ltg Table'!$B$4:$G$92,3,0) -> TunableWhiteOrDimToWarm (Note 10) | L36: =VLOOKUP($A36,'2022 Stds Ltg Table'!$B$4:$G$92,4,0) -> 0.1 | M36: =VLOOKUP($A36,'2022 Stds Ltg Table'!$B$4:$G$92,5,0) -> None | N36: =VLOOKUP($A36,'2022 Stds Ltg Table'!$B$4:$G$92,6,0) -> 0 | O36: =VLOOKUP($A36,'2022 Stds Ltg Table'!$B$4:$I$92,7,0) -> None | P36: =VLOOKUP($A36,'2022 Stds Ltg Table'!$B$4:$I$92,8,0) -> 0 | Q36: 150 | R36: 150 | S36: 0 | T36: 0 | U36: 20 | V36: 200 | W36: 1.5 | X36: 2 | Y36: Health | Z36: 1 | AA36: 0 | AB36: 0 | AC36: 335
A37: ='2022 Stds Ltg Table'!B77 -> High-Rise Residential Living Spaces | B37: NA | C37: 5 | D37: 0.5 | E37: 245 | F37: 155 | G37: 0.5 | H37: RULE Spc:DwellingUnitXGalPerDay | I37: Gas | J37: =VLOOKUP($A37,'2022 Stds Ltg Table'!$B$4:$G$92,2,0) -> na | K37: =VLOOKUP($A37,'2022 Stds Ltg Table'!$B$4:$G$92,3,0) -> None | L37: =VLOOKUP($A37,'2022 Stds Ltg Table'!$B$4:$G$92,4,0) -> 0 | M37: =VLOOKUP($A37,'2022 Stds Ltg Table'!$B$4:$G$92,5,0) -> None | N37: =VLOOKUP($A37,'2022 Stds Ltg Table'!$B$4:$G$92,6,0) -> 0 | O37: =VLOOKUP($A37,'2022 Stds Ltg Table'!$B$4:$I$92,7,0) -> None | P37: =VLOOKUP($A37,'2022 Stds Ltg Table'!$B$4:$I$92,8,0) -> 0 | Q37: 150 | R37: 150 | S37: 0.6824 | T37: 0 | U37: 20 | V37: 200 | W37: 1.5 | X37: 2 | Y37: ResidentialLiving | Z37: 0 | AA37: 1 | AB37: 0 | AC37: 336
A38: ='2022 Stds Ltg Table'!B37 -> Hotel Function Area | B38: Lodging - Multipurpose assembly | C38: 142.85714 | D38: 0.5 | E38: 250 | F38: 200 | G38: 0.5 | H38: 0.096 | I38: Gas | J38: =VLOOKUP($A38,'2022 Stds Ltg Table'!$B$4:$G$92,2,0) -> 0.85 | K38: =VLOOKUP($A38,'2022 Stds Ltg Table'!$B$4:$G$92,3,0) -> Decorative/Display | L38: =VLOOKUP($A38,'2022 Stds Ltg Table'!$B$4:$G$92,4,0) -> 0.25 | M38: =VLOOKUP($A38,'2022 Stds Ltg Table'!$B$4:$G$92,5,0) -> None | N38: =VLOOKUP($A38,'2022 Stds Ltg Table'!$B$4:$G$92,6,0) -> 0 | O38: =VLOOKUP($A38,'2022 Stds Ltg Table'!$B$4:$I$92,7,0) -> None | P38: =VLOOKUP($A38,'2022 Stds Ltg Table'!$B$4:$I$92,8,0) -> 0 | Q38: 150 | R38: 150 | S38: 0 | T38: 0 | U38: 50 | V38: 300 | W38: 1.5 | X38: 2 | Y38: Assembly | Z38: 0 | AA38: 0 | AB38: 0 | AC38: 337
A39: ='2022 Stds Ltg Table'!B78 -> Hotel/Motel Guest Room | B39: Lodging - Bedroom/living room | C39: 5 | D39: 0.5 | E39: 245 | F39: 155 | G39: 0.5 | H39: 4.48 | I39: Gas | J39: =VLOOKUP($A39,'2022 Stds Ltg Table'!$B$4:$G$92,2,0) -> na | K39: =VLOOKUP($A39,'2022 Stds Ltg Table'!$B$4:$G$92,3,0) -> None | L39: =VLOOKUP($A39,'2022 Stds Ltg Table'!$B$4:$G$92,4,0) -> 0 | M39: =VLOOKUP($A39,'2022 Stds Ltg Table'!$B$4:$G$92,5,0) -> None | N39: =VLOOKUP($A39,'2022 Stds Ltg Table'!$B$4:$G$92,6,0) -> 0 | O39: =VLOOKUP($A39,'2022 Stds Ltg Table'!$B$4:$I$92,7,0) -> None | P39: =VLOOKUP($A39,'2022 Stds Ltg Table'!$B$4:$I$92,8,0) -> 0 | Q39: 150 | R39: 150 | S39: 0 | T39: 0 | U39: 20 | V39: 200 | W39: 1.5 | X39: 2 | Y39: ResidentialLiving | Z39: 0 | AA39: 0 | AB39: 0 | AC39: 338
A40: ='2022 Stds Ltg Table'!B38 -> Kitchen/Food Preparation Area | B40: Food Service - Kitchen (cooking) | C40: 5 | D40: 0.5 | E40: 275 | F40: 475 | G40: 1.5 | H40: 0.578 | I40: Gas | J40: =VLOOKUP($A40,'2022 Stds Ltg Table'!$B$4:$G$92,2,0) -> 0.95 | K40: =VLOOKUP($A40,'2022 Stds Ltg Table'!$B$4:$G$92,3,0) -> None | L40: =VLOOKUP($A40,'2022 Stds Ltg Table'!$B$4:$G$92,4,0) -> 0 | M40: =VLOOKUP($A40,'2022 Stds Ltg Table'!$B$4:$G$92,5,0) -> None | N40: =VLOOKUP($A40,'2022 Stds Ltg Table'!$B$4:$G$92,6,0) -> 0 | O40: =VLOOKUP($A40,'2022 Stds Ltg Table'!$B$4:$I$92,7,0) -> None | P40: =VLOOKUP($A40,'2022 Stds Ltg Table'!$B$4:$I$92,8,0) -> 0 | Q40: 150 | R40: 150 | S40: 17.53768 | T40: 1.12 | U40: 100 | V40: 500 | W40: 1.5 | X40: 2 | Y40: Restaurant | Z40: 1 | AA40: 0 | AB40: 1 | AC40: 339
A41: ='2022 Stds Ltg Table'!B79 -> Kitchenette or Residential Kitchen | B41: Exhaust - Kitchenettes | C41: 5 | D41: 0.5 | E41: 275 | F41: 475 | G41: 1 | H41: 0.36 | I41: Gas | J41: =VLOOKUP($A41,'2022 Stds Ltg Table'!$B$4:$G$92,2,0) -> 0.95 | K41: =VLOOKUP($A41,'2022 Stds Ltg Table'!$B$4:$G$92,3,0) -> None | L41: =VLOOKUP($A41,'2022 Stds Ltg Table'!$B$4:$G$92,4,0) -> 0 | M41: =VLOOKUP($A41,'2022 Stds Ltg Table'!$B$4:$G$92,5,0) -> None | N41: =VLOOKUP($A41,'2022 Stds Ltg Table'!$B$4:$G$92,6,0) -> 0 | O41: =VLOOKUP($A41,'2022 Stds Ltg Table'!$B$4:$I$92,7,0) -> None | P41: =VLOOKUP($A41,'2022 Stds Ltg Table'!$B$4:$I$92,8,0) -> 0 | Q41: 150 | R41: 150 | S41: 3 | T41: 0.5 | U41: 100 | V41: 500 | W41: 1.5 | X41: 2 | Y41: Office | Z41: 1 | AA41: 0 | AB41: 0 | AC41: 340
A42: ='2022 Stds Ltg Table'!B39 -> Laboratory, Scientific | B42: Education - University/college laboratories | C42: 10 | D42: 0.5 | E42: 250 | F42: 200 | G42: 2 | H42: 0.18 | I42: Gas | J42: =VLOOKUP($A42,'2022 Stds Ltg Table'!$B$4:$G$92,2,0) -> 0.9 | K42: =VLOOKUP($A42,'2022 Stds Ltg Table'!$B$4:$G$92,3,0) -> SpecializedTaskWork (Note 8) | L42: =VLOOKUP($A42,'2022 Stds Ltg Table'!$B$4:$G$92,4,0) -> 0.35 | M42: =VLOOKUP($A42,'2022 Stds Ltg Table'!$B$4:$G$92,5,0) -> None | N42: =VLOOKUP($A42,'2022 Stds Ltg Table'!$B$4:$G$92,6,0) -> 0 | O42: =VLOOKUP($A42,'2022 Stds Ltg Table'!$B$4:$I$92,7,0) -> None | P42: =VLOOKUP($A42,'2022 Stds Ltg Table'!$B$4:$I$92,8,0) -> 0 | Q42: 150 | R42: 150 | S42: 12.69264 | T42: 0.28 | U42: 500 | V42: 1000 | W42: 1.5 | X42: 2 | Y42: Laboratory | Z42: 1 | AA42: 1 | AB42: 0 | AC42: 341
A43: ='2022 Stds Ltg Table'!B40 -> Laundry Area | B43: Lodging - Laundry rooms, central | C43: 10 | D43: 0.5 | E43: 250 | F43: 250 | G43: 3 | H43: 0.578 | I43: Gas | J43: =VLOOKUP($A43,'2022 Stds Ltg Table'!$B$4:$G$92,2,0) -> 0.45 | K43: =VLOOKUP($A43,'2022 Stds Ltg Table'!$B$4:$G$92,3,0) -> None | L43: =VLOOKUP($A43,'2022 Stds Ltg Table'!$B$4:$G$92,4,0) -> 0 | M43: =VLOOKUP($A43,'2022 Stds Ltg Table'!$B$4:$G$92,5,0) -> None | N43: =VLOOKUP($A43,'2022 Stds Ltg Table'!$B$4:$G$92,6,0) -> 0 | O43: =VLOOKUP($A43,'2022 Stds Ltg Table'!$B$4:$I$92,7,0) -> None | P43: =VLOOKUP($A43,'2022 Stds Ltg Table'!$B$4:$I$92,8,0) -> 0 | Q43: 8760 | R43: 8760 | S43: 0.75064 | T43: 0 | U43: 100 | V43: 300 | W43: 1.5 | X43: 2 | Y43: ResidentialCommon | Z43: 1 | AA43: 0 | AB43: 1 | AC43: 342
A44: ='2022 Stds Ltg Table'!B41 -> Library (Reading Area) | B44: Assembly - Libraries (reading rooms and stack areas) | C44: 20 | D44: 0.5 | E44: 250 | F44: 200 | G44: 1.5 | H44: 0.18 | I44: Electric | J44: =VLOOKUP($A44,'2022 Stds Ltg Table'!$B$4:$G$92,2,0) -> 0.8 | K44: =VLOOKUP($A44,'2022 Stds Ltg Table'!$B$4:$G$92,3,0) -> Decorative/Display | L44: =VLOOKUP($A44,'2022 Stds Ltg Table'!$B$4:$G$92,4,0) -> 0.25 | M44: =VLOOKUP($A44,'2022 Stds Ltg Table'!$B$4:$G$92,5,0) -> None | N44: =VLOOKUP($A44,'2022 Stds Ltg Table'!$B$4:$G$92,6,0) -> 0 | O44: =VLOOKUP($A44,'2022 Stds Ltg Table'!$B$4:$I$92,7,0) -> None | P44: =VLOOKUP($A44,'2022 Stds Ltg Table'!$B$4:$I$92,8,0) -> 0 | Q44: 150 | R44: 150 | S44: 0 | T44: 0 | U44: 150 | V44: 500 | W44: 1.5 | X44: 2 | Y44: Office | Z44: 1 | AA44: 0 | AB44: 0 | AC44: 343
A45: ='2022 Stds Ltg Table'!B42 -> Library (Stacks Area) | B45: Assembly - Libraries (reading rooms and stack areas) | C45: 10 | D45: 0.5 | E45: 250 | F45: 200 | G45: 1.5 | H45: 0.18 | I45: Electric | J45: =VLOOKUP($A45,'2022 Stds Ltg Table'!$B$4:$G$92,2,0) -> 1 | K45: =VLOOKUP($A45,'2022 Stds Ltg Table'!$B$4:$G$92,3,0) -> None | L45: =VLOOKUP($A45,'2022 Stds Ltg Table'!$B$4:$G$92,4,0) -> 0 | M45: =VLOOKUP($A45,'2022 Stds Ltg Table'!$B$4:$G$92,5,0) -> None | N45: =VLOOKUP($A45,'2022 Stds Ltg Table'!$B$4:$G$92,6,0) -> 0 | O45: =VLOOKUP($A45,'2022 Stds Ltg Table'!$B$4:$I$92,7,0) -> None | P45: =VLOOKUP($A45,'2022 Stds Ltg Table'!$B$4:$I$92,8,0) -> 0 | Q45: 150 | R45: 150 | S45: 0 | T45: 0 | U45: 200 | V45: 300 | W45: 1 | X45: 4 | Y45: Office | Z45: 1 | AA45: 0 | AB45: 0 | AC45: 344
A46: ='2022 Stds Ltg Table'!B43 -> Lobby, Main Entry | B46: Office - Main entry lobbies | C46: 66.666667 | D46: 0.5 | E46: 250 | F46: 250 | G46: 0.5 | H46: 0.09 | I46: Electric | J46: =VLOOKUP($A46,'2022 Stds Ltg Table'!$B$4:$G$92,2,0) -> 0.7 | K46: =VLOOKUP($A46,'2022 Stds Ltg Table'!$B$4:$G$92,3,0) -> Decorative/Display | L46: =VLOOKUP($A46,'2022 Stds Ltg Table'!$B$4:$G$92,4,0) -> 0.25 | M46: =VLOOKUP($A46,'2022 Stds Ltg Table'!$B$4:$G$92,5,0) -> None | N46: =VLOOKUP($A46,'2022 Stds Ltg Table'!$B$4:$G$92,6,0) -> 0 | O46: =VLOOKUP($A46,'2022 Stds Ltg Table'!$B$4:$I$92,7,0) -> None | P46: =VLOOKUP($A46,'2022 Stds Ltg Table'!$B$4:$I$92,8,0) -> 0 | Q46: 150 | R46: 150 | S46: 0 | T46: 0 | U46: 50 | V46: 200 | W46: 1.5 | X46: 2 | Y46: Assembly | Z46: 1 | AA46: 0 | AB46: 1 | AC46: 345
A47: ='2022 Stds Ltg Table'!B44 -> Locker Room | B47: Exhaust - Locker rooms for athletic or industrial facilities | C47: 20 | D47: 0.5 | E47: 255 | F47: 475 | G47: 0.5 | H47: 0.578 | I47: Gas | J47: =VLOOKUP($A47,'2022 Stds Ltg Table'!$B$4:$G$92,2,0) -> 0.45 | K47: =VLOOKUP($A47,'2022 Stds Ltg Table'!$B$4:$G$92,3,0) -> None | L47: =VLOOKUP($A47,'2022 Stds Ltg Table'!$B$4:$G$92,4,0) -> 0 | M47: =VLOOKUP($A47,'2022 Stds Ltg Table'!$B$4:$G$92,5,0) -> None | N47: =VLOOKUP($A47,'2022 Stds Ltg Table'!$B$4:$G$92,6,0) -> 0 | O47: =VLOOKUP($A47,'2022 Stds Ltg Table'!$B$4:$I$92,7,0) -> None | P47: =VLOOKUP($A47,'2022 Stds Ltg Table'!$B$4:$I$92,8,0) -> 0 | Q47: 8760 | R47: 8760 | S47: 0 | T47: 0 | U47: 20 | V47: 200 | W47: 1 | X47: 4 | Y47: Assembly | Z47: 1 | AA47: 0 | AB47: 1 | AC47: 346
A48: ='2022 Stds Ltg Table'!B45 -> Lounge, Breakroom, or Waiting Area | B48: General - Break rooms | C48: 66.666667 | D48: 0.5 | E48: 275 | F48: 275 | G48: 1 | H48: 0.09 | I48: Gas | J48: =VLOOKUP($A48,'2022 Stds Ltg Table'!$B$4:$G$92,2,0) -> 0.55 | K48: =VLOOKUP($A48,'2022 Stds Ltg Table'!$B$4:$G$92,3,0) -> Decorative/Display | L48: =VLOOKUP($A48,'2022 Stds Ltg Table'!$B$4:$G$92,4,0) -> 0.25 | M48: =VLOOKUP($A48,'2022 Stds Ltg Table'!$B$4:$G$92,5,0) -> None | N48: =VLOOKUP($A48,'2022 Stds Ltg Table'!$B$4:$G$92,6,0) -> 0 | O48: =VLOOKUP($A48,'2022 Stds Ltg Table'!$B$4:$I$92,7,0) -> None | P48: =VLOOKUP($A48,'2022 Stds Ltg Table'!$B$4:$I$92,8,0) -> 0 | Q48: 150 | R48: 150 | S48: 0 | T48: 0 | U48: 40 | V48: 300 | W48: 1.5 | X48: 2 | Y48: Assembly | Z48: 1 | AA48: 1 | AB48: 0 | AC48: 347
A49: ='2022 Stds Ltg Table'!B46 -> Manufacturing, Commercial & Industrial Work Area (Low Bay) | B49: Misc - General manufacturing (excludes heavy industrial and process using chemicals) | C49: 10 | D49: 0.5 | E49: 275 | F49: 475 | G49: 1 | H49: 0.18 | I49: Gas | J49: =VLOOKUP($A49,'2022 Stds Ltg Table'!$B$4:$G$92,2,0) -> 0.6 | K49: =VLOOKUP($A49,'2022 Stds Ltg Table'!$B$4:$G$92,3,0) -> DetailedTaskWork (Note 7) | L49: =VLOOKUP($A49,'2022 Stds Ltg Table'!$B$4:$G$92,4,0) -> 0.2 | M49: =VLOOKUP($A49,'2022 Stds Ltg Table'!$B$4:$G$92,5,0) -> None | N49: =VLOOKUP($A49,'2022 Stds Ltg Table'!$B$4:$G$92,6,0) -> 0 | O49: =VLOOKUP($A49,'2022 Stds Ltg Table'!$B$4:$I$92,7,0) -> None | P49: =VLOOKUP($A49,'2022 Stds Ltg Table'!$B$4:$I$92,8,0) -> 0 | Q49: 150 | R49: 150 | S49: 0 | T49: 0 | U49: 300 | V49: 1000 | W49: 1.5 | X49: 2 | Y49: Manufacturing | Z49: 1 | AA49: 0 | AB49: 0 | AC49: 348
A50: ='2022 Stds Ltg Table'!B47 -> Manufacturing, Commercial & Industrial Work Area (High Bay) | B50: Misc - General manufacturing (excludes heavy industrial and process using chemicals) | C50: 10 | D50: 0.5 | E50: 275 | F50: 475 | G50: 1 | H50: 0.18 | I50: Gas | J50: =VLOOKUP($A50,'2022 Stds Ltg Table'!$B$4:$G$92,2,0) -> 0.65 | K50: =VLOOKUP($A50,'2022 Stds Ltg Table'!$B$4:$G$92,3,0) -> DetailedTaskWork (Note 7) | L50: =VLOOKUP($A50,'2022 Stds Ltg Table'!$B$4:$G$92,4,0) -> 0.2 | M50: =VLOOKUP($A50,'2022 Stds Ltg Table'!$B$4:$G$92,5,0) -> None | N50: =VLOOKUP($A50,'2022 Stds Ltg Table'!$B$4:$G$92,6,0) -> 0 | O50: =VLOOKUP($A50,'2022 Stds Ltg Table'!$B$4:$I$92,7,0) -> None | P50: =VLOOKUP($A50,'2022 Stds Ltg Table'!$B$4:$I$92,8,0) -> 0 | Q50: 150 | R50: 150 | S50: 0 | T50: 0 | U50: 300 | V50: 1000 | W50: 1.5 | X50: 2 | Y50: Manufacturing | Z50: 1 | AA50: 0 | AB50: 0 | AC50: 349
A51: ='2022 Stds Ltg Table'!B48 -> Manufacturing, Commercial & Industrial Work Area (Precision) | B51: Misc - General manufacturing (excludes heavy industrial and process using chemicals) | C51: 10 | D51: 0.5 | E51: 250 | F51: 200 | G51: 1 | H51: 0.18 | I51: Gas | J51: =VLOOKUP($A51,'2022 Stds Ltg Table'!$B$4:$G$92,2,0) -> 0.85 | K51: =VLOOKUP($A51,'2022 Stds Ltg Table'!$B$4:$G$92,3,0) -> PrecisionWork (Note 9) | L51: =VLOOKUP($A51,'2022 Stds Ltg Table'!$B$4:$G$92,4,0) -> 0.7 | M51: =VLOOKUP($A51,'2022 Stds Ltg Table'!$B$4:$G$92,5,0) -> None | N51: =VLOOKUP($A51,'2022 Stds Ltg Table'!$B$4:$G$92,6,0) -> 0 | O51: =VLOOKUP($A51,'2022 Stds Ltg Table'!$B$4:$I$92,7,0) -> None | P51: =VLOOKUP($A51,'2022 Stds Ltg Table'!$B$4:$I$92,8,0) -> 0 | Q51: 150 | R51: 150 | S51: 0 | T51: 0 | U51: 1000 | V51: 3000 | W51: 1.5 | X51: 2 | Y51: Manufacturing | Z51: 1 | AA51: 0 | AB51: 0 | AC51: 350
A52: ='2022 Stds Ltg Table'!B49 -> Museum Area (Exhibition/Display) | B52: Assembly - Museums/galleries | C52: 66.666667 | D52: 0.5 | E52: 250 | F52: 250 | G52: 1.5 | H52: 0.09 | I52: Electric | J52: =VLOOKUP($A52,'2022 Stds Ltg Table'!$B$4:$G$92,2,0) -> 0.6 | K52: =VLOOKUP($A52,'2022 Stds Ltg Table'!$B$4:$G$92,3,0) -> Decorative/Display | L52: =VLOOKUP($A52,'2022 Stds Ltg Table'!$B$4:$G$92,4,0) -> 0.45 | M52: =VLOOKUP($A52,'2022 Stds Ltg Table'!$B$4:$G$92,5,0) -> None | N52: =VLOOKUP($A52,'2022 Stds Ltg Table'!$B$4:$G$92,6,0) -> 0 | O52: =VLOOKUP($A52,'2022 Stds Ltg Table'!$B$4:$I$92,7,0) -> None | P52: =VLOOKUP($A52,'2022 Stds Ltg Table'!$B$4:$I$92,8,0) -> 0 | Q52: 150 | R52: 150 | S52: 0 | T52: 0 | U52: 150 | V52: 500 | W52: 1.5 | X52: 2 | Y52: Assembly | Z52: 1 | AA52: 0 | AB52: 0 | AC52: 351
A53: ='2022 Stds Ltg Table'!B50 -> Museum Area (Restoration Room) | B53: Misc - General manufacturing (excludes heavy industrial and process using chemicals) | C53: 10 | D53: 0.5 | E53: 250 | F53: 250 | G53: 1.5 | H53: 0.18 | I53: Electric | J53: =VLOOKUP($A53,'2022 Stds Ltg Table'!$B$4:$G$92,2,0) -> 0.7 | K53: =VLOOKUP($A53,'2022 Stds Ltg Table'!$B$4:$G$92,3,0) -> DetailedTaskWork (Note 7) | L53: =VLOOKUP($A53,'2022 Stds Ltg Table'!$B$4:$G$92,4,0) -> 0.35 | M53: =VLOOKUP($A53,'2022 Stds Ltg Table'!$B$4:$G$92,5,0) -> None | N53: =VLOOKUP($A53,'2022 Stds Ltg Table'!$B$4:$G$92,6,0) -> 0 | O53: =VLOOKUP($A53,'2022 Stds Ltg Table'!$B$4:$I$92,7,0) -> None | P53: =VLOOKUP($A53,'2022 Stds Ltg Table'!$B$4:$I$92,8,0) -> 0 | Q53: 150 | R53: 150 | S53: 0 | T53: 0 | U53: 150 | V53: 500 | W53: 1.5 | X53: 2 | Y53: Assembly | Z53: 1 | AA53: 0 | AB53: 0 | AC53: 352
... A65: ='2022 Stds Ltg Table'!B62 -> Storage, Commercial/Industrial (Warehouse) | B65: Misc - Warehouses | C65: 2 | D65: 0.5 | E65: 275 | F65: 475 | G65: 0.2 | H65: 0.18 | I65: Electric | J65: =VLOOKUP($A65,'2022 Stds Ltg Table'!$B$4:$G$92,2,0) -> 0.4 | K65: =VLOOKUP($A65,'2022 Stds Ltg Table'!$B$4:$G$92,3,0) -> None | L65: =VLOOKUP($A65,'2022 Stds Ltg Table'!$B$4:$G$92,4,0) -> 0 | M65: =VLOOKUP($A65,'2022 Stds Ltg Table'!$B$4:$G$92,5,0) -> None | N65: =VLOOKUP($A65,'2022 Stds Ltg Table'!$B$4:$G$92,6,0) -> 0 | O65: =VLOOKUP($A65,'2022 Stds Ltg Table'!$B$4:$I$92,7,0) -> None | P65: =VLOOKUP($A65,'2022 Stds Ltg Table'!$B$4:$I$92,8,0) -> 0 | Q65: 8760 | R65: 8760 | S65: 0 | T65: 0 | U65: 50 | V65: 300 | W65: 1.5 | X65: 2 | Y65: Warehouse | Z65: 1 | AA65: 0 | AB65: 0 | AC65: 364
A66: ='2022 Stds Ltg Table'!B84 -> Storage, Commercial/Industrial (Refrigerated) | B66: Misc - Freezer and refrigerated spaces (<50F) | C66: 0 | D66: 0.5 | E66: 275 | F66: 475 | G66: 0.2 | H66: 0.18 | I66: Electric | J66: =VLOOKUP($A66,'2022 Stds Ltg Table'!$B$4:$G$92,2,0) -> 0.4 | K66: =VLOOKUP($A66,'2022 Stds Ltg Table'!$B$4:$G$92,3,0) -> None | L66: =VLOOKUP($A66,'2022 Stds Ltg Table'!$B$4:$G$92,4,0) -> 0 | M66: =VLOOKUP($A66,'2022 Stds Ltg Table'!$B$4:$G$92,5,0) -> None | N66: =VLOOKUP($A66,'2022 Stds Ltg Table'!$B$4:$G$92,6,0) -> 0 | O66: =VLOOKUP($A66,'2022 Stds Ltg Table'!$B$4:$I$92,7,0) -> None | P66: =VLOOKUP($A66,'2022 Stds Ltg Table'!$B$4:$I$92,8,0) -> 0 | Q66: 8760 | R66: 8760 | S66: 0 | T66: 10 | U66: 50 | V66: 300 | W66: 1.5 | X66: 2 | Y66: Warehouse | Z66: 1 | AA66: 0 | AB66: 0 | AC66: 365
A67: ='2022 Stds Ltg Table'!B63 -> Storage, Commercial/Industrial (Shipping & Handling) | B67: Misc - Shipping/receiving | C67: 5 | D67: 0.5 | E67: 275 | F67: 475 | G67: 0.5 | H67: 0.18 | I67: Electric | J67: =VLOOKUP($A67,'2022 Stds Ltg Table'!$B$4:$G$92,2,0) -> 0.6 | K67: =VLOOKUP($A67,'2022 Stds Ltg Table'!$B$4:$G$92,3,0) -> None | L67: =VLOOKUP($A67,'2022 Stds Ltg Table'!$B$4:$G$92,4,0) -> 0 | M67: =VLOOKUP($A67,'2022 Stds Ltg Table'!$B$4:$G$92,5,0) -> None | N67: =VLOOKUP($A67,'2022 Stds Ltg Table'!$B$4:$G$92,6,0) -> 0 | O67: =VLOOKUP($A67,'2022 Stds Ltg Table'!$B$4:$I$92,7,0) -> None | P67: =VLOOKUP($A67,'2022 Stds Ltg Table'!$B$4:$I$92,8,0) -> 0 | Q67: 8760 | R67: 8760 | S67: 0 | T67: 0 | U67: 50 | V67: 300 | W67: 1.5 | X67: 2 | Y67: Warehouse | Z67: 1 | AA67: 0 | AB67: 0 | AC67: 366
A68: Storage, General | B68: Misc - All others | C68: 0 | D68: 0.5 | E68: 250 | F68: 200 | G68: 0.2 | H68: 0 | I68: Electric | J68: =VLOOKUP($A68,'2022 Stds Ltg Table'!$B$4:$G$92,2,0) -> 0.4 | K68: =VLOOKUP($A68,'2022 Stds Ltg Table'!$B$4:$G$92,3,0) -> None | L68: =VLOOKUP($A68,'2022 Stds Ltg Table'!$B$4:$G$92,4,0) -> 0 | M68: =VLOOKUP($A68,'2022 Stds Ltg Table'!$B$4:$G$92,5,0) -> None | N68: =VLOOKUP($A68,'2022 Stds Ltg Table'!$B$4:$G$92,6,0) -> 0 | O68: =VLOOKUP($A68,'2022 Stds Ltg Table'!$B$4:$I$92,7,0) -> None | P68: =VLOOKUP($A68,'2022 Stds Ltg Table'!$B$4:$I$92,8,0) -> 0 | Q68: 8760 | R68: 8760 | S68: 0 | T68: 0 | U68: 50 | V68: 300 | W68: 1.5 | X68: 2 | Y68: Warehouse | Z68: =Z65 -> 1 | AA68: 1 | AB68: =AB65 -> 0 | AC68: 380
A69: ='2022 Stds Ltg Table'!B64 -> Sports Arena - Playing Area (> 5,000 Spectators) | B69: Sports/Entertainment - Gym, sports arena (play area) | C69: 80 | D69: 0.5 | E69: 255 | F69: 875 | G69: 0.5 | H69: 0.18 | I69: Gas | J69: =VLOOKUP($A69,'2022 Stds Ltg Table'!$B$4:$G$92,2,0) -> 2.25 | K69: =VLOOKUP($A69,'2022 Stds Ltg Table'!$B$4:$G$92,3,0) -> None | L69: =VLOOKUP($A69,'2022 Stds Ltg Table'!$B$4:$G$92,4,0) -> 0 | M69: =VLOOKUP($A69,'2022 Stds Ltg Table'!$B$4:$G$92,5,0) -> None | N69: =VLOOKUP($A69,'2022 Stds Ltg Table'!$B$4:$G$92,6,0) -> 0 | O69: =VLOOKUP($A69,'2022 Stds Ltg Table'!$B$4:$I$92,7,0) -> None | P69: =VLOOKUP($A69,'2022 Stds Ltg Table'!$B$4:$I$92,8,0) -> 0 | Q69: 150 | R69: 150 | S69: 0 | T69: 0 | U69: 150 | V69: 400 | W69: 1.5 | X69: 2 | Y69: Retail | Z69: 0 | AA69: 0 | AB69: 0 | AC69: 367
A70: ='2022 Stds Ltg Table'!B65 -> Sports Arena - Playing Area (2,000 - 5,000 Spectators) | B70: Sports/Entertainment - Gym, sports arena (play area) | C70: 66.666667 | D70: 0.5 | E70: 255 | F70: 875 | G70: 0.5 | H70: 0.18 | I70: Gas | J70: =VLOOKUP($A70,'2022 Stds Ltg Table'!$B$4:$G$92,2,0) -> 1.45 | K70: =VLOOKUP($A70,'2022 Stds Ltg Table'!$B$4:$G$92,3,0) -> None | L70: =VLOOKUP($A70,'2022 Stds Ltg Table'!$B$4:$G$92,4,0) -> 0 | M70: =VLOOKUP($A70,'2022 Stds Ltg Table'!$B$4:$G$92,5,0) -> None | N70: =VLOOKUP($A70,'2022 Stds Ltg Table'!$B$4:$G$92,6,0) -> 0 | O70: =VLOOKUP($A70,'2022 Stds Ltg Table'!$B$4:$I$92,7,0) -> None | P70: =VLOOKUP($A70,'2022 Stds Ltg Table'!$B$4:$I$92,8,0) -> 0 | Q70: 150 | R70: 150 | S70: 0 | T70: 0 | U70: 150 | V70: 400 | W70: 1.5 | X70: 2 | Y70: Retail | Z70: 0 | AA70: 0 | AB70: 0 | AC70: 368
A71: ='2022 Stds Ltg Table'!B66 -> Sports Arena - Playing Area (< 2,000 Spectators) | B71: Sports/Entertainment - Gym, sports arena (play area) | C71: 50 | D71: 0.5 | E71: 255 | F71: 875 | G71: 0.5 | H71: 0.18 | I71: Gas | J71: =VLOOKUP($A71,'2022 Stds Ltg Table'!$B$4:$G$92,2,0) -> 1.1 | K71: =VLOOKUP($A71,'2022 Stds Ltg Table'!$B$4:$G$92,3,0) -> None | L71: =VLOOKUP($A71,'2022 Stds Ltg Table'!$B$4:$G$92,4,0) -> 0 | M71: =VLOOKUP($A71,'2022 Stds Ltg Table'!$B$4:$G$92,5,0) -> None | N71: =VLOOKUP($A71,'2022 Stds Ltg Table'!$B$4:$G$92,6,0) -> 0 | O71: =VLOOKUP($A71,'2022 Stds Ltg Table'!$B$4:$I$92,7,0) -> None | P71: =VLOOKUP($A71,'2022 Stds Ltg Table'!$B$4:$I$92,8,0) -> 0 | Q71: 150 | R71: 150 | S71: 0 | T71: 0 | U71: 150 | V71: 400 | W71: 1.5 | X71: 2 | Y71: Retail | Z71: 0 | AA71: 0 | AB71: 0 | AC71: 369
A72: ='2022 Stds Ltg Table'!B67 -> Sports Arena - Playing Area (Recreational) | B72: Sports/Entertainment - Gym, sports arena (play area) | C72: 20 | D72: 0.5 | E72: 255 | F72: 875 | G72: 0.2 | H72: 0.9 | I72: Gas | J72: =VLOOKUP($A72,'2022 Stds Ltg Table'!$B$4:$G$92,2,0) -> 0.75 | K72: =VLOOKUP($A72,'2022 Stds Ltg Table'!$B$4:$G$92,3,0) -> None | L72: =VLOOKUP($A72,'2022 Stds Ltg Table'!$B$4:$G$92,4,0) -> 0 | M72: =VLOOKUP($A72,'2022 Stds Ltg Table'!$B$4:$G$92,5,0) -> None | N72: =VLOOKUP($A72,'2022 Stds Ltg Table'!$B$4:$G$92,6,0) -> 0 | O72: =VLOOKUP($A72,'2022 Stds Ltg Table'!$B$4:$I$92,7,0) -> None | P72: =VLOOKUP($A72,'2022 Stds Ltg Table'!$B$4:$I$92,8,0) -> 0 | Q72: 150 | R72: 150 | S72: 0 | T72: 0 | U72: 150 | V72: 400 | W72: 1.5 | X72: 2 | Y72: Retail | Z72: 1 | AA72: 0 | AB72: 0 | AC72: 370
A73: ='2022 Stds Ltg Table'!B68 -> Theater Area (Motion Picture) | B73: Assembly - Auditorium seating area | C73: 142.85714 | D73: 0.5 | E73: 245 | F73: 105 | G73: 0.5 | H73: 0.09 | I73: Electric | J73: =VLOOKUP($A73,'2022 Stds Ltg Table'!$B$4:$G$92,2,0) -> 0.5 | K73: =VLOOKUP($A73,'2022 Stds Ltg Table'!$B$4:$G$92,3,0) -> Decorative/Display | L73: =VLOOKUP($A73,'2022 Stds Ltg Table'!$B$4:$G$92,4,0) -> 0.25 | M73: =VLOOKUP($A73,'2022 Stds Ltg Table'!$B$4:$G$92,5,0) -> None | N73: =VLOOKUP($A73,'2022 Stds Ltg Table'!$B$4:$G$92,6,0) -> 0 | O73: =VLOOKUP($A73,'2022 Stds Ltg Table'!$B$4:$I$92,7,0) -> None | P73: =VLOOKUP($A73,'2022 Stds Ltg Table'!$B$4:$I$92,8,0) -> 0 | Q73: 150 | R73: 150 | S73: 0 | T73: 0 | U73: 2 | V73: 50 | W73: 1.5 | X73: 2 | Y73: Assembly | Z73: 1 | AA73: 0 | AB73: 0 | AC73: 371
A74: ='2022 Stds Ltg Table'!B69 -> Theater Area (Performance) | B74: Sports/Entertainment - Stages, studios | C74: 142.85714 | D74: 0.5 | E74: 245 | F74: 105 | G74: 0.5 | H74: 0.09 | I74: Gas | J74: =VLOOKUP($A74,'2022 Stds Ltg Table'!$B$4:$G$92,2,0) -> 0.8 | K74: =VLOOKUP($A74,'2022 Stds Ltg Table'!$B$4:$G$92,3,0) -> Decorative/Display | L74: =VLOOKUP($A74,'2022 Stds Ltg Table'!$B$4:$G$92,4,0) -> 0.25 | M74: =VLOOKUP($A74,'2022 Stds Ltg Table'!$B$4:$G$92,5,0) -> None | N74: =VLOOKUP($A74,'2022 Stds Ltg Table'!$B$4:$G$92,6,0) -> 0 | O74: =VLOOKUP($A74,'2022 Stds Ltg Table'!$B$4:$I$92,7,0) -> None | P74: =VLOOKUP($A74,'2022 Stds Ltg Table'!$B$4:$I$92,8,0) -> 0 | Q74: 150 | R74: 150 | S74: 0 | T74: 0 | U74: 2 | V74: 200 | W74: 1.5 | X74: 2 | Y74: Assembly | Z74: 1 | AA74: 0 | AB74: 1 | AC74: 372
A75: ='2022 Stds Ltg Table'!B70 -> Transportation Function (Baggage Area) | B75: Misc - Transportation waiting | C75: 33.333333 | D75: 0.5 | E75: 250 | F75: 250 | G75: 0.5 | H75: 0.18 | I75: Electric | J75: =VLOOKUP($A75,'2022 Stds Ltg Table'!$B$4:$G$92,2,0) -> 0.4 | K75: =VLOOKUP($A75,'2022 Stds Ltg Table'!$B$4:$G$92,3,0) -> None | L75: =VLOOKUP($A75,'2022 Stds Ltg Table'!$B$4:$G$92,4,0) -> 0 | M75: =VLOOKUP($A75,'2022 Stds Ltg Table'!$B$4:$G$92,5,0) -> None | N75: =VLOOKUP($A75,'2022 Stds Ltg Table'!$B$4:$G$92,6,0) -> 0 | O75: =VLOOKUP($A75,'2022 Stds Ltg Table'!$B$4:$I$92,7,0) -> None | P75: =VLOOKUP($A75,'2022 Stds Ltg Table'!$B$4:$I$92,8,0) -> 0 | Q75: 150 | R75: 150 | S75: 0 | T75: 0 | U75: 50 | V75: 500 | W75: 1.5 | X75: 2 | Y75: Assembly | Z75: 0 | AA75: 0 | AB75: 0 | AC75: 373
A76: ='2022 Stds Ltg Table'!B71 -> Transportation Function (Ticketing Area) | B76: Misc - Transportation waiting | C76: 33.333333 | D76: 0.5 | E76: 250 | F76: 250 | G76: 0.5 | H76: 0.18 | I76: Electric | J76: =VLOOKUP($A76,'2022 Stds Ltg Table'!$B$4:$G$92,2,0) -> 0.45 | K76: =VLOOKUP($A76,'2022 Stds Ltg Table'!$B$4:$G$92,3,0) -> Decorative/Display | L76: =VLOOKUP($A76,'2022 Stds Ltg Table'!$B$4:$G$92,4,0) -> 0.2 | M76: =VLOOKUP($A76,'2022 Stds Ltg Table'!$B$4:$G$92,5,0) -> None | N76: =VLOOKUP($A76,'2022 Stds Ltg Table'!$B$4:$G$92,6,0) -> 0 | O76: =VLOOKUP($A76,'2022 Stds Ltg Table'!$B$4:$I$92,7,0) -> None | P76: =VLOOKUP($A76,'2022 Stds Ltg Table'!$B$4:$I$92,8,0) -> 0 | Q76: 150 | R76: 150 | S76: 0 | T76: 0 | U76: 50 | V76: 500 | W76: 1.5 | X76: 2 | Y76: Assembly | Z76: 0 | AA76: 0 | AB76: 0 | AC76: 374
A77: ='2022 Stds Ltg Table'!B80 -> Unleased Tenant Area | B77: Office - Office space | C77: 10 | D77: 0.5 | E77: 250 | F77: 200 | G77: 1.5 | H77: 0.18 | I77: Electric | J77: =VLOOKUP($A77,'2022 Stds Ltg Table'!$B$4:$G$92,2,0) -> 0.6 | K77: =VLOOKUP($A77,'2022 Stds Ltg Table'!$B$4:$G$92,3,0) -> None | L77: =VLOOKUP($A77,'2022 Stds Ltg Table'!$B$4:$G$92,4,0) -> 0 | M77: =VLOOKUP($A77,'2022 Stds Ltg Table'!$B$4:$G$92,5,0) -> None | N77: =VLOOKUP($A77,'2022 Stds Ltg Table'!$B$4:$G$92,6,0) -> 0 | O77: =VLOOKUP($A77,'2022 Stds Ltg Table'!$B$4:$I$92,7,0) -> None | P77: =VLOOKUP($A77,'2022 Stds Ltg Table'!$B$4:$I$92,8,0) -> 0 | Q77: 150 | R77: 150 | S77: 0 | T77: 0 | U77: 75 | V77: 500 | W77: 1 | X77: 4 | Y77: Office | Z77: 1 | AA77: 0 | AB77: 1 | AC77: 375
A78: ='2022 Stds Ltg Table'!B81 -> Unoccupied-Exclude from Gross Floor Area | B78: NA | C78: 0 | D78: 0.5 | E78: 250 | F78: 250 | G78: 0 | H78: 0 | I78: Gas | J78: =VLOOKUP($A78,'2022 Stds Ltg Table'!$B$4:$G$92,2,0) -> 0 | K78: =VLOOKUP($A78,'2022 Stds Ltg Table'!$B$4:$G$92,3,0) -> None | L78: =VLOOKUP($A78,'2022 Stds Ltg Table'!$B$4:$G$92,4,0) -> 0 | M78: =VLOOKUP($A78,'2022 Stds Ltg Table'!$B$4:$G$92,5,0) -> None | N78: =VLOOKUP($A78,'2022 Stds Ltg Table'!$B$4:$G$92,6,0) -> 0 | O78: =VLOOKUP($A78,'2022 Stds Ltg Table'!$B$4:$I$92,7,0) -> None | P78: =VLOOKUP($A78,'2022 Stds Ltg Table'!$B$4:$I$92,8,0) -> 0 | Q78: 8760 | R78: 8760 | S78: 0 | T78: 0 | U78: 0 | V78: 0 | W78: 0 | X78: 0 | Y78: Unoccupied | Z78: 1 | AA78: 1 | AB78: 0 | AC78: 376
A79: ='2022 Stds Ltg Table'!B82 -> Unoccupied-Include in Gross Floor Area | B79: NA | C79: 0 | D79: 0.5 | E79: 250 | F79: 250 | G79: 0 | H79: 0 | I79: Gas | J79: =VLOOKUP($A79,'2022 Stds Ltg Table'!$B$4:$G$92,2,0) -> 0 | K79: =VLOOKUP($A79,'2022 Stds Ltg Table'!$B$4:$G$92,3,0) -> None | L79: =VLOOKUP($A79,'2022 Stds Ltg Table'!$B$4:$G$92,4,0) -> 0 | M79: =VLOOKUP($A79,'2022 Stds Ltg Table'!$B$4:$G$92,5,0) -> None | N79: =VLOOKUP($A79,'2022 Stds Ltg Table'!$B$4:$G$92,6,0) -> 0 | O79: =VLOOKUP($A79,'2022 Stds Ltg Table'!$B$4:$I$92,7,0) -> None | P79: =VLOOKUP($A79,'2022 Stds Ltg Table'!$B$4:$I$92,8,0) -> 0 | Q79: 8760 | R79: 8760 | S79: 0 | T79: 0 | U79: 0 | V79: 0 | W79: 0 | X79: 0 | Y79: Unoccupied | Z79: 1 | AA79: 1 | AB79: 0 | AC79: 377
A80: ='2022 Stds Ltg Table'!B72 -> Videoconferencing Studio | B80: General - Conference/meeting | C80: 10 | D80: 0.5 | E80: 250 | F80: 200 | G80: 1.5 | H80: 0.18 | I80: Electric | J80: =VLOOKUP($A80,'2022 Stds Ltg Table'!$B$4:$G$92,2,0) -> 0.9 | K80: =VLOOKUP($A80,'2022 Stds Ltg Table'!$B$4:$G$92,3,0) -> Videoconferencing (Note 14) | L80: =VLOOKUP($A80,'2022 Stds Ltg Table'!$B$4:$G$92,4,0) -> 1 | M80: =VLOOKUP($A80,'2022 Stds Ltg Table'!$B$4:$G$92,5,0) -> None | N80: =VLOOKUP($A80,'2022 Stds Ltg Table'!$B$4:$G$92,6,0) -> 0 | O80: =VLOOKUP($A80,'2022 Stds Ltg Table'!$B$4:$I$92,7,0) -> None | P80: =VLOOKUP($A80,'2022 Stds Ltg Table'!$B$4:$I$92,8,0) -> 0 | Q80: 150 | R80: 150 | S80: 0 | T80: 0 | U80: 300 | V80: 300 | W80: 1.5 | X80: 2 | Y80: Office | Z80: 1 | AA80: 0 | AB80: 0 | AC80: 378
A81: ='2022 Stds Ltg Table'!B73 -> All other | B81: Misc - All others | C81: 10 | D81: 0.5 | E81: 250 | F81: 200 | G81: 1 | H81: 0.18 | I81: Gas | J81: =VLOOKUP($A81,'2022 Stds Ltg Table'!$B$4:$G$92,2,0) -> 0.4 | K81: =VLOOKUP($A81,'2022 Stds Ltg Table'!$B$4:$G$92,3,0) -> None | L81: =VLOOKUP($A81,'2022 Stds Ltg Table'!$B$4:$G$92,4,0) -> 0 | M81: =VLOOKUP($A81,'2022 Stds Ltg Table'!$B$4:$G$92,5,0) -> None | N81: =VLOOKUP($A81,'2022 Stds Ltg Table'!$B$4:$G$92,6,0) -> 0 | O81: =VLOOKUP($A81,'2022 Stds Ltg Table'!$B$4:$I$92,7,0) -> None | P81: =VLOOKUP($A81,'2022 Stds Ltg Table'!$B$4:$I$92,8,0) -> 0 | Q81: 150 | R81: 150 | S81: 0 | T81: 0 | U81: 100 | V81: 300 | W81: 1.5 | X81: 2 | Y81: Office | Z81: 1 | AA81: 0 | AB81: 1 | AC81: 301
A82: Conference, Multipurpose and Meeting Area | B82: General - Conference/meeting | C82: 66.666667 | D82: 0.5 | E82: 245 | F82: 155 | G82: 1 | H82: 0.09 | I82: Electric | J82: =VLOOKUP($A82,'2022 Stds Ltg Table'!$B$4:$G$92,2,0) -> 0.75 | K82: =VLOOKUP($A82,'2022 Stds Ltg Table'!$B$4:$G$92,3,0) -> Decorative/Display | L82: =VLOOKUP($A82,'2022 Stds Ltg Table'!$B$4:$G$92,4,0) -> 0.3 | M82: =VLOOKUP($A82,'2022 Stds Ltg Table'!$B$4:$G$92,5,0) -> None | N82: =VLOOKUP($A82,'2022 Stds Ltg Table'!$B$4:$G$92,6,0) -> 0 | O82: =VLOOKUP($A82,'2022 Stds Ltg Table'!$B$4:$I$92,7,0) -> None | P82: =VLOOKUP($A82,'2022 Stds Ltg Table'!$B$4:$I$92,8,0) -> 0 | Q82: 150 | R82: 150 | S82: 0 | T82: 0 | U82: 30 | V82: 300 | W82: 1.5 | X82: 2 | Y82: Assembly | Z82: =Z19 -> 1 | AA82: =AA19 -> 0 | AB82: =AB19 -> 1 | AC82: 381
A83: ='2022 Stds Ltg Table'!B89 -> Storage | B83: Misc - All others | C83: 0 | D83: 0.5 | E83: 250 | F83: 200 | G83: 0.2 | H83: 0 | I83: Electric | J83: =VLOOKUP($A83,'2022 Stds Ltg Table'!$B$4:$G$92,2,0) -> 0.45 | K83: =VLOOKUP($A83,'2022 Stds Ltg Table'!$B$4:$G$92,3,0) -> None | L83: =VLOOKUP($A83,'2022 Stds Ltg Table'!$B$4:$G$92,4,0) -> 0 | M83: =VLOOKUP($A83,'2022 Stds Ltg Table'!$B$4:$G$92,5,0) -> None | N83: =VLOOKUP($A83,'2022 Stds Ltg Table'!$B$4:$G$92,6,0) -> 0 | O83: =VLOOKUP($A83,'2022 Stds Ltg Table'!$B$4:$I$92,7,0) -> None | P83: =VLOOKUP($A83,'2022 Stds Ltg Table'!$B$4:$I$92,8,0) -> 0 | Q83: 8760 | R83: 8760 | S83: 0 | T83: 0 | U83: 50 | V83: 300 | W83: 1.5 | X83: 2 | Y83: Warehouse | Z83: 0 | AA83: 1 | AB83: =AB65 -> 0 | AC83: 379
A84: ='2022 Stds Ltg Table'!B90 -> Health Care / Assisted Living (Nurse's Station) | B84: Misc - All others | C84: 10 | D84: 0.5 | E84: 250 | F84: 200 | G84: 1.5 | H84: 0.24 | I84: Gas | J84: =VLOOKUP($A84,'2022 Stds Ltg Table'!$B$4:$G$92,2,0) -> 0.75 | K84: =VLOOKUP($A84,'2022 Stds Ltg Table'!$B$4:$G$92,3,0) -> TunableWhiteOrDimToWarm (Note 10) | L84: =VLOOKUP($A84,'2022 Stds Ltg Table'!$B$4:$G$92,4,0) -> 0.1 | M84: =VLOOKUP($A84,'2022 Stds Ltg Table'!$B$4:$G$92,5,0) -> None | N84: =VLOOKUP($A84,'2022 Stds Ltg Table'!$B$4:$G$92,6,0) -> 0 | O84: =VLOOKUP($A84,'2022 Stds Ltg Table'!$B$4:$I$92,7,0) -> None | P84: =VLOOKUP($A84,'2022 Stds Ltg Table'!$B$4:$I$92,8,0) -> 0 | Q84: 150 | R84: 150 | S84: 0 | T84: 0 | U84: 75 | V84: 500 | W84: 1.5 | X84: 2 | Y84: ResidentialCommon | Z84: 0 | AA84: =AA32 -> 0 | AB84: =AB32 -> 0 | AC84: 382
A85: ='2022 Stds Ltg Table'!B91 -> Health Care / Assisted Living (Physical Therapy Room) | B85: Misc - All others | C85: 10 | D85: 0.5 | E85: 250 | F85: 200 | G85: 1.5 | H85: 0.24 | I85: Electric | J85: =VLOOKUP($A85,'2022 Stds Ltg Table'!$B$4:$G$92,2,0) -> 0.85 | K85: =VLOOKUP($A85,'2022 Stds Ltg Table'!$B$4:$G$92,3,0) -> TunableWhiteOrDimToWarm (Note 10) | L85: =VLOOKUP($A85,'2022 Stds Ltg Table'!$B$4:$G$92,4,0) -> 0.1 | M85: =VLOOKUP($A85,'2022 Stds Ltg Table'!$B$4:$G$92,5,0) -> None | N85: =VLOOKUP($A85,'2022 Stds Ltg Table'!$B$4:$G$92,6,0) -> 0 | O85: =VLOOKUP($A85,'2022 Stds Ltg Table'!$B$4:$I$92,7,0) -> None | P85: =VLOOKUP($A85,'2022 Stds Ltg Table'!$B$4:$I$92,8,0) -> 0 | Q85: 150 | R85: 150 | S85: 0 | T85: 0 | U85: 75 | V85: 500 | W85: 1.5 | X85: 2 | Y85: ResidentialCommon | Z85: 0 | AA85: =AA35 -> 0 | AB85: =AB35 -> 0 | AC85: 383

Sheet 2025 SpaceFuncData-Input
K1: 3 | L1: =K1+1 -> 4 | M1: =L1+1 -> 5 | N1: =M1+1 -> 6 | O1: =N1+1 -> 7 | P1: =O1+1 -> 8 | Q1: =P1+1 -> 9 | R1: =Q1+1 -> 10 | S1: =R1+1 -> 11 | ... AD1: =AC1+1 -> 22
A2: 2025 NACM Space Type | B2: Default Ventilation Space Function | C2: People | D2: Occupancy Vent Factor | E2: Sensible heat | F2: Latent heat | G2: Receptacle | H2: Hot water | I2: Baseline WtrHtr Type | J2: Lighting | K2: ="Additional Allowance For "&'2025 Stds Ltg Table'!D3 -> Additional Allowance For Enclosed Space Of Ceiling Hight > 10' (W/ft2) | L2: ="Additional Allowance For "&'2025 Stds Ltg Table'!E3 -> Additional Allowance For Detailed Task Work (W/ft2) | M2: ="Additional Allowance For "&'2025 Stds Ltg Table'!F3 -> Additional Allowance For Specialized Task Work (W/ft2) | N2: ="Additional Allowance For "&'2025 Stds Ltg Table'!G3 -> Additional Allowance For Decorative/Display (W/ft2) | O2: ="Additional Allowance For "&'2025 Stds Ltg Table'!H3 -> Additional Allowance For Precision Work (W/ft2) | P2: ="Additional Allowance For "&'2025 Stds Ltg Table'!I3 -> Additional Allowance For White Or Chalk Board (W/ft) | Q2: ="Additional Allowance For "&'2025 Stds Ltg Table'!J3 -> Additional Allowance For Video Conferencing Studio Lighting (W/ft2) | R2: ="Additional Allowance For "&'2025 Stds Ltg Table'!K3 -> Additional Allowance For ATM/Ticket Machine (W) | ... AD2: ="Additional Allowance For "&'2025 Stds Ltg Table'!W3 -> Additional Allowance For Valuable Display Case (W/ft2) | AE2: Cooling UMLH Limit | AF2: Heating UMLH Limit | AG2: Gas Equipment Power | AH2: Refrig Load | AI2: Illuminance Setpoint for Daylighting | AK2: Primary Sidelit Daylighting Zone Setpoint Adjustment Factor | AL2: Secondary Sidelit Daylighting Zone Setpoint Adjustment Factor | AM2: Schedule | AN2: Eligible for Healthcare | AO2: Excluded From Predominant Calculation | AP2: FuncSchGrp is Editable | AQ2: SpcFuncIdx (For Perf Reporting) | AR2: Notes
C3: # per 1000 ft² | E3: per person | F3: per person | G3: Load W/ft² | H3: Gal/h per person | J3: W/ft² | L3: W/ft², unless noted otherwise | N3: W/ft², unless noted otherwise | P3: W/ft², unless noted otherwise | Q3: W/ft² | AE3: Hrs | AF3: Hrs | AG3: Btu/h-ft2 | AH3: W/ft2 | AI3: Min (lux) | AJ3: Max (lux)
A4: ='2025 Stds Ltg Table'!B4 -> Aging Eye/Low-vision (Corridor Area) (Note 11) | B4: =VLOOKUP($A4,'2022 SpaceFuncData-Input'!$A$3:$I$82,2,FALSE) -> General - Corridors | C4: =VLOOKUP($A4,'2022 SpaceFuncData-Input'!$A$3:$I$85,3,FALSE) -> 10 | D4: =VLOOKUP($A4,'2022 SpaceFuncData-Input'!$A$3:$I$85,4,FALSE) -> 0.5 | E4: =VLOOKUP($A4,'2022 SpaceFuncData-Input'!$A$3:$I$85,5,FALSE) -> 250 | F4: =VLOOKUP($A4,'2022 SpaceFuncData-Input'!$A$3:$I$85,6,FALSE) -> 250 | G4: =VLOOKUP($A4,'2022 SpaceFuncData-Input'!$A$3:$I$85,7,FALSE) -> 0 | H4: =VLOOKUP($A4,'2022 SpaceFuncData-Input'!$A$3:$I$85,8,FALSE) -> 0 | I4: =VLOOKUP($A4,'2022 SpaceFuncData-Input'!$A$3:$I$85,9,FALSE) -> Electric | J4: =VLOOKUP($A4,'2025 Stds Ltg Table'!$B$4:$V$92,2,0) -> 0.7 | K4: =VLOOKUP($A4,'2025 Stds Ltg Table'!$B$4:$W$92,K$1,0) -> 0 | L4: =VLOOKUP($A4,'2025 Stds Ltg Table'!$B$4:$W$92,L$1,0) -> 0 | M4: =VLOOKUP($A4,'2025 Stds Ltg Table'!$B$4:$W$92,M$1,0) -> 0 | N4: =VLOOKUP($A4,'2025 Stds Ltg Table'!$B$4:$W$92,N$1,0) -> 0.3 | O4: =VLOOKUP($A4,'2025 Stds Ltg Table'!$B$4:$W$92,O$1,0) -> 0 | P4: =VLOOKUP($A4,'2025 Stds Ltg Table'!$B$4:$W$92,P$1,0) -> 0 | Q4: =VLOOKUP($A4,'2025 Stds Ltg Table'!$B$4:$W$92,Q$1,0) -> 0 | R4: =VLOOKUP($A4,'2025 Stds Ltg Table'!$B$4:$W$92,R$1,0) -> 0 | ... AD4: =VLOOKUP($A4,'2025 Stds Ltg Table'!$B$4:$W$92,AD$1,0) -> 0 | AE4: =VLOOKUP($A4,'2022 SpaceFuncData-Input'!$A$3:$Y$82,17,FALSE) -> 150 | AF4: =VLOOKUP($A4,'2022 SpaceFuncData-Input'!$A$3:$Y$82,18,FALSE) -> 150 | AG4: =VLOOKUP($A4,'2022 SpaceFuncData-Input'!$A$3:$Y$82,19,FALSE) -> 0 | AH4: =VLOOKUP($A4,'2022 SpaceFuncData-Input'!$A$3:$Y$82,20,FALSE) -> 0 | AI4: =VLOOKUP($A4,'2022 SpaceFuncData-Input'!$A$3:$Y$82,21,FALSE) -> 50 | AJ4: =VLOOKUP($A4,'2022 SpaceFuncData-Input'!$A$3:$Y$82,22,FALSE) -> 100 | AK4: =VLOOKUP($A4,'2022 SpaceFuncData-Input'!$A$3:$Y$82,23,FALSE) -> 1.5 | AL4: =VLOOKUP($A4,'2022 SpaceFuncData-Input'!$A$3:$Y$82,24,FALSE) -> 2 | AM4: =VLOOKUP($A4,'2022 SpaceFuncData-Input'!$A$3:$Y$82,25,FALSE) -> Office | AN4: 1 | AO4: 1 | AP4: 0 | AQ4: 302
A5: ='2025 Stds Ltg Table'!B5 -> Aging Eye/Low-vision (Dining) (Note 11) | B5: =VLOOKUP($A5,'2022 SpaceFuncData-Input'!$A$3:$I$82,2,FALSE) -> Food Service - Cafeteria/fast-food dining | C5: =VLOOKUP($A5,'2022 SpaceFuncData-Input'!$A$3:$I$85,3,FALSE) -> 66.666667 | D5: =VLOOKUP($A5,'2022 SpaceFuncData-Input'!$A$3:$I$85,4,FALSE) -> 0.5 | E5: =VLOOKUP($A5,'2022 SpaceFuncData-Input'!$A$3:$I$85,5,FALSE) -> 275 | F5: =VLOOKUP($A5,'2022 SpaceFuncData-Input'!$A$3:$I$85,6,FALSE) -> 275 | G5: =VLOOKUP($A5,'2022 SpaceFuncData-Input'!$A$3:$I$85,7,FALSE) -> 0.5 | H5: =VLOOKUP($A5,'2022 SpaceFuncData-Input'!$A$3:$I$85,8,FALSE) -> 0.578 | I5: =VLOOKUP($A5,'2022 SpaceFuncData-Input'!$A$3:$I$85,9,FALSE) -> Gas | J5: =VLOOKUP($A5,'2025 Stds Ltg Table'!$B$4:$V$92,2,0) -> 0.8 | K5: =VLOOKUP($A5,'2025 Stds Ltg Table'!$B$4:$W$92,K$1,0) -> 0 | L5: =VLOOKUP($A5,'2025 Stds Ltg Table'!$B$4:$W$92,L$1,0) -> 0 | M5: =VLOOKUP($A5,'2025 Stds Ltg Table'!$B$4:$W$92,M$1,0) -> 0 | N5: =VLOOKUP($A5,'2025 Stds Ltg Table'!$B$4:$W$92,N$1,0) -> 0.3 | O5: =VLOOKUP($A5,'2025 Stds Ltg Table'!$B$4:$W$92,O$1,0) -> 0 | P5: =VLOOKUP($A5,'2025 Stds Ltg Table'!$B$4:$W$92,P$1,0) -> 0 | Q5: =VLOOKUP($A5,'2025 Stds Ltg Table'!$B$4:$W$92,Q$1,0) -> 0 | R5: =VLOOKUP($A5,'2025 Stds Ltg Table'!$B$4:$W$92,R$1,0) -> 0 | ... AD5: =VLOOKUP($A5,'2025 Stds Ltg Table'!$B$4:$W$92,AD$1,0) -> 0 | AE5: =VLOOKUP($A5,'2022 SpaceFuncData-Input'!$A$3:$Y$82,17,FALSE) -> 150 | AF5: =VLOOKUP($A5,'2022 SpaceFuncData-Input'!$A$3:$Y$82,18,FALSE) -> 150 | AG5: =VLOOKUP($A5,'2022 SpaceFuncData-Input'!$A$3:$Y$82,19,FALSE) -> 0 | AH5: =VLOOKUP($A5,'2022 SpaceFuncData-Input'!$A$3:$Y$82,20,FALSE) -> 0.25 | AI5: =VLOOKUP($A5,'2022 SpaceFuncData-Input'!$A$3:$Y$82,21,FALSE) -> 50 | AJ5: =VLOOKUP($A5,'2022 SpaceFuncData-Input'!$A$3:$Y$82,22,FALSE) -> 200 | AK5: =VLOOKUP($A5,'2022 SpaceFuncData-Input'!$A$3:$Y$82,23,FALSE) -> 1.5 | AL5: =VLOOKUP($A5,'2022 SpaceFuncData-Input'!$A$3:$Y$82,24,FALSE) -> 2 | AM5: =VLOOKUP($A5,'2022 SpaceFuncData-Input'!$A$3:$Y$82,25,FALSE) -> Restaurant | AN5: 1 | AO5: 0 | AP5: 0 | AQ5: 303
A6: ='2025 Stds Ltg Table'!B6 -> Aging Eye/Low-vision (Lobby, Main Entry) (Note 11) | B6: =VLOOKUP($A6,'2022 SpaceFuncData-Input'!$A$3:$I$82,2,FALSE) -> Office - Main entry lobbies | C6: =VLOOKUP($A6,'2022 SpaceFuncData-Input'!$A$3:$I$85,3,FALSE) -> 66.666667 | D6: =VLOOKUP($A6,'2022 SpaceFuncData-Input'!$A$3:$I$85,4,FALSE) -> 0.5 | E6: =VLOOKUP($A6,'2022 SpaceFuncData-Input'!$A$3:$I$85,5,FALSE) -> 250 | F6: =VLOOKUP($A6,'2022 SpaceFuncData-Input'!$A$3:$I$85,6,FALSE) -> 250 | G6: =VLOOKUP($A6,'2022 SpaceFuncData-Input'!$A$3:$I$85,7,FALSE) -> 0.5 | H6: =VLOOKUP($A6,'2022 SpaceFuncData-Input'!$A$3:$I$85,8,FALSE) -> 0.09 | I6: =VLOOKUP($A6,'2022 SpaceFuncData-Input'!$A$3:$I$85,9,FALSE) -> Electric | J6: =VLOOKUP($A6,'2025 Stds Ltg Table'!$B$4:$V$92,2,0) -> 0.85 | K6: =VLOOKUP($A6,'2025 Stds Ltg Table'!$B$4:$W$92,K$1,0) -> 0 | L6: =VLOOKUP($A6,'2025 Stds Ltg Table'!$B$4:$W$92,L$1,0) -> 0 | M6: =VLOOKUP($A6,'2025 Stds Ltg Table'!$B$4:$W$92,M$1,0) -> 0 | N6: =VLOOKUP($A6,'2025 Stds Ltg Table'!$B$4:$W$92,N$1,0) -> 0.3 | O6: =VLOOKUP($A6,'2025 Stds Ltg Table'!$B$4:$W$92,O$1,0) -> 0 | P6: =VLOOKUP($A6,'2025 Stds Ltg Table'!$B$4:$W$92,P$1,0) -> 0 | Q6: =VLOOKUP($A6,'2025 Stds Ltg Table'!$B$4:$W$92,Q$1,0) -> 0 | R6: =VLOOKUP($A6,'2025 Stds Ltg Table'!$B$4:$W$92,R$1,0) -> 0 | ... AD6: =VLOOKUP($A6,'2025 Stds Ltg Table'!$B$4:$W$92,AD$1,0) -> 0 | AE6: =VLOOKUP($A6,'2022 SpaceFuncData-Input'!$A$3:$Y$82,17,FALSE) -> 150 | AF6: =VLOOKUP($A6,'2022 SpaceFuncData-Input'!$A$3:$Y$82,18,FALSE) -> 150 | AG6: =VLOOKUP($A6,'2022 SpaceFuncData-Input'!$A$3:$Y$82,19,FALSE) -> 0 | AH6: =VLOOKUP($A6,'2022 SpaceFuncData-Input'!$A$3:$Y$82,20,FALSE) -> 0 | AI6: =VLOOKUP($A6,'2022 SpaceFuncData-Input'!$A$3:$Y$82,21,FALSE) -> 50 | AJ6: =VLOOKUP($A6,'2022 SpaceFuncData-Input'!$A$3:$Y$82,22,FALSE) -> 200 | AK6: =VLOOKUP($A6,'2022 SpaceFuncData-Input'!$A$3:$Y$82,23,FALSE) -> 1.5 | AL6: =VLOOKUP($A6,'2022 SpaceFuncData-Input'!$A$3:$Y$82,24,FALSE) -> 2 | AM6: =VLOOKUP($A6,'2022 SpaceFuncData-Input'!$A$3:$Y$82,25,FALSE) -> Assembly | AN6: 1 | AO6: 0 | AP6: 0 | AQ6: 304
A7: ='2025 Stds Ltg Table'!B7 -> Aging Eye/Low-vision (Lounge/Waiting Area) (Note 11) | B7: =VLOOKUP($A7,'2022 SpaceFuncData-Input'!$A$3:$I$82,2,FALSE) -> General - Break rooms | C7: =VLOOKUP($A7,'2022 SpaceFuncData-Input'!$A$3:$I$85,3,FALSE) -> 66.666667 | D7: =VLOOKUP($A7,'2022 SpaceFuncData-Input'!$A$3:$I$85,4,FALSE) -> 0.5 | E7: =VLOOKUP($A7,'2022 SpaceFuncData-Input'!$A$3:$I$85,5,FALSE) -> 275 | F7: =VLOOKUP($A7,'2022 SpaceFuncData-Input'!$A$3:$I$85,6,FALSE) -> 275 | G7: =VLOOKUP($A7,'2022 SpaceFuncData-Input'!$A$3:$I$85,7,FALSE) -> 1 | H7: =VLOOKUP($A7,'2022 SpaceFuncData-Input'!$A$3:$I$85,8,FALSE) -> 0.09 | I7: =VLOOKUP($A7,'2022 SpaceFuncData-Input'!$A$3:$I$85,9,FALSE) -> Gas | J7: =VLOOKUP($A7,'2025 Stds Ltg Table'!$B$4:$V$92,2,0) -> 0.8 | K7: =VLOOKUP($A7,'2025 Stds Ltg Table'!$B$4:$W$92,K$1,0) -> 0 | L7: =VLOOKUP($A7,'2025 Stds Ltg Table'!$B$4:$W$92,L$1,0) -> 0 | M7: =VLOOKUP($A7,'2025 Stds Ltg Table'!$B$4:$W$92,M$1,0) -> 0 | N7: =VLOOKUP($A7,'2025 Stds Ltg Table'!$B$4:$W$92,N$1,0) -> 0.3 | O7: =VLOOKUP($A7,'2025 Stds Ltg Table'!$B$4:$W$92,O$1,0) -> 0 | P7: =VLOOKUP($A7,'2025 Stds Ltg Table'!$B$4:$W$92,P$1,0) -> 0 | Q7: =VLOOKUP($A7,'2025 Stds Ltg Table'!$B$4:$W$92,Q$1,0) -> 0 | R7: =VLOOKUP($A7,'2025 Stds Ltg Table'!$B$4:$W$92,R$1,0) -> 0 | ... AD7: =VLOOKUP($A7,'2025 Stds Ltg Table'!$B$4:$W$92,AD$1,0) -> 0 | AE7: =VLOOKUP($A7,'2022 SpaceFuncData-Input'!$A$3:$Y$82,17,FALSE) -> 150 | AF7: =VLOOKUP($A7,'2022 SpaceFuncData-Input'!$A$3:$Y$82,18,FALSE) -> 150 | AG7: =VLOOKUP($A7,'2022 SpaceFuncData-Input'!$A$3:$Y$82,19,FALSE) -> 0 | AH7: =VLOOKUP($A7,'2022 SpaceFuncData-Input'!$A$3:$Y$82,20,FALSE) -> 0 | AI7: =VLOOKUP($A7,'2022 SpaceFuncData-Input'!$A$3:$Y$82,21,FALSE) -> 40 | AJ7: =VLOOKUP($A7,'2022 SpaceFuncData-Input'!$A$3:$Y$82,22,FALSE) -> 300 | AK7: =VLOOKUP($A7,'2022 SpaceFuncData-Input'!$A$3:$Y$82,23,FALSE) -> 1.5 | AL7: =VLOOKUP($A7,'2022 SpaceFuncData-Input'!$A$3:$Y$82,24,FALSE) -> 2 | AM7: =VLOOKUP($A7,'2022 SpaceFuncData-Input'!$A$3:$Y$82,25,FALSE) -> Assembly | AN7: 1 | AO7: 0 | AP7: 0 | AQ7: 305
A8: ='2025 Stds Ltg Table'!B8 -> Aging Eye/Low-vision (Multipurpose Room) (Note 11) | B8: =VLOOKUP($A8,'2022 SpaceFuncData-Input'!$A$3:$I$82,2,FALSE) -> General - Conference/meeting | C8: =VLOOKUP($A8,'2022 SpaceFuncData-Input'!$A$3:$I$85,3,FALSE) -> 66.666667 | D8: =VLOOKUP($A8,'2022 SpaceFuncData-Input'!$A$3:$I$85,4,FALSE) -> 0.5 | E8: =VLOOKUP($A8,'2022 SpaceFuncData-Input'!$A$3:$I$85,5,FALSE) -> 245 | F8: =VLOOKUP($A8,'2022 SpaceFuncData-Input'!$A$3:$I$85,6,FALSE) -> 155 | G8: =VLOOKUP($A8,'2022 SpaceFuncData-Input'!$A$3:$I$85,7,FALSE) -> 1 | H8: =VLOOKUP($A8,'2022 SpaceFuncData-Input'!$A$3:$I$85,8,FALSE) -> 0.09 | I8: =VLOOKUP($A8,'2022 SpaceFuncData-Input'!$A$3:$I$85,9,FALSE) -> Electric | J8: =VLOOKUP($A8,'2025 Stds Ltg Table'!$B$4:$V$92,2,0) -> 0.85 | K8: =VLOOKUP($A8,'2025 Stds Ltg Table'!$B$4:$W$92,K$1,0) -> 0 | L8: =VLOOKUP($A8,'2025 Stds Ltg Table'!$B$4:$W$92,L$1,0) -> 0 | M8: =VLOOKUP($A8,'2025 Stds Ltg Table'!$B$4:$W$92,M$1,0) -> 0 | N8: =VLOOKUP($A8,'2025 Stds Ltg Table'!$B$4:$W$92,N$1,0) -> 0.3 | O8: =VLOOKUP($A8,'2025 Stds Ltg Table'!$B$4:$W$92,O$1,0) -> 0 | P8: =VLOOKUP($A8,'2025 Stds Ltg Table'!$B$4:$W$92,P$1,0) -> 0 | Q8: =VLOOKUP($A8,'2025 Stds Ltg Table'!$B$4:$W$92,Q$1,0) -> 0 | R8: =VLOOKUP($A8,'2025 Stds Ltg Table'!$B$4:$W$92,R$1,0) -> 0 | ... AD8: =VLOOKUP($A8,'2025 Stds Ltg Table'!$B$4:$W$92,AD$1,0) -> 0 | AE8: =VLOOKUP($A8,'2022 SpaceFuncData-Input'!$A$3:$Y$82,17,FALSE) -> 150 | AF8: =VLOOKUP($A8,'2022 SpaceFuncData-Input'!$A$3:$Y$82,18,FALSE) -> 150 | AG8: =VLOOKUP($A8,'2022 SpaceFuncData-Input'!$A$3:$Y$82,19,FALSE) -> 0 | AH8: =VLOOKUP($A8,'2022 SpaceFuncData-Input'!$A$3:$Y$82,20,FALSE) -> 0 | AI8: =VLOOKUP($A8,'2022 SpaceFuncData-Input'!$A$3:$Y$82,21,FALSE) -> 30 | AJ8: =VLOOKUP($A8,'2022 SpaceFuncData-Input'!$A$3:$Y$82,22,FALSE) -> 300 | AK8: =VLOOKUP($A8,'2022 SpaceFuncData-Input'!$A$3:$Y$82,23,FALSE) -> 1.5 | AL8: =VLOOKUP($A8,'2022 SpaceFuncData-Input'!$A$3:$Y$82,24,FALSE) -> 2 | AM8: =VLOOKUP($A8,'2022 SpaceFuncData-Input'!$A$3:$Y$82,25,FALSE) -> Assembly | AN8: 1 | AO8: 0 | AP8: 0 | AQ8: 306
A9: ='2025 Stds Ltg Table'!B9 -> Aging Eye/Low-vision (Religious Worship Area) (Note 11) | B9: =VLOOKUP($A9,'2022 SpaceFuncData-Input'!$A$3:$I$82,2,FALSE) -> Assembly - Places of religious worship | C9: =VLOOKUP($A9,'2022 SpaceFuncData-Input'!$A$3:$I$85,3,FALSE) -> 142.85714 | D9: =VLOOKUP($A9,'2022 SpaceFuncData-Input'!$A$3:$I$85,4,FALSE) -> 0.5 | E9: =VLOOKUP($A9,'2022 SpaceFuncData-Input'!$A$3:$I$85,5,FALSE) -> 245 | F9: =VLOOKUP($A9,'2022 SpaceFuncData-Input'!$A$3:$I$85,6,FALSE) -> 105 | G9: =VLOOKUP($A9,'2022 SpaceFuncData-Input'!$A$3:$I$85,7,FALSE) -> 0.5 | H9: =VLOOKUP($A9,'2022 SpaceFuncData-Input'!$A$3:$I$85,8,FALSE) -> 0.09 | I9: =VLOOKUP($A9,'2022 SpaceFuncData-Input'!$A$3:$I$85,9,FALSE) -> Electric | J9: =VLOOKUP($A9,'2025 Stds Ltg Table'!$B$4:$V$92,2,0) -> 1 | K9: =VLOOKUP($A9,'2025 Stds Ltg Table'!$B$4:$W$92,K$1,0) -> 0 | L9: =VLOOKUP($A9,'2025 Stds Ltg Table'!$B$4:$W$92,L$1,0) -> 0 | M9: =VLOOKUP($A9,'2025 Stds Ltg Table'!$B$4:$W$92,M$1,0) -> 0 | N9: =VLOOKUP($A9,'2025 Stds Ltg Table'!$B$4:$W$92,N$1,0) -> 0.3 | O9: =VLOOKUP($A9,'2025 Stds Ltg Table'!$B$4:$W$92,O$1,0) -> 0 | P9: =VLOOKUP($A9,'2025 Stds Ltg Table'!$B$4:$W$92,P$1,0) -> 0 | Q9: =VLOOKUP($A9,'2025 Stds Ltg Table'!$B$4:$W$92,Q$1,0) -> 0 | R9: =VLOOKUP($A9,'2025 Stds Ltg Table'!$B$4:$W$92,R$1,0) -> 0 | ... AD9: =VLOOKUP($A9,'2025 Stds Ltg Table'!$B$4:$W$92,AD$1,0) -> 0 | AE9: =VLOOKUP($A9,'2022 SpaceFuncData-Input'!$A$3:$Y$82,17,FALSE) -> 150 | AF9: =VLOOKUP($A9,'2022 SpaceFuncData-Input'!$A$3:$Y$82,18,FALSE) -> 150 | AG9: =VLOOKUP($A9,'2022 SpaceFuncData-Input'!$A$3:$Y$82,19,FALSE) -> 0 | AH9: =VLOOKUP($A9,'2022 SpaceFuncData-Input'!$A$3:$Y$82,20,FALSE) -> 0 | AI9: =VLOOKUP($A9,'2022 SpaceFuncData-Input'!$A$3:$Y$82,21,FALSE) -> 200 | AJ9: =VLOOKUP($A9,'2022 SpaceFuncData-Input'!$A$3:$Y$82,22,FALSE) -> 1500 | AK9: =VLOOKUP($A9,'2022 SpaceFuncData-Input'!$A$3:$Y$82,23,FALSE) -> 1.5 | AL9: =VLOOKUP($A9,'2022 SpaceFuncData-Input'!$A$3:$Y$82,24,FALSE) -> 2 | AM9: =VLOOKUP($A9,'2022 SpaceFuncData-Input'!$A$3:$Y$82,25,FALSE) -> Assembly | AN9: 1 | AO9: 0 | AP9: 0 | AQ9: 307
A10: ='2025 Stds Ltg Table'!B10 -> Aging Eye/Low-vision (Restroom) (Note 11) | B10: =VLOOKUP($A10,'2022 SpaceFuncData-Input'!$A$3:$I$82,2,FALSE) -> Exhaust - Toilets, public | C10: =VLOOKUP($A10,'2022 SpaceFuncData-Input'!$A$3:$I$85,3,FALSE) -> 10 | D10: =VLOOKUP($A10,'2022 SpaceFuncData-Input'!$A$3:$I$85,4,FALSE) -> 0.5 | E10: =VLOOKUP($A10,'2022 SpaceFuncData-Input'!$A$3:$I$85,5,FALSE) -> 250 | F10: =VLOOKUP($A10,'2022 SpaceFuncData-Input'!$A$3:$I$85,6,FALSE) -> 250 | G10: =VLOOKUP($A10,'2022 SpaceFuncData-Input'!$A$3:$I$85,7,FALSE) -> 0 | H10: =VLOOKUP($A10,'2022 SpaceFuncData-Input'!$A$3:$I$85,8,FALSE) -> 0 | I10: =VLOOKUP($A10,'2022 SpaceFuncData-Input'!$A$3:$I$85,9,FALSE) -> Gas | J10: =VLOOKUP($A10,'2025 Stds Ltg Table'!$B$4:$V$92,2,0) -> 1 | K10: =VLOOKUP($A10,'2025 Stds Ltg Table'!$B$4:$W$92,K$1,0) -> 0 | L10: =VLOOKUP($A10,'2025 Stds Ltg Table'!$B$4:$W$92,L$1,0) -> 0 | M10: =VLOOKUP($A10,'2025 Stds Ltg Table'!$B$4:$W$92,M$1,0) -> 0 | N10: =VLOOKUP($A10,'2025 Stds Ltg Table'!$B$4:$W$92,N$1,0) -> 0.2 | O10: =VLOOKUP($A10,'2025 Stds Ltg Table'!$B$4:$W$92,O$1,0) -> 0 | P10: =VLOOKUP($A10,'2025 Stds Ltg Table'!$B$4:$W$92,P$1,0) -> 0 | Q10: =VLOOKUP($A10,'2025 Stds Ltg Table'!$B$4:$W$92,Q$1,0) -> 0 | R10: =VLOOKUP($A10,'2025 Stds Ltg Table'!$B$4:$W$92,R$1,0) -> 0 | ... AD10: =VLOOKUP($A10,'2025 Stds Ltg Table'!$B$4:$W$92,AD$1,0) -> 0 | AE10: =VLOOKUP($A10,'2022 SpaceFuncData-Input'!$A$3:$Y$82,17,FALSE) -> 150 | AF10: =VLOOKUP($A10,'2022 SpaceFuncData-Input'!$A$3:$Y$82,18,FALSE) -> 150 | AG10: =VLOOKUP($A10,'2022 SpaceFuncData-Input'!$A$3:$Y$82,19,FALSE) -> 0 | AH10: =VLOOKUP($A10,'2022 SpaceFuncData-Input'!$A$3:$Y$82,20,FALSE) -> 0 | AI10: =VLOOKUP($A10,'2022 SpaceFuncData-Input'!$A$3:$Y$82,21,FALSE) -> 50 | AJ10: =VLOOKUP($A10,'2022 SpaceFuncData-Input'!$A$3:$Y$82,22,FALSE) -> 100 | AK10: =VLOOKUP($A10,'2022 SpaceFuncData-Input'!$A$3:$Y$82,23,FALSE) -> 1.5 | AL10: =VLOOKUP($A10,'2022 SpaceFuncData-Input'!$A$3:$Y$82,24,FALSE) -> 2 | AM10: =VLOOKUP($A10,'2022 SpaceFuncData-Input'!$A$3:$Y$82,25,FALSE) -> Office | AN10: 1 | AO10: 1 | AP10: 0 | AQ10: 308
A11: ='2025 Stds Ltg Table'!B11 -> Aging Eye/Low-vision (Stairwell) (Note 11) | B11: =VLOOKUP($A11,'2022 SpaceFuncData-Input'!$A$3:$I$82,2,FALSE) -> General - Corridors | C11: =VLOOKUP($A11,'2022 SpaceFuncData-Input'!$A$3:$I$85,3,FALSE) -> 10 | D11: =VLOOKUP($A11,'2022 SpaceFuncData-Input'!$A$3:$I$85,4,FALSE) -> 0.5 | E11: =VLOOKUP($A11,'2022 SpaceFuncData-Input'!$A$3:$I$85,5,FALSE) -> 250 | F11: =VLOOKUP($A11,'2022 SpaceFuncData-Input'!$A$3:$I$85,6,FALSE) -> 250 | G11: =VLOOKUP($A11,'2022 SpaceFuncData-Input'!$A$3:$I$85,7,FALSE) -> 0 | H11: =VLOOKUP($A11,'2022 SpaceFuncData-Input'!$A$3:$I$85,8,FALSE) -> 0 | I11: =VLOOKUP($A11,'2022 SpaceFuncData-Input'!$A$3:$I$85,9,FALSE) -> Electric | J11: =VLOOKUP($A11,'2025 Stds Ltg Table'!$B$4:$V$92,2,0) -> 0.8 | K11: =VLOOKUP($A11,'2025 Stds Ltg Table'!$B$4:$W$92,K$1,0) -> 0 | L11: =VLOOKUP($A11,'2025 Stds Ltg Table'!$B$4:$W$92,L$1,0) -> 0 | M11: =VLOOKUP($A11,'2025 Stds Ltg Table'!$B$4:$W$92,M$1,0) -> 0 | N11: =VLOOKUP($A11,'2025 Stds Ltg Table'!$B$4:$W$92,N$1,0) -> 0.3 | O11: =VLOOKUP($A11,'2025 Stds Ltg Table'!$B$4:$W$92,O$1,0) -> 0 | P11: =VLOOKUP($A11,'2025 Stds Ltg Table'!$B$4:$W$92,P$1,0) -> 0 | Q11: =VLOOKUP($A11,'2025 Stds Ltg Table'!$B$4:$W$92,Q$1,0) -> 0 | R11: =VLOOKUP($A11,'2025 Stds Ltg Table'!$B$4:$W$92,R$1,0) -> 0 | ... AD11: =VLOOKUP($A11,'2025 Stds Ltg Table'!$B$4:$W$92,AD$1,0) -> 0 | AE11: =VLOOKUP($A11,'2022 SpaceFuncData-Input'!$A$3:$Y$82,17,FALSE) -> 150 | AF11: =VLOOKUP($A11,'2022 SpaceFuncData-Input'!$A$3:$Y$82,18,FALSE) -> 150 | AG11: =VLOOKUP($A11,'2022 SpaceFuncData-Input'!$A$3:$Y$82,19,FALSE) -> 0 | AH11: =VLOOKUP($A11,'2022 SpaceFuncData-Input'!$A$3:$Y$82,20,FALSE) -> 0 | AI11: =VLOOKUP($A11,'2022 SpaceFuncData-Input'!$A$3:$Y$82,21,FALSE) -> 50 | AJ11: =VLOOKUP($A11,'2022 SpaceFuncData-Input'!$A$3:$Y$82,22,FALSE) -> 100 | AK11: =VLOOKUP($A11,'2022 SpaceFuncData-Input'!$A$3:$Y$82,23,FALSE) -> 1.5 | AL11: =VLOOKUP($A11,'2022 SpaceFuncData-Input'!$A$3:$Y$82,24,FALSE) -> 2 | AM11: =VLOOKUP($A11,'2022 SpaceFuncData-Input'!$A$3:$Y$82,25,FALSE) -> Office | AN11: 1 | AO11: 1 | AP11: 0 | AQ11: 309
A12: ='2025 Stds Ltg Table'!B12 -> Audience Seating Area | B12: =VLOOKUP($A12,'2022 SpaceFuncData-Input'!$A$3:$I$82,2,FALSE) -> Assembly - Auditorium seating area | C12: =VLOOKUP($A12,'2022 SpaceFuncData-Input'!$A$3:$I$85,3,FALSE) -> 142.85714 | D12: =VLOOKUP($A12,'2022 SpaceFuncData-Input'!$A$3:$I$85,4,FALSE) -> 0.5 | E12: =VLOOKUP($A12,'2022 SpaceFuncData-Input'!$A$3:$I$85,5,FALSE) -> 245 | F12: =VLOOKUP($A12,'2022 SpaceFuncData-Input'!$A$3:$I$85,6,FALSE) -> 105 | G12: =VLOOKUP($A12,'2022 SpaceFuncData-Input'!$A$3:$I$85,7,FALSE) -> 1 | H12: =VLOOKUP($A12,'2022 SpaceFuncData-Input'!$A$3:$I$85,8,FALSE) -> 0.09 | I12: =VLOOKUP($A12,'2022 SpaceFuncData-Input'!$A$3:$I$85,9,FALSE) -> Electric | J12: =VLOOKUP($A12,'2025 Stds Ltg Table'!$B$4:$V$92,2,0) -> 0.5 | K12: =VLOOKUP($A12,'2025 Stds Ltg Table'!$B$4:$W$92,K$1,0) -> 0 | L12: =VLOOKUP($A12,'2025 Stds Ltg Table'!$B$4:$W$92,L$1,0) -> 0 | M12: =VLOOKUP($A12,'2025 Stds Ltg Table'!$B$4:$W$92,M$1,0) -> 0 | N12: =VLOOKUP($A12,'2025 Stds Ltg Table'!$B$4:$W$92,N$1,0) -> 0.25 | O12: =VLOOKUP($A12,'2025 Stds Ltg Table'!$B$4:$W$92,O$1,0) -> 0 | P12: =VLOOKUP($A12,'2025 Stds Ltg Table'!$B$4:$W$92,P$1,0) -> 0 | Q12: =VLOOKUP($A12,'2025 Stds Ltg Table'!$B$4:$W$92,Q$1,0) -> 0 | R12: =VLOOKUP($A12,'2025 Stds Ltg Table'!$B$4:$W$92,R$1,0) -> 0 | ... AD12: =VLOOKUP($A12,'2025 Stds Ltg Table'!$B$4:$W$92,AD$1,0) -> 0 | AE12: =VLOOKUP($A12,'2022 SpaceFuncData-Input'!$A$3:$Y$82,17,FALSE) -> 150 | AF12: =VLOOKUP($A12,'2022 SpaceFuncData-Input'!$A$3:$Y$82,18,FALSE) -> 150 | AG12: =VLOOKUP($A12,'2022 SpaceFuncData-Input'!$A$3:$Y$82,19,FALSE) -> 0 | AH12: =VLOOKUP($A12,'2022 SpaceFuncData-Input'!$A$3:$Y$82,20,FALSE) -> 0 | AI12: =VLOOKUP($A12,'2022 SpaceFuncData-Input'!$A$3:$Y$82,21,FALSE) -> 50 | AJ12: =VLOOKUP($A12,'2022 SpaceFuncData-Input'!$A$3:$Y$82,22,FALSE) -> 1000 | AK12: =VLOOKUP($A12,'2022 SpaceFuncData-Input'!$A$3:$Y$82,23,FALSE) -> 1.5 | AL12: =VLOOKUP($A12,'2022 SpaceFuncData-Input'!$A$3:$Y$82,24,FALSE) -> 2 | AM12: =VLOOKUP($A12,'2022 SpaceFuncData-Input'!$A$3:$Y$82,25,FALSE) -> Assembly | AN12: 1 | AO12: 0 | AP12: 0 | AQ12: 310
A13: ='2025 Stds Ltg Table'!B13 -> Auditorium Area | B13: =VLOOKUP($A13,'2022 SpaceFuncData-Input'!$A$3:$I$82,2,FALSE) -> Assembly - Auditorium seating area | C13: =VLOOKUP($A13,'2022 SpaceFuncData-Input'!$A$3:$I$85,3,FALSE) -> 142.85714 | D13: =VLOOKUP($A13,'2022 SpaceFuncData-Input'!$A$3:$I$85,4,FALSE) -> 0.5 | E13: =VLOOKUP($A13,'2022 SpaceFuncData-Input'!$A$3:$I$85,5,FALSE) -> 245 | F13: =VLOOKUP($A13,'2022 SpaceFuncData-Input'!$A$3:$I$85,6,FALSE) -> 105 | G13: =VLOOKUP($A13,'2022 SpaceFuncData-Input'!$A$3:$I$85,7,FALSE) -> 1 | H13: =VLOOKUP($A13,'2022 SpaceFuncData-Input'!$A$3:$I$85,8,FALSE) -> 0.09 | I13: =VLOOKUP($A13,'2022 SpaceFuncData-Input'!$A$3:$I$85,9,FALSE) -> Electric | J13: =VLOOKUP($A13,'2025 Stds Ltg Table'!$B$4:$V$92,2,0) -> 0.7 | K13: =VLOOKUP($A13,'2025 Stds Ltg Table'!$B$4:$W$92,K$1,0) -> 0 | L13: =VLOOKUP($A13,'2025 Stds Ltg Table'!$B$4:$W$92,L$1,0) -> 0 | M13: =VLOOKUP($A13,'2025 Stds Ltg Table'!$B$4:$W$92,M$1,0) -> 0 | N13: =VLOOKUP($A13,'2025 Stds Ltg Table'!$B$4:$W$92,N$1,0) -> 0.45 | O13: =VLOOKUP($A13,'2025 Stds Ltg Table'!$B$4:$W$92,O$1,0) -> 0 | P13: =VLOOKUP($A13,'2025 Stds Ltg Table'!$B$4:$W$92,P$1,0) -> 0 | Q13: =VLOOKUP($A13,'2025 Stds Ltg Table'!$B$4:$W$92,Q$1,0) -> 0 | R13: =VLOOKUP($A13,'2025 Stds Ltg Table'!$B$4:$W$92,R$1,0) -> 0 | ... AD13: =VLOOKUP($A13,'2025 Stds Ltg Table'!$B$4:$W$92,AD$1,0) -> 0 | AE13: =VLOOKUP($A13,'2022 SpaceFuncData-Input'!$A$3:$Y$82,17,FALSE) -> 150 | AF13: =VLOOKUP($A13,'2022 SpaceFuncData-Input'!$A$3:$Y$82,18,FALSE) -> 150 | AG13: =VLOOKUP($A13,'2022 SpaceFuncData-Input'!$A$3:$Y$82,19,FALSE) -> 0 | AH13: =VLOOKUP($A13,'2022 SpaceFuncData-Input'!$A$3:$Y$82,20,FALSE) -> 0 | AI13: =VLOOKUP($A13,'2022 SpaceFuncData-Input'!$A$3:$Y$82,21,FALSE) -> 50 | AJ13: =VLOOKUP($A13,'2022 SpaceFuncData-Input'!$A$3:$Y$82,22,FALSE) -> 1000 | AK13: =VLOOKUP($A13,'2022 SpaceFuncData-Input'!$A$3:$Y$82,23,FALSE) -> 1.5 | AL13: =VLOOKUP($A13,'2022 SpaceFuncData-Input'!$A$3:$Y$82,24,FALSE) -> 2 | AM13: =VLOOKUP($A13,'2022 SpaceFuncData-Input'!$A$3:$Y$82,25,FALSE) -> Assembly | AN13: 1 | AO13: 0 | AP13: 0 | AQ13: 311
A14: ='2025 Stds Ltg Table'!B14 -> Auto Repair / Maintenance Area | B14: =VLOOKUP($A14,'2022 SpaceFuncData-Input'!$A$3:$I$82,2,FALSE) -> Exhaust - Auto repair rooms | C14: =VLOOKUP($A14,'2022 SpaceFuncData-Input'!$A$3:$I$85,3,FALSE) -> 10 | D14: =VLOOKUP($A14,'2022 SpaceFuncData-Input'!$A$3:$I$85,4,FALSE) -> 0.5 | E14: =VLOOKUP($A14,'2022 SpaceFuncData-Input'!$A$3:$I$85,5,FALSE) -> 275 | F14: =VLOOKUP($A14,'2022 SpaceFuncData-Input'!$A$3:$I$85,6,FALSE) -> 475 | G14: =VLOOKUP($A14,'2022 SpaceFuncData-Input'!$A$3:$I$85,7,FALSE) -> 1 | H14: =VLOOKUP($A14,'2022 SpaceFuncData-Input'!$A$3:$I$85,8,FALSE) -> 0.18 | I14: =VLOOKUP($A14,'2022 SpaceFuncData-Input'!$A$3:$I$85,9,FALSE) -> Gas | J14: =VLOOKUP($A14,'2025 Stds Ltg Table'!$B$4:$V$92,2,0) -> 0.55 | K14: =VLOOKUP($A14,'2025 Stds Ltg Table'!$B$4:$W$92,K$1,0) -> 0 | L14: =VLOOKUP($A14,'2025 Stds Ltg Table'!$B$4:$W$92,L$1,0) -> 0.2 | M14: =VLOOKUP($A14,'2025 Stds Ltg Table'!$B$4:$W$92,M$1,0) -> 0 | N14: =VLOOKUP($A14,'2025 Stds Ltg Table'!$B$4:$W$92,N$1,0) -> 0 | O14: =VLOOKUP($A14,'2025 Stds Ltg Table'!$B$4:$W$92,O$1,0) -> 0 | P14: =VLOOKUP($A14,'2025 Stds Ltg Table'!$B$4:$W$92,P$1,0) -> 0 | Q14: =VLOOKUP($A14,'2025 Stds Ltg Table'!$B$4:$W$92,Q$1,0) -> 0 | R14: =VLOOKUP($A14,'2025 Stds Ltg Table'!$B$4:$W$92,R$1,0) -> 0 | ... AD14: =VLOOKUP($A14,'2025 Stds Ltg Table'!$B$4:$W$92,AD$1,0) -> 0 | AE14: =VLOOKUP($A14,'2022 SpaceFuncData-Input'!$A$3:$Y$82,17,FALSE) -> 150 | AF14: =VLOOKUP($A14,'2022 SpaceFuncData-Input'!$A$3:$Y$82,18,FALSE) -> 150 | AG14: =VLOOKUP($A14,'2022 SpaceFuncData-Input'!$A$3:$Y$82,19,FALSE) -> 0.75064 | AH14: =VLOOKUP($A14,'2022 SpaceFuncData-Input'!$A$3:$Y$82,20,FALSE) -> 0 | AI14: =VLOOKUP($A14,'2022 SpaceFuncData-Input'!$A$3:$Y$82,21,FALSE) -> 200 | AJ14: =VLOOKUP($A14,'2022 SpaceFuncData-Input'!$A$3:$Y$82,22,FALSE) -> 1500 | AK14: =VLOOKUP($A14,'2022 SpaceFuncData-Input'!$A$3:$Y$82,23,FALSE) -> 1.5 | AL14: =VLOOKUP($A14,'2022 SpaceFuncData-Input'!$A$3:$Y$82,24,FALSE) -> 2 | AM14: =VLOOKUP($A14,'2022 SpaceFuncData-Input'!$A$3:$Y$82,25,FALSE) -> Manufacturing | AN14: 1 | AO14: 0 | AP14: 0 | AQ14: 312
A15: ='2025 Stds Ltg Table'!B15 -> Barber, Beauty Salon, Spa Area | B15: =VLOOKUP($A15,'2022 SpaceFuncData-Input'!$A$3:$I$82,2,FALSE) -> Retail - Beauty and nail salons | C15: =VLOOKUP($A15,'2022 SpaceFuncData-Input'!$A$3:$I$85,3,FALSE) -> 10 | D15: =VLOOKUP($A15,'2022 SpaceFuncData-Input'!$A$3:$I$85,4,FALSE) -> 0.5 | E15: =VLOOKUP($A15,'2022 SpaceFuncData-Input'!$A$3:$I$85,5,FALSE) -> 250 | F15: =VLOOKUP($A15,'2022 SpaceFuncData-Input'!$A$3:$I$85,6,FALSE) -> 200 | G15: =VLOOKUP($A15,'2022 SpaceFuncData-Input'!$A$3:$I$85,7,FALSE) -> 2 | H15: =VLOOKUP($A15,'2022 SpaceFuncData-Input'!$A$3:$I$85,8,FALSE) -> 0.18 | I15: =VLOOKUP($A15,'2022 SpaceFuncData-Input'!$A$3:$I$85,9,FALSE) -> Gas | J15: =VLOOKUP($A15,'2025 Stds Ltg Table'!$B$4:$V$92,2,0) -> 0.7 | K15: =VLOOKUP($A15,'2025 Stds Ltg Table'!$B$4:$W$92,K$1,0) -> 0 | L15: =VLOOKUP($A15,'2025 Stds Ltg Table'!$B$4:$W$92,L$1,0) -> 0.3 | M15: =VLOOKUP($A15,'2025 Stds Ltg Table'!$B$4:$W$92,M$1,0) -> 0 | N15: =VLOOKUP($A15,'2025 Stds Ltg Table'!$B$4:$W$92,N$1,0) -> 0.25 | O15: =VLOOKUP($A15,'2025 Stds Ltg Table'!$B$4:$W$92,O$1,0) -> 0 | P15: =VLOOKUP($A15,'2025 Stds Ltg Table'!$B$4:$W$92,P$1,0) -> 0 | Q15: =VLOOKUP($A15,'2025 Stds Ltg Table'!$B$4:$W$92,Q$1,0) -> 0 | R15: =VLOOKUP($A15,'2025 Stds Ltg Table'!$B$4:$W$92,R$1,0) -> 0 | ... AD15: =VLOOKUP($A15,'2025 Stds Ltg Table'!$B$4:$W$92,AD$1,0) -> 0 | AE15: =VLOOKUP($A15,'2022 SpaceFuncData-Input'!$A$3:$Y$82,17,FALSE) -> 150 | AF15: =VLOOKUP($A15,'2022 SpaceFuncData-Input'!$A$3:$Y$82,18,FALSE) -> 150 | AG15: =VLOOKUP($A15,'2022 SpaceFuncData-Input'!$A$3:$Y$82,19,FALSE) -> 0 | AH15: =VLOOKUP($A15,'2022 SpaceFuncData-Input'!$A$3:$Y$82,20,FALSE) -> 0 | AI15: =VLOOKUP($A15,'2022 SpaceFuncData-Input'!$A$3:$Y$82,21,FALSE) -> 500 | AJ15: =VLOOKUP($A15,'2022 SpaceFuncData-Input'!$A$3:$Y$82,22,FALSE) -> 500 | AK15: =VLOOKUP($A15,'2022 SpaceFuncData-Input'!$A$3:$Y$82,23,FALSE) -> 1.5 | AL15: =VLOOKUP($A15,'2022 SpaceFuncData-Input'!$A$3:$Y$82,24,FALSE) -> 2 | AM15: =VLOOKUP($A15,'2022 SpaceFuncData-Input'!$A$3:$Y$82,25,FALSE) -> Retail | AN15: 1 | AO15: 0 | AP15: 0 | AQ15: 313
... A17: ='2025 Stds Ltg Table'!B17 -> Classroom, Lecture, Training, Vocational Areas | B17: =VLOOKUP($A17,'2022 SpaceFuncData-Input'!$A$3:$I$82,2,FALSE) -> Education - Classrooms (ages 9-18) | C17: =VLOOKUP($A17,'2022 SpaceFuncData-Input'!$A$3:$I$85,3,FALSE) -> 50 | D17: =VLOOKUP($A17,'2022 SpaceFuncData-Input'!$A$3:$I$85,4,FALSE) -> 0.5 | E17: =VLOOKUP($A17,'2022 SpaceFuncData-Input'!$A$3:$I$85,5,FALSE) -> 245 | F17: =VLOOKUP($A17,'2022 SpaceFuncData-Input'!$A$3:$I$85,6,FALSE) -> 155 | G17: =VLOOKUP($A17,'2022 SpaceFuncData-Input'!$A$3:$I$85,7,FALSE) -> 1 | H17: =VLOOKUP($A17,'2022 SpaceFuncData-Input'!$A$3:$I$85,8,FALSE) -> 0.18 | I17: =VLOOKUP($A17,'2022 SpaceFuncData-Input'!$A$3:$I$85,9,FALSE) -> Gas | J17: =VLOOKUP($A17,'2025 Stds Ltg Table'!$B$4:$V$92,2,0) -> 0.6 | K17: =VLOOKUP($A17,'2025 Stds Ltg Table'!$B$4:$W$92,K$1,0) -> 0 | L17: =VLOOKUP($A17,'2025 Stds Ltg Table'!$B$4:$W$92,L$1,0) -> 0 | M17: =VLOOKUP($A17,'2025 Stds Ltg Table'!$B$4:$W$92,M$1,0) -> 0 | N17: =VLOOKUP($A17,'2025 Stds Ltg Table'!$B$4:$W$92,N$1,0) -> 0 | O17: =VLOOKUP($A17,'2025 Stds Ltg Table'!$B$4:$W$92,O$1,0) -> 0 | P17: =VLOOKUP($A17,'2025 Stds Ltg Table'!$B$4:$W$92,P$1,0) -> 7 | Q17: =VLOOKUP($A17,'2025 Stds Ltg Table'!$B$4:$W$92,Q$1,0) -> 0 | R17: =VLOOKUP($A17,'2025 Stds Ltg Table'!$B$4:$W$92,R$1,0) -> 0 | ... AD17: =VLOOKUP($A17,'2025 Stds Ltg Table'!$B$4:$W$92,AD$1,0) -> 0 | AE17: =VLOOKUP($A17,'2022 SpaceFuncData-Input'!$A$3:$Y$82,17,FALSE) -> 150 | AF17: =VLOOKUP($A17,'2022 SpaceFuncData-Input'!$A$3:$Y$82,18,FALSE) -> 150 | AG17: =VLOOKUP($A17,'2022 SpaceFuncData-Input'!$A$3:$Y$82,19,FALSE) -> 0 | AH17: =VLOOKUP($A17,'2022 SpaceFuncData-Input'!$A$3:$Y$82,20,FALSE) -> 0 | AI17: =VLOOKUP($A17,'2022 SpaceFuncData-Input'!$A$3:$Y$82,21,FALSE) -> 50 | AJ17: =VLOOKUP($A17,'2022 SpaceFuncData-Input'!$A$3:$Y$82,22,FALSE) -> 500 | AK17: =VLOOKUP($A17,'2022 SpaceFuncData-Input'!$A$3:$Y$82,23,FALSE) -> 1.5 | AL17: =VLOOKUP($A17,'2022 SpaceFuncData-Input'!$A$3:$Y$82,24,FALSE) -> 2 | AM17: =VLOOKUP($A17,'2022 SpaceFuncData-Input'!$A$3:$Y$82,25,FALSE) -> School | AN17: 1 | AO17: 0 | AP17: 0 | AQ17: 315
A18: ='2025 Stds Ltg Table'!B85 -> Computer Room | B18: =VLOOKUP($A18,'2022 SpaceFuncData-Input'!$A$3:$I$82,2,FALSE) -> Misc - Computer (not printing) | C18: =VLOOKUP($A18,'2022 SpaceFuncData-Input'!$A$3:$I$85,3,FALSE) -> 3 | D18: =VLOOKUP($A18,'2022 SpaceFuncData-Input'!$A$3:$I$85,4,FALSE) -> 0.5 | E18: =VLOOKUP($A18,'2022 SpaceFuncData-Input'!$A$3:$I$85,5,FALSE) -> 275 | F18: =VLOOKUP($A18,'2022 SpaceFuncData-Input'!$A$3:$I$85,6,FALSE) -> 475 | G18: =VLOOKUP($A18,'2022 SpaceFuncData-Input'!$A$3:$I$85,7,FALSE) -> 0 | H18: =VLOOKUP($A18,'2022 SpaceFuncData-Input'!$A$3:$I$85,8,FALSE) -> 0.18 | I18: =VLOOKUP($A18,'2022 SpaceFuncData-Input'!$A$3:$I$85,9,FALSE) -> Electric | J18: =VLOOKUP($A18,'2025 Stds Ltg Table'!$B$4:$V$92,2,0) -> 0.5 | K18: =VLOOKUP($A18,'2025 Stds Ltg Table'!$B$4:$W$92,K$1,0) -> 0 | L18: =VLOOKUP($A18,'2025 Stds Ltg Table'!$B$4:$W$92,L$1,0) -> 0 | M18: =VLOOKUP($A18,'2025 Stds Ltg Table'!$B$4:$W$92,M$1,0) -> 0 | N18: =VLOOKUP($A18,'2025 Stds Ltg Table'!$B$4:$W$92,N$1,0) -> 0 | O18: =VLOOKUP($A18,'2025 Stds Ltg Table'!$B$4:$W$92,O$1,0) -> 0 | P18: =VLOOKUP($A18,'2025 Stds Ltg Table'!$B$4:$W$92,P$1,0) -> 0 | Q18: =VLOOKUP($A18,'2025 Stds Ltg Table'!$B$4:$W$92,Q$1,0) -> 0 | R18: =VLOOKUP($A18,'2025 Stds Ltg Table'!$B$4:$W$92,R$1,0) -> 0 | ... AD18: =VLOOKUP($A18,'2025 Stds Ltg Table'!$B$4:$W$92,AD$1,0) -> 0 | AE18: =VLOOKUP($A18,'2022 SpaceFuncData-Input'!$A$3:$Y$82,17,FALSE) -> 150 | AF18: =VLOOKUP($A18,'2022 SpaceFuncData-Input'!$A$3:$Y$82,18,FALSE) -> 150 | AG18: =VLOOKUP($A18,'2022 SpaceFuncData-Input'!$A$3:$Y$82,19,FALSE) -> 0 | AH18: =VLOOKUP($A18,'2022 SpaceFuncData-Input'!$A$3:$Y$82,20,FALSE) -> 0 | AI18: =VLOOKUP($A18,'2022 SpaceFuncData-Input'!$A$3:$Y$82,21,FALSE) -> 75 | AJ18: =VLOOKUP($A18,'2022 SpaceFuncData-Input'!$A$3:$Y$82,22,FALSE) -> 300 | AK18: =VLOOKUP($A18,'2022 SpaceFuncData-Input'!$A$3:$Y$82,23,FALSE) -> 1 | AL18: =VLOOKUP($A18,'2022 SpaceFuncData-Input'!$A$3:$Y$82,24,FALSE) -> 4 | AM18: =VLOOKUP($A18,'2022 SpaceFuncData-Input'!$A$3:$Y$82,25,FALSE) -> Data | AN18: 0 | AO18: 1 | AP18: 0 | AQ18: 316
A19: ='2025 Stds Ltg Table'!B18 -> Concourse and Atria Area | B19: =VLOOKUP($A19,'2022 SpaceFuncData-Input'!$A$3:$I$82,2,FALSE) -> Retail - Mall common areas | C19: =VLOOKUP($A19,'2022 SpaceFuncData-Input'!$A$3:$I$85,3,FALSE) -> 33.333333 | D19: =VLOOKUP($A19,'2022 SpaceFuncData-Input'!$A$3:$I$85,4,FALSE) -> 0.5 | E19: =VLOOKUP($A19,'2022 SpaceFuncData-Input'!$A$3:$I$85,5,FALSE) -> 250 | F19: =VLOOKUP($A19,'2022 SpaceFuncData-Input'!$A$3:$I$85,6,FALSE) -> 250 | G19: =VLOOKUP($A19,'2022 SpaceFuncData-Input'!$A$3:$I$85,7,FALSE) -> 0.5 | H19: =VLOOKUP($A19,'2022 SpaceFuncData-Input'!$A$3:$I$85,8,FALSE) -> 0.18 | I19: =VLOOKUP($A19,'2022 SpaceFuncData-Input'!$A$3:$I$85,9,FALSE) -> Electric | J19: =VLOOKUP($A19,'2025 Stds Ltg Table'!$B$4:$V$92,2,0) -> 0.6 | K19: =VLOOKUP($A19,'2025 Stds Ltg Table'!$B$4:$W$92,K$1,0) -> 0 | L19: =VLOOKUP($A19,'2025 Stds Ltg Table'!$B$4:$W$92,L$1,0) -> 0 | M19: =VLOOKUP($A19,'2025 Stds Ltg Table'!$B$4:$W$92,M$1,0) -> 0 | N19: =VLOOKUP($A19,'2025 Stds Ltg Table'!$B$4:$W$92,N$1,0) -> 0.25 | O19: =VLOOKUP($A19,'2025 Stds Ltg Table'!$B$4:$W$92,O$1,0) -> 0 | P19: =VLOOKUP($A19,'2025 Stds Ltg Table'!$B$4:$W$92,P$1,0) -> 0 | Q19: =VLOOKUP($A19,'2025 Stds Ltg Table'!$B$4:$W$92,Q$1,0) -> 0 | R19: =VLOOKUP($A19,'2025 Stds Ltg Table'!$B$4:$W$92,R$1,0) -> 0 | ... AD19: =VLOOKUP($A19,'2025 Stds Ltg Table'!$B$4:$W$92,AD$1,0) -> 0 | AE19: =VLOOKUP($A19,'2022 SpaceFuncData-Input'!$A$3:$Y$82,17,FALSE) -> 150 | AF19: =VLOOKUP($A19,'2022 SpaceFuncData-Input'!$A$3:$Y$82,18,FALSE) -> 150 | AG19: =VLOOKUP($A19,'2022 SpaceFuncData-Input'!$A$3:$Y$82,19,FALSE) -> 0 | AH19: =VLOOKUP($A19,'2022 SpaceFuncData-Input'!$A$3:$Y$82,20,FALSE) -> 0 | AI19: =VLOOKUP($A19,'2022 SpaceFuncData-Input'!$A$3:$Y$82,21,FALSE) -> 100 | AJ19: =VLOOKUP($A19,'2022 SpaceFuncData-Input'!$A$3:$Y$82,22,FALSE) -> 300 | AK19: =VLOOKUP($A19,'2022 SpaceFuncData-Input'!$A$3:$Y$82,23,FALSE) -> 1.5 | AL19: =VLOOKUP($A19,'2022 SpaceFuncData-Input'!$A$3:$Y$82,24,FALSE) -> 2 | AM19: =VLOOKUP($A19,'2022 SpaceFuncData-Input'!$A$3:$Y$82,25,FALSE) -> Retail | AN19: 1 | AO19: 1 | AP19: 0 | AQ19: 317
A20: ='2025 Stds Ltg Table'!B19 -> Convention, Conference, Multipurpose and Meeting Area | B20: =VLOOKUP($A20,'2022 SpaceFuncData-Input'!$A$3:$I$82,2,FALSE) -> General - Conference/meeting | C20: =VLOOKUP($A20,'2022 SpaceFuncData-Input'!$A$3:$I$85,3,FALSE) -> 66.666667 | D20: =VLOOKUP($A20,'2022 SpaceFuncData-Input'!$A$3:$I$85,4,FALSE) -> 0.5 | E20: =VLOOKUP($A20,'2022 SpaceFuncData-Input'!$A$3:$I$85,5,FALSE) -> 245 | F20: =VLOOKUP($A20,'2022 SpaceFuncData-Input'!$A$3:$I$85,6,FALSE) -> 155 | G20: =VLOOKUP($A20,'2022 SpaceFuncData-Input'!$A$3:$I$85,7,FALSE) -> 1 | H20: =VLOOKUP($A20,'2022 SpaceFuncData-Input'!$A$3:$I$85,8,FALSE) -> 0.09 | I20: =VLOOKUP($A20,'2022 SpaceFuncData-Input'!$A$3:$I$85,9,FALSE) -> Electric | J20: =VLOOKUP($A20,'2025 Stds Ltg Table'!$B$4:$V$92,2,0) -> 0.75 | K20: =VLOOKUP($A20,'2025 Stds Ltg Table'!$B$4:$W$92,K$1,0) -> 0 | L20: =VLOOKUP($A20,'2025 Stds Ltg Table'!$B$4:$W$92,L$1,0) -> 0 | M20: =VLOOKUP($A20,'2025 Stds Ltg Table'!$B$4:$W$92,M$1,0) -> 0 | N20: =VLOOKUP($A20,'2025 Stds Ltg Table'!$B$4:$W$92,N$1,0) -> 0.25 | O20: =VLOOKUP($A20,'2025 Stds Ltg Table'!$B$4:$W$92,O$1,0) -> 0 | P20: =VLOOKUP($A20,'2025 Stds Ltg Table'!$B$4:$W$92,P$1,0) -> 0 | Q20: =VLOOKUP($A20,'2025 Stds Ltg Table'!$B$4:$W$92,Q$1,0) -> 0 | R20: =VLOOKUP($A20,'2025 Stds Ltg Table'!$B$4:$W$92,R$1,0) -> 0 | ... AD20: =VLOOKUP($A20,'2025 Stds Ltg Table'!$B$4:$W$92,AD$1,0) -> 0 | AE20: =VLOOKUP($A20,'2022 SpaceFuncData-Input'!$A$3:$Y$82,17,FALSE) -> 150 | AF20: =VLOOKUP($A20,'2022 SpaceFuncData-Input'!$A$3:$Y$82,18,FALSE) -> 150 | AG20: =VLOOKUP($A20,'2022 SpaceFuncData-Input'!$A$3:$Y$82,19,FALSE) -> 0 | AH20: =VLOOKUP($A20,'2022 SpaceFuncData-Input'!$A$3:$Y$82,20,FALSE) -> 0 | AI20: =VLOOKUP($A20,'2022 SpaceFuncData-Input'!$A$3:$Y$82,21,FALSE) -> 30 | AJ20: =VLOOKUP($A20,'2022 SpaceFuncData-Input'!$A$3:$Y$82,22,FALSE) -> 300 | AK20: =VLOOKUP($A20,'2022 SpaceFuncData-Input'!$A$3:$Y$82,23,FALSE) -> 1.5 | AL20: =VLOOKUP($A20,'2022 SpaceFuncData-Input'!$A$3:$Y$82,24,FALSE) -> 2 | AM20: =VLOOKUP($A20,'2022 SpaceFuncData-Input'!$A$3:$Y$82,25,FALSE) -> Assembly | AN20: 1 | AO20: 0 | AP20: 1 | AQ20: 318
A21: ='2025 Stds Ltg Table'!B20 -> Copy Room | B21: =VLOOKUP($A21,'2022 SpaceFuncData-Input'!$A$3:$I$82,2,FALSE) -> Exhaust - Copy, printing rooms | C21: =VLOOKUP($A21,'2022 SpaceFuncData-Input'!$A$3:$I$85,3,FALSE) -> 10 | D21: =VLOOKUP($A21,'2022 SpaceFuncData-Input'!$A$3:$I$85,4,FALSE) -> 0.5 | E21: =VLOOKUP($A21,'2022 SpaceFuncData-Input'!$A$3:$I$85,5,FALSE) -> 250 | F21: =VLOOKUP($A21,'2022 SpaceFuncData-Input'!$A$3:$I$85,6,FALSE) -> 250 | G21: =VLOOKUP($A21,'2022 SpaceFuncData-Input'!$A$3:$I$85,7,FALSE) -> 1 | H21: =VLOOKUP($A21,'2022 SpaceFuncData-Input'!$A$3:$I$85,8,FALSE) -> 0.18 | I21: =VLOOKUP($A21,'2022 SpaceFuncData-Input'!$A$3:$I$85,9,FALSE) -> Electric | J21: =VLOOKUP($A21,'2025 Stds Ltg Table'!$B$4:$V$92,2,0) -> 0.5 | K21: =VLOOKUP($A21,'2025 Stds Ltg Table'!$B$4:$W$92,K$1,0) -> 0 | L21: =VLOOKUP($A21,'2025 Stds Ltg Table'!$B$4:$W$92,L$1,0) -> 0 | M21: =VLOOKUP($A21,'2025 Stds Ltg Table'!$B$4:$W$92,M$1,0) -> 0 | N21: =VLOOKUP($A21,'2025 Stds Ltg Table'!$B$4:$W$92,N$1,0) -> 0 | O21: =VLOOKUP($A21,'2025 Stds Ltg Table'!$B$4:$W$92,O$1,0) -> 0 | P21: =VLOOKUP($A21,'2025 Stds Ltg Table'!$B$4:$W$92,P$1,0) -> 0 | Q21: =VLOOKUP($A21,'2025 Stds Ltg Table'!$B$4:$W$92,Q$1,0) -> 0 | R21: =VLOOKUP($A21,'2025 Stds Ltg Table'!$B$4:$W$92,R$1,0) -> 0 | ... AD21: =VLOOKUP($A21,'2025 Stds Ltg Table'!$B$4:$W$92,AD$1,0) -> 0 | AE21: =VLOOKUP($A21,'2022 SpaceFuncData-Input'!$A$3:$Y$82,17,FALSE) -> 8760 | AF21: =VLOOKUP($A21,'2022 SpaceFuncData-Input'!$A$3:$Y$82,18,FALSE) -> 8760 | AG21: =VLOOKUP($A21,'2022 SpaceFuncData-Input'!$A$3:$Y$82,19,FALSE) -> 0 | AH21: =VLOOKUP($A21,'2022 SpaceFuncData-Input'!$A$3:$Y$82,20,FALSE) -> 0 | AI21: =VLOOKUP($A21,'2022 SpaceFuncData-Input'!$A$3:$Y$82,21,FALSE) -> 75 | AJ21: =VLOOKUP($A21,'2022 SpaceFuncData-Input'!$A$3:$Y$82,22,FALSE) -> 500 | AK21: =VLOOKUP($A21,'2022 SpaceFuncData-Input'!$A$3:$Y$82,23,FALSE) -> 1.5 | AL21: =VLOOKUP($A21,'2022 SpaceFuncData-Input'!$A$3:$Y$82,24,FALSE) -> 2 | AM21: =VLOOKUP($A21,'2022 SpaceFuncData-Input'!$A$3:$Y$82,25,FALSE) -> Office | AN21: 1 | AO21: 0 | AP21: 1 | AQ21: 319
A22: ='2025 Stds Ltg Table'!B21 -> Corridor Area | B22: =VLOOKUP($A22,'2022 SpaceFuncData-Input'!$A$3:$I$82,2,FALSE) -> General - Corridors | C22: =VLOOKUP($A22,'2022 SpaceFuncData-Input'!$A$3:$I$85,3,FALSE) -> 10 | D22: =VLOOKUP($A22,'2022 SpaceFuncData-Input'!$A$3:$I$85,4,FALSE) -> 0.5 | E22: =VLOOKUP($A22,'2022 SpaceFuncData-Input'!$A$3:$I$85,5,FALSE) -> 250 | F22: =VLOOKUP($A22,'2022 SpaceFuncData-Input'!$A$3:$I$85,6,FALSE) -> 250 | G22: =VLOOKUP($A22,'2022 SpaceFuncData-Input'!$A$3:$I$85,7,FALSE) -> 0 | H22: =VLOOKUP($A22,'2022 SpaceFuncData-Input'!$A$3:$I$85,8,FALSE) -> 0 | I22: =VLOOKUP($A22,'2022 SpaceFuncData-Input'!$A$3:$I$85,9,FALSE) -> Electric | J22: =VLOOKUP($A22,'2025 Stds Ltg Table'!$B$4:$V$92,2,0) -> 0.4 | K22: =VLOOKUP($A22,'2025 Stds Ltg Table'!$B$4:$W$92,K$1,0) -> 0 | L22: =VLOOKUP($A22,'2025 Stds Ltg Table'!$B$4:$W$92,L$1,0) -> 0 | M22: =VLOOKUP($A22,'2025 Stds Ltg Table'!$B$4:$W$92,M$1,0) -> 0 | N22: =VLOOKUP($A22,'2025 Stds Ltg Table'!$B$4:$W$92,N$1,0) -> 0.25 | O22: =VLOOKUP($A22,'2025 Stds Ltg Table'!$B$4:$W$92,O$1,0) -> 0 | P22: =VLOOKUP($A22,'2025 Stds Ltg Table'!$B$4:$W$92,P$1,0) -> 0 | Q22: =VLOOKUP($A22,'2025 Stds Ltg Table'!$B$4:$W$92,Q$1,0) -> 0 | R22: =VLOOKUP($A22,'2025 Stds Ltg Table'!$B$4:$W$92,R$1,0) -> 0 | ... AD22: =VLOOKUP($A22,'2025 Stds Ltg Table'!$B$4:$W$92,AD$1,0) -> 0 | AE22: =VLOOKUP($A22,'2022 SpaceFuncData-Input'!$A$3:$Y$82,17,FALSE) -> 8760 | AF22: =VLOOKUP($A22,'2022 SpaceFuncData-Input'!$A$3:$Y$82,18,FALSE) -> 8760 | AG22: =VLOOKUP($A22,'2022 SpaceFuncData-Input'!$A$3:$Y$82,19,FALSE) -> 0 | AH22: =VLOOKUP($A22,'2022 SpaceFuncData-Input'!$A$3:$Y$82,20,FALSE) -> 0 | AI22: =VLOOKUP($A22,'2022 SpaceFuncData-Input'!$A$3:$Y$82,21,FALSE) -> 50 | AJ22: =VLOOKUP($A22,'2022 SpaceFuncData-Input'!$A$3:$Y$82,22,FALSE) -> 100 | AK22: =VLOOKUP($A22,'2022 SpaceFuncData-Input'!$A$3:$Y$82,23,FALSE) -> 1.5 | AL22: =VLOOKUP($A22,'2022 SpaceFuncData-Input'!$A$3:$Y$82,24,FALSE) -> 2 | AM22: =VLOOKUP($A22,'2022 SpaceFuncData-Input'!$A$3:$Y$82,25,FALSE) -> Office | AN22: 1 | AO22: 1 | AP22: 0 | AQ22: 320
A23: ='2025 Stds Ltg Table'!B22 -> Dining Area (Bar/Lounge and Fine Dining) | B23: =VLOOKUP($A23,'2022 SpaceFuncData-Input'!$A$3:$I$82,2,FALSE) -> Food Service - Restaurant dining rooms | C23: =VLOOKUP($A23,'2022 SpaceFuncData-Input'!$A$3:$I$85,3,FALSE) -> 66.666667 | D23: =VLOOKUP($A23,'2022 SpaceFuncData-Input'!$A$3:$I$85,4,FALSE) -> 0.5 | E23: =VLOOKUP($A23,'2022 SpaceFuncData-Input'!$A$3:$I$85,5,FALSE) -> 275 | F23: =VLOOKUP($A23,'2022 SpaceFuncData-Input'!$A$3:$I$85,6,FALSE) -> 275 | G23: =VLOOKUP($A23,'2022 SpaceFuncData-Input'!$A$3:$I$85,7,FALSE) -> 0.5 | H23: =VLOOKUP($A23,'2022 SpaceFuncData-Input'!$A$3:$I$85,8,FALSE) -> 0.578 | I23: =VLOOKUP($A23,'2022 SpaceFuncData-Input'!$A$3:$I$85,9,FALSE) -> Gas | J23: =VLOOKUP($A23,'2025 Stds Ltg Table'!$B$4:$V$92,2,0) -> 0.45 | K23: =VLOOKUP($A23,'2025 Stds Ltg Table'!$B$4:$W$92,K$1,0) -> 0.25 | L23: =VLOOKUP($A23,'2025 Stds Ltg Table'!$B$4:$W$92,L$1,0) -> 0 | M23: =VLOOKUP($A23,'2025 Stds Ltg Table'!$B$4:$W$92,M$1,0) -> 0 | N23: =VLOOKUP($A23,'2025 Stds Ltg Table'!$B$4:$W$92,N$1,0) -> 0.35 | O23: =VLOOKUP($A23,'2025 Stds Ltg Table'!$B$4:$W$92,O$1,0) -> 0 | P23: =VLOOKUP($A23,'2025 Stds Ltg Table'!$B$4:$W$92,P$1,0) -> 0 | Q23: =VLOOKUP($A23,'2025 Stds Ltg Table'!$B$4:$W$92,Q$1,0) -> 0 | R23: =VLOOKUP($A23,'2025 Stds Ltg Table'!$B$4:$W$92,R$1,0) -> 0 | ... AD23: =VLOOKUP($A23,'2025 Stds Ltg Table'!$B$4:$W$92,AD$1,0) -> 0 | AE23: =VLOOKUP($A23,'2022 SpaceFuncData-Input'!$A$3:$Y$82,17,FALSE) -> 150 | AF23: =VLOOKUP($A23,'2022 SpaceFuncData-Input'!$A$3:$Y$82,18,FALSE) -> 150 | AG23: =VLOOKUP($A23,'2022 SpaceFuncData-Input'!$A$3:$Y$82,19,FALSE) -> 0 | AH23: =VLOOKUP($A23,'2022 SpaceFuncData-Input'!$A$3:$Y$82,20,FALSE) -> 0 | AI23: =VLOOKUP($A23,'2022 SpaceFuncData-Input'!$A$3:$Y$82,21,FALSE) -> 50 | AJ23: =VLOOKUP($A23,'2022 SpaceFuncData-Input'!$A$3:$Y$82,22,FALSE) -> 200 | AK23: =VLOOKUP($A23,'2022 SpaceFuncData-Input'!$A$3:$Y$82,23,FALSE) -> 1.5 | AL23: =VLOOKUP($A23,'2022 SpaceFuncData-Input'!$A$3:$Y$82,24,FALSE) -> 2 | AM23: =VLOOKUP($A23,'2022 SpaceFuncData-Input'!$A$3:$Y$82,25,FALSE) -> Restaurant | AN23: 1 | AO23: 0 | AP23: 0 | AQ23: 321
A24: ='2025 Stds Ltg Table'!B23 -> Dining Area (Cafeteria/Fast Food) | B24: =VLOOKUP($A24,'2022 SpaceFuncData-Input'!$A$3:$I$82,2,FALSE) -> Food Service - Cafeteria/fast-food dining | C24: =VLOOKUP($A24,'2022 SpaceFuncData-Input'!$A$3:$I$85,3,FALSE) -> 66.666667 | D24: =VLOOKUP($A24,'2022 SpaceFuncData-Input'!$A$3:$I$85,4,FALSE) -> 0.5 | E24: =VLOOKUP($A24,'2022 SpaceFuncData-Input'!$A$3:$I$85,5,FALSE) -> 275 | F24: =VLOOKUP($A24,'2022 SpaceFuncData-Input'!$A$3:$I$85,6,FALSE) -> 275 | G24: =VLOOKUP($A24,'2022 SpaceFuncData-Input'!$A$3:$I$85,7,FALSE) -> 0.5 | H24: =VLOOKUP($A24,'2022 SpaceFuncData-Input'!$A$3:$I$85,8,FALSE) -> 0.578 | I24: =VLOOKUP($A24,'2022 SpaceFuncData-Input'!$A$3:$I$85,9,FALSE) -> Gas | J24: =VLOOKUP($A24,'2025 Stds Ltg Table'!$B$4:$V$92,2,0) -> 0.45 | K24: =VLOOKUP($A24,'2025 Stds Ltg Table'!$B$4:$W$92,K$1,0) -> 0 | L24: =VLOOKUP($A24,'2025 Stds Ltg Table'!$B$4:$W$92,L$1,0) -> 0 | M24: =VLOOKUP($A24,'2025 Stds Ltg Table'!$B$4:$W$92,M$1,0) -> 0 | N24: =VLOOKUP($A24,'2025 Stds Ltg Table'!$B$4:$W$92,N$1,0) -> 0.25 | O24: =VLOOKUP($A24,'2025 Stds Ltg Table'!$B$4:$W$92,O$1,0) -> 0 | P24: =VLOOKUP($A24,'2025 Stds Ltg Table'!$B$4:$W$92,P$1,0) -> 0 | Q24: =VLOOKUP($A24,'2025 Stds Ltg Table'!$B$4:$W$92,Q$1,0) -> 0 | R24: =VLOOKUP($A24,'2025 Stds Ltg Table'!$B$4:$W$92,R$1,0) -> 0 | ... AD24: =VLOOKUP($A24,'2025 Stds Ltg Table'!$B$4:$W$92,AD$1,0) -> 0 | AE24: =VLOOKUP($A24,'2022 SpaceFuncData-Input'!$A$3:$Y$82,17,FALSE) -> 150 | AF24: =VLOOKUP($A24,'2022 SpaceFuncData-Input'!$A$3:$Y$82,18,FALSE) -> 150 | AG24: =VLOOKUP($A24,'2022 SpaceFuncData-Input'!$A$3:$Y$82,19,FALSE) -> 0 | AH24: =VLOOKUP($A24,'2022 SpaceFuncData-Input'!$A$3:$Y$82,20,FALSE) -> 0.25 | AI24: =VLOOKUP($A24,'2022 SpaceFuncData-Input'!$A$3:$Y$82,21,FALSE) -> 50 | AJ24: =VLOOKUP($A24,'2022 SpaceFuncData-Input'!$A$3:$Y$82,22,FALSE) -> 200 | AK24: =VLOOKUP($A24,'2022 SpaceFuncData-Input'!$A$3:$Y$82,23,FALSE) -> 1.5 | AL24: =VLOOKUP($A24,'2022 SpaceFuncData-Input'!$A$3:$Y$82,24,FALSE) -> 2 | AM24: =VLOOKUP($A24,'2022 SpaceFuncData-Input'!$A$3:$Y$82,25,FALSE) -> Restaurant | AN24: 1 | AO24: 0 | AP24: 1 | AQ24: 322
A25: ='2025 Stds Ltg Table'!B24 -> Dining Area (Family and Leisure) | B25: =VLOOKUP($A25,'2022 SpaceFuncData-Input'!$A$3:$I$82,2,FALSE) -> Food Service - Cafeteria/fast-food dining | C25: =VLOOKUP($A25,'2022 SpaceFuncData-Input'!$A$3:$I$85,3,FALSE) -> 66.666667 | D25: =VLOOKUP($A25,'2022 SpaceFuncData-Input'!$A$3:$I$85,4,FALSE) -> 0.5 | E25: =VLOOKUP($A25,'2022 SpaceFuncData-Input'!$A$3:$I$85,5,FALSE) -> 275 | F25: =VLOOKUP($A25,'2022 SpaceFuncData-Input'!$A$3:$I$85,6,FALSE) -> 275 | G25: =VLOOKUP($A25,'2022 SpaceFuncData-Input'!$A$3:$I$85,7,FALSE) -> 0.5 | H25: =VLOOKUP($A25,'2022 SpaceFuncData-Input'!$A$3:$I$85,8,FALSE) -> 0.578 | I25: =VLOOKUP($A25,'2022 SpaceFuncData-Input'!$A$3:$I$85,9,FALSE) -> Gas | J25: =VLOOKUP($A25,'2025 Stds Ltg Table'!$B$4:$V$92,2,0) -> 0.4 | K25: =VLOOKUP($A25,'2025 Stds Ltg Table'!$B$4:$W$92,K$1,0) -> 0 | L25: =VLOOKUP($A25,'2025 Stds Ltg Table'!$B$4:$W$92,L$1,0) -> 0 | M25: =VLOOKUP($A25,'2025 Stds Ltg Table'!$B$4:$W$92,M$1,0) -> 0 | N25: =VLOOKUP($A25,'2025 Stds Ltg Table'!$B$4:$W$92,N$1,0) -> 0.25 | O25: =VLOOKUP($A25,'2025 Stds Ltg Table'!$B$4:$W$92,O$1,0) -> 0 | P25: =VLOOKUP($A25,'2025 Stds Ltg Table'!$B$4:$W$92,P$1,0) -> 0 | Q25: =VLOOKUP($A25,'2025 Stds Ltg Table'!$B$4:$W$92,Q$1,0) -> 0 | R25: =VLOOKUP($A25,'2025 Stds Ltg Table'!$B$4:$W$92,R$1,0) -> 0 | ... AD25: =VLOOKUP($A25,'2025 Stds Ltg Table'!$B$4:$W$92,AD$1,0) -> 0 | AE25: =VLOOKUP($A25,'2022 SpaceFuncData-Input'!$A$3:$Y$82,17,FALSE) -> 150 | AF25: =VLOOKUP($A25,'2022 SpaceFuncData-Input'!$A$3:$Y$82,18,FALSE) -> 150 | AG25: =VLOOKUP($A25,'2022 SpaceFuncData-Input'!$A$3:$Y$82,19,FALSE) -> 0 | AH25: =VLOOKUP($A25,'2022 SpaceFuncData-Input'!$A$3:$Y$82,20,FALSE) -> 0.25 | AI25: =VLOOKUP($A25,'2022 SpaceFuncData-Input'!$A$3:$Y$82,21,FALSE) -> 50 | AJ25: =VLOOKUP($A25,'2022 SpaceFuncData-Input'!$A$3:$Y$82,22,FALSE) -> 200 | AK25: =VLOOKUP($A25,'2022 SpaceFuncData-Input'!$A$3:$Y$82,23,FALSE) -> 1.5 | AL25: =VLOOKUP($A25,'2022 SpaceFuncData-Input'!$A$3:$Y$82,24,FALSE) -> 2 | AM25: =VLOOKUP($A25,'2022 SpaceFuncData-Input'!$A$3:$Y$82,25,FALSE) -> Restaurant | AN25: 1 | AO25: 0 | AP25: 0 | AQ25: 323
A26: ='2025 Stds Ltg Table'!B25 -> Electrical, Mechanical, Telephone Rooms | B26: =VLOOKUP($A26,'2022 SpaceFuncData-Input'!$A$3:$I$82,2,FALSE) -> Misc - Telephone closets | C26: =VLOOKUP($A26,'2022 SpaceFuncData-Input'!$A$3:$I$85,3,FALSE) -> 3 | D26: =VLOOKUP($A26,'2022 SpaceFuncData-Input'!$A$3:$I$85,4,FALSE) -> 0.5 | E26: =VLOOKUP($A26,'2022 SpaceFuncData-Input'!$A$3:$I$85,5,FALSE) -> 250 | F26: =VLOOKUP($A26,'2022 SpaceFuncData-Input'!$A$3:$I$85,6,FALSE) -> 250 | G26: =VLOOKUP($A26,'2022 SpaceFuncData-Input'!$A$3:$I$85,7,FALSE) -> 3 | H26: =VLOOKUP($A26,'2022 SpaceFuncData-Input'!$A$3:$I$85,8,FALSE) -> 0.18 | I26: =VLOOKUP($A26,'2022 SpaceFuncData-Input'!$A$3:$I$85,9,FALSE) -> Electric | J26: =VLOOKUP($A26,'2025 Stds Ltg Table'!$B$4:$V$92,2,0) -> 0.4 | K26: =VLOOKUP($A26,'2025 Stds Ltg Table'!$B$4:$W$92,K$1,0) -> 0 | L26: =VLOOKUP($A26,'2025 Stds Ltg Table'!$B$4:$W$92,L$1,0) -> 0.2 | M26: =VLOOKUP($A26,'2025 Stds Ltg Table'!$B$4:$W$92,M$1,0) -> 0 | N26: =VLOOKUP($A26,'2025 Stds Ltg Table'!$B$4:$W$92,N$1,0) -> 0 | O26: =VLOOKUP($A26,'2025 Stds Ltg Table'!$B$4:$W$92,O$1,0) -> 0 | P26: =VLOOKUP($A26,'2025 Stds Ltg Table'!$B$4:$W$92,P$1,0) -> 0 | Q26: =VLOOKUP($A26,'2025 Stds Ltg Table'!$B$4:$W$92,Q$1,0) -> 0 | R26: =VLOOKUP($A26,'2025 Stds Ltg Table'!$B$4:$W$92,R$1,0) -> 0 | ... AD26: =VLOOKUP($A26,'2025 Stds Ltg Table'!$B$4:$W$92,AD$1,0) -> 0 | AE26: =VLOOKUP($A26,'2022 SpaceFuncData-Input'!$A$3:$Y$82,17,FALSE) -> 8760 | AF26: =VLOOKUP($A26,'2022 SpaceFuncData-Input'!$A$3:$Y$82,18,FALSE) -> 8760 | AG26: =VLOOKUP($A26,'2022 SpaceFuncData-Input'!$A$3:$Y$82,19,FALSE) -> 0 | AH26: =VLOOKUP($A26,'2022 SpaceFuncData-Input'!$A$3:$Y$82,20,FALSE) -> 0 | AI26: =VLOOKUP($A26,'2022 SpaceFuncData-Input'!$A$3:$Y$82,21,FALSE) -> 200 | AJ26: =VLOOKUP($A26,'2022 SpaceFuncData-Input'!$A$3:$Y$82,22,FALSE) -> 200 | AK26: =VLOOKUP($A26,'2022 SpaceFuncData-Input'!$A$3:$Y$82,23,FALSE) -> 1 | AL26: =VLOOKUP($A26,'2022 SpaceFuncData-Input'!$A$3:$Y$82,24,FALSE) -> 4 | AM26: =VLOOKUP($A26,'2022 SpaceFuncData-Input'!$A$3:$Y$82,25,FALSE) -> Warehouse | AN26: 1 | AO26: 1 | AP26: 0 | AQ26: 324
A27: ='2025 Stds Ltg Table'!B26 -> Exercise/Fitness Center and Gymnasium Areas | B27: =VLOOKUP($A27,'2022 SpaceFuncData-Input'!$A$3:$I$82,2,FALSE) -> Sports/Entertainment - Gym, sports arena (play area) | C27: =VLOOKUP($A27,'2022 SpaceFuncData-Input'!$A$3:$I$85,3,FALSE) -> 20 | D27: =VLOOKUP($A27,'2022 SpaceFuncData-Input'!$A$3:$I$85,4,FALSE) -> 0.5 | E27: =VLOOKUP($A27,'2022 SpaceFuncData-Input'!$A$3:$I$85,5,FALSE) -> 255 | F27: =VLOOKUP($A27,'2022 SpaceFuncData-Input'!$A$3:$I$85,6,FALSE) -> 875 | G27: =VLOOKUP($A27,'2022 SpaceFuncData-Input'!$A$3:$I$85,7,FALSE) -> 0.5 | H27: =VLOOKUP($A27,'2022 SpaceFuncData-Input'!$A$3:$I$85,8,FALSE) -> 0.18 | I27: =VLOOKUP($A27,'2022 SpaceFuncData-Input'!$A$3:$I$85,9,FALSE) -> Gas | J27: =VLOOKUP($A27,'2025 Stds Ltg Table'!$B$4:$V$92,2,0) -> 0.5 | K27: =VLOOKUP($A27,'2025 Stds Ltg Table'!$B$4:$W$92,K$1,0) -> 0 | L27: =VLOOKUP($A27,'2025 Stds Ltg Table'!$B$4:$W$92,L$1,0) -> 0 | M27: =VLOOKUP($A27,'2025 Stds Ltg Table'!$B$4:$W$92,M$1,0) -> 0 | N27: =VLOOKUP($A27,'2025 Stds Ltg Table'!$B$4:$W$92,N$1,0) -> 0 | O27: =VLOOKUP($A27,'2025 Stds Ltg Table'!$B$4:$W$92,O$1,0) -> 0 | P27: =VLOOKUP($A27,'2025 Stds Ltg Table'!$B$4:$W$92,P$1,0) -> 0 | Q27: =VLOOKUP($A27,'2025 Stds Ltg Table'!$B$4:$W$92,Q$1,0) -> 0 | R27: =VLOOKUP($A27,'2025 Stds Ltg Table'!$B$4:$W$92,R$1,0) -> 0 | ... AD27: =VLOOKUP($A27,'2025 Stds Ltg Table'!$B$4:$W$92,AD$1,0) -> 0 | AE27: =VLOOKUP($A27,'2022 SpaceFuncData-Input'!$A$3:$Y$82,17,FALSE) -> 150 | AF27: =VLOOKUP($A27,'2022 SpaceFuncData-Input'!$A$3:$Y$82,18,FALSE) -> 150 | AG27: =VLOOKUP($A27,'2022 SpaceFuncData-Input'!$A$3:$Y$82,19,FALSE) -> 0 | AH27: =VLOOKUP($A27,'2022 SpaceFuncData-Input'!$A$3:$Y$82,20,FALSE) -> 0 | AI27: =VLOOKUP($A27,'2022 SpaceFuncData-Input'!$A$3:$Y$82,21,FALSE) -> 150 | AJ27: =VLOOKUP($A27,'2022 SpaceFuncData-Input'!$A$3:$Y$82,22,FALSE) -> 400 | AK27: =VLOOKUP($A27,'2022 SpaceFuncData-Input'!$A$3:$Y$82,23,FALSE) -> 1.5 | AL27: =VLOOKUP($A27,'2022 SpaceFuncData-Input'!$A$3:$Y$82,24,FALSE) -> 2 | AM27: =VLOOKUP($A27,'2022 SpaceFuncData-Input'!$A$3:$Y$82,25,FALSE) -> Retail | AN27: 1 | AO27: 0 | AP27: 1 | AQ27: 325
A28: ='2025 Stds Ltg Table'!B27 -> Financial Transaction Area | B28: =VLOOKUP($A28,'2022 SpaceFuncData-Input'!$A$3:$I$82,2,FALSE) -> Misc - Banks or bank lobbies | C28: =VLOOKUP($A28,'2022 SpaceFuncData-Input'!$A$3:$I$85,3,FALSE) -> 10 | D28: =VLOOKUP($A28,'2022 SpaceFuncData-Input'!$A$3:$I$85,4,FALSE) -> 0.5 | E28: =VLOOKUP($A28,'2022 SpaceFuncData-Input'!$A$3:$I$85,5,FALSE) -> 250 | F28: =VLOOKUP($A28,'2022 SpaceFuncData-Input'!$A$3:$I$85,6,FALSE) -> 250 | G28: =VLOOKUP($A28,'2022 SpaceFuncData-Input'!$A$3:$I$85,7,FALSE) -> 1.5 | H28: =VLOOKUP($A28,'2022 SpaceFuncData-Input'!$A$3:$I$85,8,FALSE) -> 0.18 | I28: =VLOOKUP($A28,'2022 SpaceFuncData-Input'!$A$3:$I$85,9,FALSE) -> Electric | J28: =VLOOKUP($A28,'2025 Stds Ltg Table'!$B$4:$V$92,2,0) -> 0.7 | K28: =VLOOKUP($A28,'2025 Stds Ltg Table'!$B$4:$W$92,K$1,0) -> 0 | L28: =VLOOKUP($A28,'2025 Stds Ltg Table'!$B$4:$W$92,L$1,0) -> 0 | M28: =VLOOKUP($A28,'2025 Stds Ltg Table'!$B$4:$W$92,M$1,0) -> 0 | N28: =VLOOKUP($A28,'2025 Stds Ltg Table'!$B$4:$W$92,N$1,0) -> 0.25 | O28: =VLOOKUP($A28,'2025 Stds Ltg Table'!$B$4:$W$92,O$1,0) -> 0 | P28: =VLOOKUP($A28,'2025 Stds Ltg Table'!$B$4:$W$92,P$1,0) -> 0 | Q28: =VLOOKUP($A28,'2025 Stds Ltg Table'!$B$4:$W$92,Q$1,0) -> 0 | R28: =VLOOKUP($A28,'2025 Stds Ltg Table'!$B$4:$W$92,R$1,0) -> 0 | ... AD28: =VLOOKUP($A28,'2025 Stds Ltg Table'!$B$4:$W$92,AD$1,0) -> 0 | AE28: =VLOOKUP($A28,'2022 SpaceFuncData-Input'!$A$3:$Y$82,17,FALSE) -> 150 | AF28: =VLOOKUP($A28,'2022 SpaceFuncData-Input'!$A$3:$Y$82,18,FALSE) -> 150 | AG28: =VLOOKUP($A28,'2022 SpaceFuncData-Input'!$A$3:$Y$82,19,FALSE) -> 0 | AH28: =VLOOKUP($A28,'2022 SpaceFuncData-Input'!$A$3:$Y$82,20,FALSE) -> 0 | AI28: =VLOOKUP($A28,'2022 SpaceFuncData-Input'!$A$3:$Y$82,21,FALSE) -> 100 | AJ28: =VLOOKUP($A28,'2022 SpaceFuncData-Input'!$A$3:$Y$82,22,FALSE) -> 300 | AK28: =VLOOKUP($A28,'2022 SpaceFuncData-Input'!$A$3:$Y$82,23,FALSE) -> 1.5 | AL28: =VLOOKUP($A28,'2022 SpaceFuncData-Input'!$A$3:$Y$82,24,FALSE) -> 2 | AM28: =VLOOKUP($A28,'2022 SpaceFuncData-Input'!$A$3:$Y$82,25,FALSE) -> Office | AN28: 1 | AO28: 0 | AP28: 0 | AQ28: 326
A29: ='2025 Stds Ltg Table'!B28 -> Healthcare Facility and Hospitals (Exam/Treatment Room) | B29: =VLOOKUP($A29,'2022 SpaceFuncData-Input'!$A$3:$I$82,2,FALSE) -> Misc - All others | C29: =VLOOKUP($A29,'2022 SpaceFuncData-Input'!$A$3:$I$85,3,FALSE) -> 10 | D29: =VLOOKUP($A29,'2022 SpaceFuncData-Input'!$A$3:$I$85,4,FALSE) -> 0.5 | E29: =VLOOKUP($A29,'2022 SpaceFuncData-Input'!$A$3:$I$85,5,FALSE) -> 250 | F29: =VLOOKUP($A29,'2022 SpaceFuncData-Input'!$A$3:$I$85,6,FALSE) -> 200 | G29: =VLOOKUP($A29,'2022 SpaceFuncData-Input'!$A$3:$I$85,7,FALSE) -> 1.5 | H29: =VLOOKUP($A29,'2022 SpaceFuncData-Input'!$A$3:$I$85,8,FALSE) -> 0.24 | I29: =VLOOKUP($A29,'2022 SpaceFuncData-Input'!$A$3:$I$85,9,FALSE) -> Electric | J29: =VLOOKUP($A29,'2025 Stds Ltg Table'!$B$4:$V$92,2,0) -> 1.15 | K29: =VLOOKUP($A29,'2025 Stds Ltg Table'!$B$4:$W$92,K$1,0) -> 0 | L29: =VLOOKUP($A29,'2025 Stds Ltg Table'!$B$4:$W$92,L$1,0) -> 0 | M29: =VLOOKUP($A29,'2025 Stds Ltg Table'!$B$4:$W$92,M$1,0) -> 0 | N29: =VLOOKUP($A29,'2025 Stds Ltg Table'!$B$4:$W$92,N$1,0) -> 0 | O29: =VLOOKUP($A29,'2025 Stds Ltg Table'!$B$4:$W$92,O$1,0) -> 0 | P29: =VLOOKUP($A29,'2025 Stds Ltg Table'!$B$4:$W$92,P$1,0) -> 0 | Q29: =VLOOKUP($A29,'2025 Stds Ltg Table'!$B$4:$W$92,Q$1,0) -> 0 | R29: =VLOOKUP($A29,'2025 Stds Ltg Table'!$B$4:$W$92,R$1,0) -> 0 | ... AD29: =VLOOKUP($A29,'2025 Stds Ltg Table'!$B$4:$W$92,AD$1,0) -> 0 | AE29: =VLOOKUP($A29,'2022 SpaceFuncData-Input'!$A$3:$Y$82,17,FALSE) -> 150 | AF29: =VLOOKUP($A29,'2022 SpaceFuncData-Input'!$A$3:$Y$82,18,FALSE) -> 150 | AG29: =VLOOKUP($A29,'2022 SpaceFuncData-Input'!$A$3:$Y$82,19,FALSE) -> 1.12596 | AH29: =VLOOKUP($A29,'2022 SpaceFuncData-Input'!$A$3:$Y$82,20,FALSE) -> 0 | AI29: =VLOOKUP($A29,'2022 SpaceFuncData-Input'!$A$3:$Y$82,21,FALSE) -> 300 | AJ29: =VLOOKUP($A29,'2022 SpaceFuncData-Input'!$A$3:$Y$82,22,FALSE) -> 3000 | AK29: =VLOOKUP($A29,'2022 SpaceFuncData-Input'!$A$3:$Y$82,23,FALSE) -> 1.5 | AL29: =VLOOKUP($A29,'2022 SpaceFuncData-Input'!$A$3:$Y$82,24,FALSE) -> 2 | AM29: =VLOOKUP($A29,'2022 SpaceFuncData-Input'!$A$3:$Y$82,25,FALSE) -> Health | AN29: 1 | AO29: 0 | AP29: 0 | AQ29: 327
A30: ='2025 Stds Ltg Table'!B29 -> Healthcare Facility and Hospitals (Imaging Room) | B30: =VLOOKUP($A30,'2022 SpaceFuncData-Input'!$A$3:$I$82,2,FALSE) -> Misc - All others | C30: =VLOOKUP($A30,'2022 SpaceFuncData-Input'!$A$3:$I$85,3,FALSE) -> 10 | D30: =VLOOKUP($A30,'2022 SpaceFuncData-Input'!$A$3:$I$85,4,FALSE) -> 0.5 | E30: =VLOOKUP($A30,'2022 SpaceFuncData-Input'!$A$3:$I$85,5,FALSE) -> 250 | F30: =VLOOKUP($A30,'2022 SpaceFuncData-Input'!$A$3:$I$85,6,FALSE) -> 200 | G30: =VLOOKUP($A30,'2022 SpaceFuncData-Input'!$A$3:$I$85,7,FALSE) -> 1.5 | H30: =VLOOKUP($A30,'2022 SpaceFuncData-Input'!$A$3:$I$85,8,FALSE) -> 0.24 | I30: =VLOOKUP($A30,'2022 SpaceFuncData-Input'!$A$3:$I$85,9,FALSE) -> Gas | J30: =VLOOKUP($A30,'2025 Stds Ltg Table'!$B$4:$V$92,2,0) -> 0.6 | K30: =VLOOKUP($A30,'2025 Stds Ltg Table'!$B$4:$W$92,K$1,0) -> 0 | L30: =VLOOKUP($A30,'2025 Stds Ltg Table'!$B$4:$W$92,L$1,0) -> 0 | M30: =VLOOKUP($A30,'2025 Stds Ltg Table'!$B$4:$W$92,M$1,0) -> 0 | N30: =VLOOKUP($A30,'2025 Stds Ltg Table'!$B$4:$W$92,N$1,0) -> 0.2 | O30: =VLOOKUP($A30,'2025 Stds Ltg Table'!$B$4:$W$92,O$1,0) -> 0 | P30: =VLOOKUP($A30,'2025 Stds Ltg Table'!$B$4:$W$92,P$1,0) -> 0 | Q30: =VLOOKUP($A30,'2025 Stds Ltg Table'!$B$4:$W$92,Q$1,0) -> 0 | R30: =VLOOKUP($A30,'2025 Stds Ltg Table'!$B$4:$W$92,R$1,0) -> 0 | ... AD30: =VLOOKUP($A30,'2025 Stds Ltg Table'!$B$4:$W$92,AD$1,0) -> 0 | AE30: =VLOOKUP($A30,'2022 SpaceFuncData-Input'!$A$3:$Y$82,17,FALSE) -> 150 | AF30: =VLOOKUP($A30,'2022 SpaceFuncData-Input'!$A$3:$Y$82,18,FALSE) -> 150 | AG30: =VLOOKUP($A30,'2022 SpaceFuncData-Input'!$A$3:$Y$82,19,FALSE) -> 0 | AH30: =VLOOKUP($A30,'2022 SpaceFuncData-Input'!$A$3:$Y$82,20,FALSE) -> 0 | AI30: =VLOOKUP($A30,'2022 SpaceFuncData-Input'!$A$3:$Y$82,21,FALSE) -> 75 | AJ30: =VLOOKUP($A30,'2022 SpaceFuncData-Input'!$A$3:$Y$82,22,FALSE) -> 500 | AK30: =VLOOKUP($A30,'2022 SpaceFuncData-Input'!$A$3:$Y$82,23,FALSE) -> 1.5 | AL30: =VLOOKUP($A30,'2022 SpaceFuncData-Input'!$A$3:$Y$82,24,FALSE) -> 2 | AM30: =VLOOKUP($A30,'2022 SpaceFuncData-Input'!$A$3:$Y$82,25,FALSE) -> Health | AN30: 1 | AO30: 0 | AP30: 0 | AQ30: 328
... A37: ='2025 Stds Ltg Table'!B36 -> Healthcare Facility and Hospitals (Recovery Room) | B37: =VLOOKUP($A37,'2022 SpaceFuncData-Input'!$A$3:$I$82,2,FALSE) -> Misc - All others | C37: =VLOOKUP($A37,'2022 SpaceFuncData-Input'!$A$3:$I$85,3,FALSE) -> 10 | D37: =VLOOKUP($A37,'2022 SpaceFuncData-Input'!$A$3:$I$85,4,FALSE) -> 0.5 | E37: =VLOOKUP($A37,'2022 SpaceFuncData-Input'!$A$3:$I$85,5,FALSE) -> 250 | F37: =VLOOKUP($A37,'2022 SpaceFuncData-Input'!$A$3:$I$85,6,FALSE) -> 200 | G37: =VLOOKUP($A37,'2022 SpaceFuncData-Input'!$A$3:$I$85,7,FALSE) -> 1.5 | H37: =VLOOKUP($A37,'2022 SpaceFuncData-Input'!$A$3:$I$85,8,FALSE) -> 0.24 | I37: =VLOOKUP($A37,'2022 SpaceFuncData-Input'!$A$3:$I$85,9,FALSE) -> Gas | J37: =VLOOKUP($A37,'2025 Stds Ltg Table'!$B$4:$V$92,2,0) -> 0.9 | K37: =VLOOKUP($A37,'2025 Stds Ltg Table'!$B$4:$W$92,K$1,0) -> 0 | L37: =VLOOKUP($A37,'2025 Stds Ltg Table'!$B$4:$W$92,L$1,0) -> 0 | M37: =VLOOKUP($A37,'2025 Stds Ltg Table'!$B$4:$W$92,M$1,0) -> 0 | N37: =VLOOKUP($A37,'2025 Stds Ltg Table'!$B$4:$W$92,N$1,0) -> 0 | O37: =VLOOKUP($A37,'2025 Stds Ltg Table'!$B$4:$W$92,O$1,0) -> 0 | P37: =VLOOKUP($A37,'2025 Stds Ltg Table'!$B$4:$W$92,P$1,0) -> 0 | Q37: =VLOOKUP($A37,'2025 Stds Ltg Table'!$B$4:$W$92,Q$1,0) -> 0 | R37: =VLOOKUP($A37,'2025 Stds Ltg Table'!$B$4:$W$92,R$1,0) -> 0 | ... AD37: =VLOOKUP($A37,'2025 Stds Ltg Table'!$B$4:$W$92,AD$1,0) -> 0 | AE37: =VLOOKUP($A37,'2022 SpaceFuncData-Input'!$A$3:$Y$82,17,FALSE) -> 150 | AF37: =VLOOKUP($A37,'2022 SpaceFuncData-Input'!$A$3:$Y$82,18,FALSE) -> 150 | AG37: =VLOOKUP($A37,'2022 SpaceFuncData-Input'!$A$3:$Y$82,19,FALSE) -> 0 | AH37: =VLOOKUP($A37,'2022 SpaceFuncData-Input'!$A$3:$Y$82,20,FALSE) -> 0 | AI37: =VLOOKUP($A37,'2022 SpaceFuncData-Input'!$A$3:$Y$82,21,FALSE) -> 20 | AJ37: =VLOOKUP($A37,'2022 SpaceFuncData-Input'!$A$3:$Y$82,22,FALSE) -> 200 | AK37: =VLOOKUP($A37,'2022 SpaceFuncData-Input'!$A$3:$Y$82,23,FALSE) -> 1.5 | AL37: =VLOOKUP($A37,'2022 SpaceFuncData-Input'!$A$3:$Y$82,24,FALSE) -> 2 | AM37: =VLOOKUP($A37,'2022 SpaceFuncData-Input'!$A$3:$Y$82,25,FALSE) -> Health | AN37: 1 | AO37: 0 | AP37: 0 | AQ37: 335
A38: ='2025 Stds Ltg Table'!B77 -> High-Rise Residential Living Spaces | B38: =VLOOKUP($A38,'2022 SpaceFuncData-Input'!$A$3:$I$82,2,FALSE) -> NA | C38: =VLOOKUP($A38,'2022 SpaceFuncData-Input'!$A$3:$I$85,3,FALSE) -> 5 | D38: =VLOOKUP($A38,'2022 SpaceFuncData-Input'!$A$3:$I$85,4,FALSE) -> 0.5 | E38: =VLOOKUP($A38,'2022 SpaceFuncData-Input'!$A$3:$I$85,5,FALSE) -> 245 | F38: =VLOOKUP($A38,'2022 SpaceFuncData-Input'!$A$3:$I$85,6,FALSE) -> 155 | G38: =VLOOKUP($A38,'2022 SpaceFuncData-Input'!$A$3:$I$85,7,FALSE) -> 0.5 | H38: =VLOOKUP($A38,'2022 SpaceFuncData-Input'!$A$3:$I$85,8,FALSE) -> RULE Spc:DwellingUnitXGalPerDay | I38: =VLOOKUP($A38,'2022 SpaceFuncData-Input'!$A$3:$I$85,9,FALSE) -> Gas | J38: =VLOOKUP($A38,'2025 Stds Ltg Table'!$B$4:$V$92,2,0) -> na | K38: =VLOOKUP($A38,'2025 Stds Ltg Table'!$B$4:$W$92,K$1,0) -> 0 | L38: =VLOOKUP($A38,'2025 Stds Ltg Table'!$B$4:$W$92,L$1,0) -> 0 | M38: =VLOOKUP($A38,'2025 Stds Ltg Table'!$B$4:$W$92,M$1,0) -> 0 | N38: =VLOOKUP($A38,'2025 Stds Ltg Table'!$B$4:$W$92,N$1,0) -> 0 | O38: =VLOOKUP($A38,'2025 Stds Ltg Table'!$B$4:$W$92,O$1,0) -> 0 | P38: =VLOOKUP($A38,'2025 Stds Ltg Table'!$B$4:$W$92,P$1,0) -> 0 | Q38: =VLOOKUP($A38,'2025 Stds Ltg Table'!$B$4:$W$92,Q$1,0) -> 0 | R38: =VLOOKUP($A38,'2025 Stds Ltg Table'!$B$4:$W$92,R$1,0) -> 0 | ... AD38: =VLOOKUP($A38,'2025 Stds Ltg Table'!$B$4:$W$92,AD$1,0) -> 0 | AE38: =VLOOKUP($A38,'2022 SpaceFuncData-Input'!$A$3:$Y$82,17,FALSE) -> 150 | AF38: =VLOOKUP($A38,'2022 SpaceFuncData-Input'!$A$3:$Y$82,18,FALSE) -> 150 | AG38: =VLOOKUP($A38,'2022 SpaceFuncData-Input'!$A$3:$Y$82,19,FALSE) -> 0.6824 | AH38: =VLOOKUP($A38,'2022 SpaceFuncData-Input'!$A$3:$Y$82,20,FALSE) -> 0 | AI38: =VLOOKUP($A38,'2022 SpaceFuncData-Input'!$A$3:$Y$82,21,FALSE) -> 20 | AJ38: =VLOOKUP($A38,'2022 SpaceFuncData-Input'!$A$3:$Y$82,22,FALSE) -> 200 | AK38: =VLOOKUP($A38,'2022 SpaceFuncData-Input'!$A$3:$Y$82,23,FALSE) -> 1.5 | AL38: =VLOOKUP($A38,'2022 SpaceFuncData-Input'!$A$3:$Y$82,24,FALSE) -> 2 | AM38: =VLOOKUP($A38,'2022 SpaceFuncData-Input'!$A$3:$Y$82,25,FALSE) -> ResidentialLiving | AN38: 0 | AO38: 1 | AP38: 0 | AQ38: 336
A39: ='2025 Stds Ltg Table'!B37 -> Hotel Function Area | B39: =VLOOKUP($A39,'2022 SpaceFuncData-Input'!$A$3:$I$82,2,FALSE) -> Lodging - Multipurpose assembly | C39: =VLOOKUP($A39,'2022 SpaceFuncData-Input'!$A$3:$I$85,3,FALSE) -> 142.85714 | D39: =VLOOKUP($A39,'2022 SpaceFuncData-Input'!$A$3:$I$85,4,FALSE) -> 0.5 | E39: =VLOOKUP($A39,'2022 SpaceFuncData-Input'!$A$3:$I$85,5,FALSE) -> 250 | F39: =VLOOKUP($A39,'2022 SpaceFuncData-Input'!$A$3:$I$85,6,FALSE) -> 200 | G39: =VLOOKUP($A39,'2022 SpaceFuncData-Input'!$A$3:$I$85,7,FALSE) -> 0.5 | H39: =VLOOKUP($A39,'2022 SpaceFuncData-Input'!$A$3:$I$85,8,FALSE) -> 0.096 | I39: =VLOOKUP($A39,'2022 SpaceFuncData-Input'!$A$3:$I$85,9,FALSE) -> Gas | J39: =VLOOKUP($A39,'2025 Stds Ltg Table'!$B$4:$V$92,2,0) -> 0.85 | K39: =VLOOKUP($A39,'2025 Stds Ltg Table'!$B$4:$W$92,K$1,0) -> 0 | L39: =VLOOKUP($A39,'2025 Stds Ltg Table'!$B$4:$W$92,L$1,0) -> 0 | M39: =VLOOKUP($A39,'2025 Stds Ltg Table'!$B$4:$W$92,M$1,0) -> 0 | N39: =VLOOKUP($A39,'2025 Stds Ltg Table'!$B$4:$W$92,N$1,0) -> 0.25 | O39: =VLOOKUP($A39,'2025 Stds Ltg Table'!$B$4:$W$92,O$1,0) -> 0 | P39: =VLOOKUP($A39,'2025 Stds Ltg Table'!$B$4:$W$92,P$1,0) -> 0 | Q39: =VLOOKUP($A39,'2025 Stds Ltg Table'!$B$4:$W$92,Q$1,0) -> 0 | R39: =VLOOKUP($A39,'2025 Stds Ltg Table'!$B$4:$W$92,R$1,0) -> 0 | ... AD39: =VLOOKUP($A39,'2025 Stds Ltg Table'!$B$4:$W$92,AD$1,0) -> 0 | AE39: =VLOOKUP($A39,'2022 SpaceFuncData-Input'!$A$3:$Y$82,17,FALSE) -> 150 | AF39: =VLOOKUP($A39,'2022 SpaceFuncData-Input'!$A$3:$Y$82,18,FALSE) -> 150 | AG39: =VLOOKUP($A39,'2022 SpaceFuncData-Input'!$A$3:$Y$82,19,FALSE) -> 0 | AH39: =VLOOKUP($A39,'2022 SpaceFuncData-Input'!$A$3:$Y$82,20,FALSE) -> 0 | AI39: =VLOOKUP($A39,'2022 SpaceFuncData-Input'!$A$3:$Y$82,21,FALSE) -> 50 | AJ39: =VLOOKUP($A39,'2022 SpaceFuncData-Input'!$A$3:$Y$82,22,FALSE) -> 300 | AK39: =VLOOKUP($A39,'2022 SpaceFuncData-Input'!$A$3:$Y$82,23,FALSE) -> 1.5 | AL39: =VLOOKUP($A39,'2022 SpaceFuncData-Input'!$A$3:$Y$82,24,FALSE) -> 2 | AM39: =VLOOKUP($A39,'2022 SpaceFuncData-Input'!$A$3:$Y$82,25,FALSE) -> Assembly | AN39: 0 | AO39: 0 | AP39: 0 | AQ39: 337
A40: ='2025 Stds Ltg Table'!B78 -> Hotel/Motel Guest Room | B40: =VLOOKUP($A40,'2022 SpaceFuncData-Input'!$A$3:$I$82,2,FALSE) -> Lodging - Bedroom/living room | C40: =VLOOKUP($A40,'2022 SpaceFuncData-Input'!$A$3:$I$85,3,FALSE) -> 5 | D40: =VLOOKUP($A40,'2022 SpaceFuncData-Input'!$A$3:$I$85,4,FALSE) -> 0.5 | E40: =VLOOKUP($A40,'2022 SpaceFuncData-Input'!$A$3:$I$85,5,FALSE) -> 245 | F40: =VLOOKUP($A40,'2022 SpaceFuncData-Input'!$A$3:$I$85,6,FALSE) -> 155 | G40: =VLOOKUP($A40,'2022 SpaceFuncData-Input'!$A$3:$I$85,7,FALSE) -> 0.5 | H40: =VLOOKUP($A40,'2022 SpaceFuncData-Input'!$A$3:$I$85,8,FALSE) -> 4.48 | I40: =VLOOKUP($A40,'2022 SpaceFuncData-Input'!$A$3:$I$85,9,FALSE) -> Gas | J40: =VLOOKUP($A40,'2025 Stds Ltg Table'!$B$4:$V$92,2,0) -> na | K40: =VLOOKUP($A40,'2025 Stds Ltg Table'!$B$4:$W$92,K$1,0) -> 0 | L40: =VLOOKUP($A40,'2025 Stds Ltg Table'!$B$4:$W$92,L$1,0) -> 0 | M40: =VLOOKUP($A40,'2025 Stds Ltg Table'!$B$4:$W$92,M$1,0) -> 0 | N40: =VLOOKUP($A40,'2025 Stds Ltg Table'!$B$4:$W$92,N$1,0) -> 0 | O40: =VLOOKUP($A40,'2025 Stds Ltg Table'!$B$4:$W$92,O$1,0) -> 0 | P40: =VLOOKUP($A40,'2025 Stds Ltg Table'!$B$4:$W$92,P$1,0) -> 0 | Q40: =VLOOKUP($A40,'2025 Stds Ltg Table'!$B$4:$W$92,Q$1,0) -> 0 | R40: =VLOOKUP($A40,'2025 Stds Ltg Table'!$B$4:$W$92,R$1,0) -> 0 | ... AD40: =VLOOKUP($A40,'2025 Stds Ltg Table'!$B$4:$W$92,AD$1,0) -> 0 | AE40: =VLOOKUP($A40,'2022 SpaceFuncData-Input'!$A$3:$Y$82,17,FALSE) -> 150 | AF40: =VLOOKUP($A40,'2022 SpaceFuncData-Input'!$A$3:$Y$82,18,FALSE) -> 150 | AG40: =VLOOKUP($A40,'2022 SpaceFuncData-Input'!$A$3:$Y$82,19,FALSE) -> 0 | AH40: =VLOOKUP($A40,'2022 SpaceFuncData-Input'!$A$3:$Y$82,20,FALSE) -> 0 | AI40: =VLOOKUP($A40,'2022 SpaceFuncData-Input'!$A$3:$Y$82,21,FALSE) -> 20 | AJ40: =VLOOKUP($A40,'2022 SpaceFuncData-Input'!$A$3:$Y$82,22,FALSE) -> 200 | AK40: =VLOOKUP($A40,'2022 SpaceFuncData-Input'!$A$3:$Y$82,23,FALSE) -> 1.5 | AL40: =VLOOKUP($A40,'2022 SpaceFuncData-Input'!$A$3:$Y$82,24,FALSE) -> 2 | AM40: =VLOOKUP($A40,'2022 SpaceFuncData-Input'!$A$3:$Y$82,25,FALSE) -> ResidentialLiving | AN40: 0 | AO40: 0 | AP40: 0 | AQ40: 338
A41: ='2025 Stds Ltg Table'!B38 -> Kitchen/Food Preparation Area | B41: =VLOOKUP($A41,'2022 SpaceFuncData-Input'!$A$3:$I$82,2,FALSE) -> Food Service - Kitchen (cooking) | C41: =VLOOKUP($A41,'2022 SpaceFuncData-Input'!$A$3:$I$85,3,FALSE) -> 5 | D41: =VLOOKUP($A41,'2022 SpaceFuncData-Input'!$A$3:$I$85,4,FALSE) -> 0.5 | E41: =VLOOKUP($A41,'2022 SpaceFuncData-Input'!$A$3:$I$85,5,FALSE) -> 275 | F41: =VLOOKUP($A41,'2022 SpaceFuncData-Input'!$A$3:$I$85,6,FALSE) -> 475 | G41: =VLOOKUP($A41,'2022 SpaceFuncData-Input'!$A$3:$I$85,7,FALSE) -> 1.5 | H41: =VLOOKUP($A41,'2022 SpaceFuncData-Input'!$A$3:$I$85,8,FALSE) -> 0.578 | I41: =VLOOKUP($A41,'2022 SpaceFuncData-Input'!$A$3:$I$85,9,FALSE) -> Gas | J41: =VLOOKUP($A41,'2025 Stds Ltg Table'!$B$4:$V$92,2,0) -> 0.95 | K41: =VLOOKUP($A41,'2025 Stds Ltg Table'!$B$4:$W$92,K$1,0) -> 0 | L41: =VLOOKUP($A41,'2025 Stds Ltg Table'!$B$4:$W$92,L$1,0) -> 0 | M41: =VLOOKUP($A41,'2025 Stds Ltg Table'!$B$4:$W$92,M$1,0) -> 0 | N41: =VLOOKUP($A41,'2025 Stds Ltg Table'!$B$4:$W$92,N$1,0) -> 0 | O41: =VLOOKUP($A41,'2025 Stds Ltg Table'!$B$4:$W$92,O$1,0) -> 0 | P41: =VLOOKUP($A41,'2025 Stds Ltg Table'!$B$4:$W$92,P$1,0) -> 0 | Q41: =VLOOKUP($A41,'2025 Stds Ltg Table'!$B$4:$W$92,Q$1,0) -> 0 | R41: =VLOOKUP($A41,'2025 Stds Ltg Table'!$B$4:$W$92,R$1,0) -> 0 | ... AD41: =VLOOKUP($A41,'2025 Stds Ltg Table'!$B$4:$W$92,AD$1,0) -> 0 | AE41: =VLOOKUP($A41,'2022 SpaceFuncData-Input'!$A$3:$Y$82,17,FALSE) -> 150 | AF41: =VLOOKUP($A41,'2022 SpaceFuncData-Input'!$A$3:$Y$82,18,FALSE) -> 150 | AG41: =VLOOKUP($A41,'2022 SpaceFuncData-Input'!$A$3:$Y$82,19,FALSE) -> 17.53768 | AH41: =VLOOKUP($A41,'2022 SpaceFuncData-Input'!$A$3:$Y$82,20,FALSE) -> 1.12 | AI41: =VLOOKUP($A41,'2022 SpaceFuncData-Input'!$A$3:$Y$82,21,FALSE) -> 100 | AJ41: =VLOOKUP($A41,'2022 SpaceFuncData-Input'!$A$3:$Y$82,22,FALSE) -> 500 | AK41: =VLOOKUP($A41,'2022 SpaceFuncData-Input'!$A$3:$Y$82,23,FALSE) -> 1.5 | AL41: =VLOOKUP($A41,'2022 SpaceFuncData-Input'!$A$3:$Y$82,24,FALSE) -> 2 | AM41: =VLOOKUP($A41,'2022 SpaceFuncData-Input'!$A$3:$Y$82,25,FALSE) -> Restaurant | AN41: 1 | AO41: 0 | AP41: 1 | AQ41: 339
A42: ='2025 Stds Ltg Table'!B79 -> Kitchenette or Residential Kitchen | B42: =VLOOKUP($A42,'2022 SpaceFuncData-Input'!$A$3:$I$82,2,FALSE) -> Exhaust - Kitchenettes | C42: =VLOOKUP($A42,'2022 SpaceFuncData-Input'!$A$3:$I$85,3,FALSE) -> 5 | D42: =VLOOKUP($A42,'2022 SpaceFuncData-Input'!$A$3:$I$85,4,FALSE) -> 0.5 | E42: =VLOOKUP($A42,'2022 SpaceFuncData-Input'!$A$3:$I$85,5,FALSE) -> 275 | F42: =VLOOKUP($A42,'2022 SpaceFuncData-Input'!$A$3:$I$85,6,FALSE) -> 475 | G42: =VLOOKUP($A42,'2022 SpaceFuncData-Input'!$A$3:$I$85,7,FALSE) -> 1 | H42: =VLOOKUP($A42,'2022 SpaceFuncData-Input'!$A$3:$I$85,8,FALSE) -> 0.36 | I42: =VLOOKUP($A42,'2022 SpaceFuncData-Input'!$A$3:$I$85,9,FALSE) -> Gas | J42: =VLOOKUP($A42,'2025 Stds Ltg Table'!$B$4:$V$92,2,0) -> 0.95 | K42: =VLOOKUP($A42,'2025 Stds Ltg Table'!$B$4:$W$92,K$1,0) -> 0 | L42: =VLOOKUP($A42,'2025 Stds Ltg Table'!$B$4:$W$92,L$1,0) -> 0 | M42: =VLOOKUP($A42,'2025 Stds Ltg Table'!$B$4:$W$92,M$1,0) -> 0 | N42: =VLOOKUP($A42,'2025 Stds Ltg Table'!$B$4:$W$92,N$1,0) -> 0 | O42: =VLOOKUP($A42,'2025 Stds Ltg Table'!$B$4:$W$92,O$1,0) -> 0 | P42: =VLOOKUP($A42,'2025 Stds Ltg Table'!$B$4:$W$92,P$1,0) -> 0 | Q42: =VLOOKUP($A42,'2025 Stds Ltg Table'!$B$4:$W$92,Q$1,0) -> 0 | R42: =VLOOKUP($A42,'2025 Stds Ltg Table'!$B$4:$W$92,R$1,0) -> 0 | ... AD42: =VLOOKUP($A42,'2025 Stds Ltg Table'!$B$4:$W$92,AD$1,0) -> 0 | AE42: =VLOOKUP($A42,'2022 SpaceFuncData-Input'!$A$3:$Y$82,17,FALSE) -> 150 | AF42: =VLOOKUP($A42,'2022 SpaceFuncData-Input'!$A$3:$Y$82,18,FALSE) -> 150 | AG42: =VLOOKUP($A42,'2022 SpaceFuncData-Input'!$A$3:$Y$82,19,FALSE) -> 3 | AH42: =VLOOKUP($A42,'2022 SpaceFuncData-Input'!$A$3:$Y$82,20,FALSE) -> 0.5 | AI42: =VLOOKUP($A42,'2022 SpaceFuncData-Input'!$A$3:$Y$82,21,FALSE) -> 100 | AJ42: =VLOOKUP($A42,'2022 SpaceFuncData-Input'!$A$3:$Y$82,22,FALSE) -> 500 | AK42: =VLOOKUP($A42,'2022 SpaceFuncData-Input'!$A$3:$Y$82,23,FALSE) -> 1.5 | AL42: =VLOOKUP($A42,'2022 SpaceFuncData-Input'!$A$3:$Y$82,24,FALSE) -> 2 | AM42: =VLOOKUP($A42,'2022 SpaceFuncData-Input'!$A$3:$Y$82,25,FALSE) -> Office | AN42: 1 | AO42: 0 | AP42: 0 | AQ42: 340
A43: ='2025 Stds Ltg Table'!B39 -> Laboratory, Scientific | B43: =VLOOKUP($A43,'2022 SpaceFuncData-Input'!$A$3:$I$82,2,FALSE) -> Education - University/college laboratories | C43: =VLOOKUP($A43,'2022 SpaceFuncData-Input'!$A$3:$I$85,3,FALSE) -> 10 | D43: =VLOOKUP($A43,'2022 SpaceFuncData-Input'!$A$3:$I$85,4,FALSE) -> 0.5 | E43: =VLOOKUP($A43,'2022 SpaceFuncData-Input'!$A$3:$I$85,5,FALSE) -> 250 | F43: =VLOOKUP($A43,'2022 SpaceFuncData-Input'!$A$3:$I$85,6,FALSE) -> 200 | G43: =VLOOKUP($A43,'2022 SpaceFuncData-Input'!$A$3:$I$85,7,FALSE) -> 2 | H43: =VLOOKUP($A43,'2022 SpaceFuncData-Input'!$A$3:$I$85,8,FALSE) -> 0.18 | I43: =VLOOKUP($A43,'2022 SpaceFuncData-Input'!$A$3:$I$85,9,FALSE) -> Gas | J43: =VLOOKUP($A43,'2025 Stds Ltg Table'!$B$4:$V$92,2,0) -> 0.9 | K43: =VLOOKUP($A43,'2025 Stds Ltg Table'!$B$4:$W$92,K$1,0) -> 0 | L43: =VLOOKUP($A43,'2025 Stds Ltg Table'!$B$4:$W$92,L$1,0) -> 0 | M43: =VLOOKUP($A43,'2025 Stds Ltg Table'!$B$4:$W$92,M$1,0) -> 0.35 | N43: =VLOOKUP($A43,'2025 Stds Ltg Table'!$B$4:$W$92,N$1,0) -> 0 | O43: =VLOOKUP($A43,'2025 Stds Ltg Table'!$B$4:$W$92,O$1,0) -> 0 | P43: =VLOOKUP($A43,'2025 Stds Ltg Table'!$B$4:$W$92,P$1,0) -> 0 | Q43: =VLOOKUP($A43,'2025 Stds Ltg Table'!$B$4:$W$92,Q$1,0) -> 0 | R43: =VLOOKUP($A43,'2025 Stds Ltg Table'!$B$4:$W$92,R$1,0) -> 0 | ... AD43: =VLOOKUP($A43,'2025 Stds Ltg Table'!$B$4:$W$92,AD$1,0) -> 0 | AE43: =VLOOKUP($A43,'2022 SpaceFuncData-Input'!$A$3:$Y$82,17,FALSE) -> 150 | AF43: =VLOOKUP($A43,'2022 SpaceFuncData-Input'!$A$3:$Y$82,18,FALSE) -> 150 | AG43: =VLOOKUP($A43,'2022 SpaceFuncData-Input'!$A$3:$Y$82,19,FALSE) -> 12.69264 | AH43: =VLOOKUP($A43,'2022 SpaceFuncData-Input'!$A$3:$Y$82,20,FALSE) -> 0.28 | AI43: =VLOOKUP($A43,'2022 SpaceFuncData-Input'!$A$3:$Y$82,21,FALSE) -> 500 | AJ43: =VLOOKUP($A43,'2022 SpaceFuncData-Input'!$A$3:$Y$82,22,FALSE) -> 1000 | AK43: =VLOOKUP($A43,'2022 SpaceFuncData-Input'!$A$3:$Y$82,23,FALSE) -> 1.5 | AL43: =VLOOKUP($A43,'2022 SpaceFuncData-Input'!$A$3:$Y$82,24,FALSE) -> 2 | AM43: =VLOOKUP($A43,'2022 SpaceFuncData-Input'!$A$3:$Y$82,25,FALSE) -> Laboratory | AN43: 1 | AO43: 1 | AP43: 0 | AQ43: 341
A44: ='2025 Stds Ltg Table'!B40 -> Laundry Area | B44: =VLOOKUP($A44,'2022 SpaceFuncData-Input'!$A$3:$I$82,2,FALSE) -> Lodging - Laundry rooms, central | C44: =VLOOKUP($A44,'2022 SpaceFuncData-Input'!$A$3:$I$85,3,FALSE) -> 10 | D44: =VLOOKUP($A44,'2022 SpaceFuncData-Input'!$A$3:$I$85,4,FALSE) -> 0.5 | E44: =VLOOKUP($A44,'2022 SpaceFuncData-Input'!$A$3:$I$85,5,FALSE) -> 250 | F44: =VLOOKUP($A44,'2022 SpaceFuncData-Input'!$A$3:$I$85,6,FALSE) -> 250 | G44: =VLOOKUP($A44,'2022 SpaceFuncData-Input'!$A$3:$I$85,7,FALSE) -> 3 | H44: =VLOOKUP($A44,'2022 SpaceFuncData-Input'!$A$3:$I$85,8,FALSE) -> 0.578 | I44: =VLOOKUP($A44,'2022 SpaceFuncData-Input'!$A$3:$I$85,9,FALSE) -> Gas | J44: =VLOOKUP($A44,'2025 Stds Ltg Table'!$B$4:$V$92,2,0) -> 0.45 | K44: =VLOOKUP($A44,'2025 Stds Ltg Table'!$B$4:$W$92,K$1,0) -> 0 | L44: =VLOOKUP($A44,'2025 Stds Ltg Table'!$B$4:$W$92,L$1,0) -> 0 | M44: =VLOOKUP($A44,'2025 Stds Ltg Table'!$B$4:$W$92,M$1,0) -> 0 | N44: =VLOOKUP($A44,'2025 Stds Ltg Table'!$B$4:$W$92,N$1,0) -> 0 | O44: =VLOOKUP($A44,'2025 Stds Ltg Table'!$B$4:$W$92,O$1,0) -> 0 | P44: =VLOOKUP($A44,'2025 Stds Ltg Table'!$B$4:$W$92,P$1,0) -> 0 | Q44: =VLOOKUP($A44,'2025 Stds Ltg Table'!$B$4:$W$92,Q$1,0) -> 0 | R44: =VLOOKUP($A44,'2025 Stds Ltg Table'!$B$4:$W$92,R$1,0) -> 0 | ... AD44: =VLOOKUP($A44,'2025 Stds Ltg Table'!$B$4:$W$92,AD$1,0) -> 0 | AE44: =VLOOKUP($A44,'2022 SpaceFuncData-Input'!$A$3:$Y$82,17,FALSE) -> 8760 | AF44: =VLOOKUP($A44,'2022 SpaceFuncData-Input'!$A$3:$Y$82,18,FALSE) -> 8760 | AG44: =VLOOKUP($A44,'2022 SpaceFuncData-Input'!$A$3:$Y$82,19,FALSE) -> 0.75064 | AH44: =VLOOKUP($A44,'2022 SpaceFuncData-Input'!$A$3:$Y$82,20,FALSE) -> 0 | AI44: =VLOOKUP($A44,'2022 SpaceFuncData-Input'!$A$3:$Y$82,21,FALSE) -> 100 | AJ44: =VLOOKUP($A44,'2022 SpaceFuncData-Input'!$A$3:$Y$82,22,FALSE) -> 300 | AK44: =VLOOKUP($A44,'2022 SpaceFuncData-Input'!$A$3:$Y$82,23,FALSE) -> 1.5 | AL44: =VLOOKUP($A44,'2022 SpaceFuncData-Input'!$A$3:$Y$82,24,FALSE) -> 2 | AM44: =VLOOKUP($A44,'2022 SpaceFuncData-Input'!$A$3:$Y$82,25,FALSE) -> ResidentialCommon | AN44: 1 | AO44: 0 | AP44: 1 | AQ44: 342
A45: ='2025 Stds Ltg Table'!B41 -> Library (Reading Area) | B45: =VLOOKUP($A45,'2022 SpaceFuncData-Input'!$A$3:$I$82,2,FALSE) -> Assembly - Libraries (reading rooms and stack areas) | C45: =VLOOKUP($A45,'2022 SpaceFuncData-Input'!$A$3:$I$85,3,FALSE) -> 20 | D45: =VLOOKUP($A45,'2022 SpaceFuncData-Input'!$A$3:$I$85,4,FALSE) -> 0.5 | E45: =VLOOKUP($A45,'2022 SpaceFuncData-Input'!$A$3:$I$85,5,FALSE) -> 250 | F45: =VLOOKUP($A45,'2022 SpaceFuncData-Input'!$A$3:$I$85,6,FALSE) -> 200 | G45: =VLOOKUP($A45,'2022 SpaceFuncData-Input'!$A$3:$I$85,7,FALSE) -> 1.5 | H45: =VLOOKUP($A45,'2022 SpaceFuncData-Input'!$A$3:$I$85,8,FALSE) -> 0.18 | I45: =VLOOKUP($A45,'2022 SpaceFuncData-Input'!$A$3:$I$85,9,FALSE) -> Electric | J45: =VLOOKUP($A45,'2025 Stds Ltg Table'!$B$4:$V$92,2,0) -> 0.8 | K45: =VLOOKUP($A45,'2025 Stds Ltg Table'!$B$4:$W$92,K$1,0) -> 0 | L45: =VLOOKUP($A45,'2025 Stds Ltg Table'!$B$4:$W$92,L$1,0) -> 0 | M45: =VLOOKUP($A45,'2025 Stds Ltg Table'!$B$4:$W$92,M$1,0) -> 0 | N45: =VLOOKUP($A45,'2025 Stds Ltg Table'!$B$4:$W$92,N$1,0) -> 0.25 | O45: =VLOOKUP($A45,'2025 Stds Ltg Table'!$B$4:$W$92,O$1,0) -> 0 | P45: =VLOOKUP($A45,'2025 Stds Ltg Table'!$B$4:$W$92,P$1,0) -> 0 | Q45: =VLOOKUP($A45,'2025 Stds Ltg Table'!$B$4:$W$92,Q$1,0) -> 0 | R45: =VLOOKUP($A45,'2025 Stds Ltg Table'!$B$4:$W$92,R$1,0) -> 0 | ... AD45: =VLOOKUP($A45,'2025 Stds Ltg Table'!$B$4:$W$92,AD$1,0) -> 0 | AE45: =VLOOKUP($A45,'2022 SpaceFuncData-Input'!$A$3:$Y$82,17,FALSE) -> 150 | AF45: =VLOOKUP($A45,'2022 SpaceFuncData-Input'!$A$3:$Y$82,18,FALSE) -> 150 | AG45: =VLOOKUP($A45,'2022 SpaceFuncData-Input'!$A$3:$Y$82,19,FALSE) -> 0 | AH45: =VLOOKUP($A45,'2022 SpaceFuncData-Input'!$A$3:$Y$82,20,FALSE) -> 0 | AI45: =VLOOKUP($A45,'2022 SpaceFuncData-Input'!$A$3:$Y$82,21,FALSE) -> 150 | AJ45: =VLOOKUP($A45,'2022 SpaceFuncData-Input'!$A$3:$Y$82,22,FALSE) -> 500 | AK45: =VLOOKUP($A45,'2022 SpaceFuncData-Input'!$A$3:$Y$82,23,FALSE) -> 1.5 | AL45: =VLOOKUP($A45,'2022 SpaceFuncData-Input'!$A$3:$Y$82,24,FALSE) -> 2 | AM45: =VLOOKUP($A45,'2022 SpaceFuncData-Input'!$A$3:$Y$82,25,FALSE) -> Office | AN45: 1 | AO45: 0 | AP45: 0 | AQ45: 343
A46: ='2025 Stds Ltg Table'!B42 -> Library (Stacks Area) | B46: =VLOOKUP($A46,'2022 SpaceFuncData-Input'!$A$3:$I$82,2,FALSE) -> Assembly - Libraries (reading rooms and stack areas) | C46: =VLOOKUP($A46,'2022 SpaceFuncData-Input'!$A$3:$I$85,3,FALSE) -> 10 | D46: =VLOOKUP($A46,'2022 SpaceFuncData-Input'!$A$3:$I$85,4,FALSE) -> 0.5 | E46: =VLOOKUP($A46,'2022 SpaceFuncData-Input'!$A$3:$I$85,5,FALSE) -> 250 | F46: =VLOOKUP($A46,'2022 SpaceFuncData-Input'!$A$3:$I$85,6,FALSE) -> 200 | G46: =VLOOKUP($A46,'2022 SpaceFuncData-Input'!$A$3:$I$85,7,FALSE) -> 1.5 | H46: =VLOOKUP($A46,'2022 SpaceFuncData-Input'!$A$3:$I$85,8,FALSE) -> 0.18 | I46: =VLOOKUP($A46,'2022 SpaceFuncData-Input'!$A$3:$I$85,9,FALSE) -> Electric | J46: =VLOOKUP($A46,'2025 Stds Ltg Table'!$B$4:$V$92,2,0) -> 1 | K46: =VLOOKUP($A46,'2025 Stds Ltg Table'!$B$4:$W$92,K$1,0) -> 0 | L46: =VLOOKUP($A46,'2025 Stds Ltg Table'!$B$4:$W$92,L$1,0) -> 0 | M46: =VLOOKUP($A46,'2025 Stds Ltg Table'!$B$4:$W$92,M$1,0) -> 0 | N46: =VLOOKUP($A46,'2025 Stds Ltg Table'!$B$4:$W$92,N$1,0) -> 0 | O46: =VLOOKUP($A46,'2025 Stds Ltg Table'!$B$4:$W$92,O$1,0) -> 0 | P46: =VLOOKUP($A46,'2025 Stds Ltg Table'!$B$4:$W$92,P$1,0) -> 0 | Q46: =VLOOKUP($A46,'2025 Stds Ltg Table'!$B$4:$W$92,Q$1,0) -> 0 | R46: =VLOOKUP($A46,'2025 Stds Ltg Table'!$B$4:$W$92,R$1,0) -> 0 | ... AD46: =VLOOKUP($A46,'2025 Stds Ltg Table'!$B$4:$W$92,AD$1,0) -> 0 | AE46: =VLOOKUP($A46,'2022 SpaceFuncData-Input'!$A$3:$Y$82,17,FALSE) -> 150 | AF46: =VLOOKUP($A46,'2022 SpaceFuncData-Input'!$A$3:$Y$82,18,FALSE) -> 150 | AG46: =VLOOKUP($A46,'2022 SpaceFuncData-Input'!$A$3:$Y$82,19,FALSE) -> 0 | AH46: =VLOOKUP($A46,'2022 SpaceFuncData-Input'!$A$3:$Y$82,20,FALSE) -> 0 | AI46: =VLOOKUP($A46,'2022 SpaceFuncData-Input'!$A$3:$Y$82,21,FALSE) -> 200 | AJ46: =VLOOKUP($A46,'2022 SpaceFuncData-Input'!$A$3:$Y$82,22,FALSE) -> 300 | AK46: =VLOOKUP($A46,'2022 SpaceFuncData-Input'!$A$3:$Y$82,23,FALSE) -> 1 | AL46: =VLOOKUP($A46,'2022 SpaceFuncData-Input'!$A$3:$Y$82,24,FALSE) -> 4 | AM46: =VLOOKUP($A46,'2022 SpaceFuncData-Input'!$A$3:$Y$82,25,FALSE) -> Office | AN46: 1 | AO46: 0 | AP46: 0 | AQ46: 344
A47: ='2025 Stds Ltg Table'!B43 -> Lobby, Main Entry | B47: =VLOOKUP($A47,'2022 SpaceFuncData-Input'!$A$3:$I$82,2,FALSE) -> Office - Main entry lobbies | C47: =VLOOKUP($A47,'2022 SpaceFuncData-Input'!$A$3:$I$85,3,FALSE) -> 66.666667 | D47: =VLOOKUP($A47,'2022 SpaceFuncData-Input'!$A$3:$I$85,4,FALSE) -> 0.5 | E47: =VLOOKUP($A47,'2022 SpaceFuncData-Input'!$A$3:$I$85,5,FALSE) -> 250 | F47: =VLOOKUP($A47,'2022 SpaceFuncData-Input'!$A$3:$I$85,6,FALSE) -> 250 | G47: =VLOOKUP($A47,'2022 SpaceFuncData-Input'!$A$3:$I$85,7,FALSE) -> 0.5 | H47: =VLOOKUP($A47,'2022 SpaceFuncData-Input'!$A$3:$I$85,8,FALSE) -> 0.09 | I47: =VLOOKUP($A47,'2022 SpaceFuncData-Input'!$A$3:$I$85,9,FALSE) -> Electric | J47: =VLOOKUP($A47,'2025 Stds Ltg Table'!$B$4:$V$92,2,0) -> 0.7 | K47: =VLOOKUP($A47,'2025 Stds Ltg Table'!$B$4:$W$92,K$1,0) -> 0 | L47: =VLOOKUP($A47,'2025 Stds Ltg Table'!$B$4:$W$92,L$1,0) -> 0 | M47: =VLOOKUP($A47,'2025 Stds Ltg Table'!$B$4:$W$92,M$1,0) -> 0 | N47: =VLOOKUP($A47,'2025 Stds Ltg Table'!$B$4:$W$92,N$1,0) -> 0.25 | O47: =VLOOKUP($A47,'2025 Stds Ltg Table'!$B$4:$W$92,O$1,0) -> 0 | P47: =VLOOKUP($A47,'2025 Stds Ltg Table'!$B$4:$W$92,P$1,0) -> 0 | Q47: =VLOOKUP($A47,'2025 Stds Ltg Table'!$B$4:$W$92,Q$1,0) -> 0 | R47: =VLOOKUP($A47,'2025 Stds Ltg Table'!$B$4:$W$92,R$1,0) -> 0 | ... AD47: =VLOOKUP($A47,'2025 Stds Ltg Table'!$B$4:$W$92,AD$1,0) -> 0 | AE47: =VLOOKUP($A47,'2022 SpaceFuncData-Input'!$A$3:$Y$82,17,FALSE) -> 150 | AF47: =VLOOKUP($A47,'2022 SpaceFuncData-Input'!$A$3:$Y$82,18,FALSE) -> 150 | AG47: =VLOOKUP($A47,'2022 SpaceFuncData-Input'!$A$3:$Y$82,19,FALSE) -> 0 | AH47: =VLOOKUP($A47,'2022 SpaceFuncData-Input'!$A$3:$Y$82,20,FALSE) -> 0 | AI47: =VLOOKUP($A47,'2022 SpaceFuncData-Input'!$A$3:$Y$82,21,FALSE) -> 50 | AJ47: =VLOOKUP($A47,'2022 SpaceFuncData-Input'!$A$3:$Y$82,22,FALSE) -> 200 | AK47: =VLOOKUP($A47,'2022 SpaceFuncData-Input'!$A$3:$Y$82,23,FALSE) -> 1.5 | AL47: =VLOOKUP($A47,'2022 SpaceFuncData-Input'!$A$3:$Y$82,24,FALSE) -> 2 | AM47: =VLOOKUP($A47,'2022 SpaceFuncData-Input'!$A$3:$Y$82,25,FALSE) -> Assembly | AN47: 1 | AO47: 0 | AP47: 1 | AQ47: 345
A48: ='2025 Stds Ltg Table'!B44 -> Locker Room | B48: =VLOOKUP($A48,'2022 SpaceFuncData-Input'!$A$3:$I$82,2,FALSE) -> Exhaust - Locker rooms for athletic or industrial facilities | C48: =VLOOKUP($A48,'2022 SpaceFuncData-Input'!$A$3:$I$85,3,FALSE) -> 20 | D48: =VLOOKUP($A48,'2022 SpaceFuncData-Input'!$A$3:$I$85,4,FALSE) -> 0.5 | E48: =VLOOKUP($A48,'2022 SpaceFuncData-Input'!$A$3:$I$85,5,FALSE) -> 255 | F48: =VLOOKUP($A48,'2022 SpaceFuncData-Input'!$A$3:$I$85,6,FALSE) -> 475 | G48: =VLOOKUP($A48,'2022 SpaceFuncData-Input'!$A$3:$I$85,7,FALSE) -> 0.5 | H48: =VLOOKUP($A48,'2022 SpaceFuncData-Input'!$A$3:$I$85,8,FALSE) -> 0.578 | I48: =VLOOKUP($A48,'2022 SpaceFuncData-Input'!$A$3:$I$85,9,FALSE) -> Gas | J48: =VLOOKUP($A48,'2025 Stds Ltg Table'!$B$4:$V$92,2,0) -> 0.45 | K48: =VLOOKUP($A48,'2025 Stds Ltg Table'!$B$4:$W$92,K$1,0) -> 0 | L48: =VLOOKUP($A48,'2025 Stds Ltg Table'!$B$4:$W$92,L$1,0) -> 0 | M48: =VLOOKUP($A48,'2025 Stds Ltg Table'!$B$4:$W$92,M$1,0) -> 0 | N48: =VLOOKUP($A48,'2025 Stds Ltg Table'!$B$4:$W$92,N$1,0) -> 0 | O48: =VLOOKUP($A48,'2025 Stds Ltg Table'!$B$4:$W$92,O$1,0) -> 0 | P48: =VLOOKUP($A48,'2025 Stds Ltg Table'!$B$4:$W$92,P$1,0) -> 0 | Q48: =VLOOKUP($A48,'2025 Stds Ltg Table'!$B$4:$W$92,Q$1,0) -> 0 | R48: =VLOOKUP($A48,'2025 Stds Ltg Table'!$B$4:$W$92,R$1,0) -> 0 | ... AD48: =VLOOKUP($A48,'2025 Stds Ltg Table'!$B$4:$W$92,AD$1,0) -> 0 | AE48: =VLOOKUP($A48,'2022 SpaceFuncData-Input'!$A$3:$Y$82,17,FALSE) -> 8760 | AF48: =VLOOKUP($A48,'2022 SpaceFuncData-Input'!$A$3:$Y$82,18,FALSE) -> 8760 | AG48: =VLOOKUP($A48,'2022 SpaceFuncData-Input'!$A$3:$Y$82,19,FALSE) -> 0 | AH48: =VLOOKUP($A48,'2022 SpaceFuncData-Input'!$A$3:$Y$82,20,FALSE) -> 0 | AI48: =VLOOKUP($A48,'2022 SpaceFuncData-Input'!$A$3:$Y$82,21,FALSE) -> 20 | AJ48: =VLOOKUP($A48,'2022 SpaceFuncData-Input'!$A$3:$Y$82,22,FALSE) -> 200 | AK48: =VLOOKUP($A48,'2022 SpaceFuncData-Input'!$A$3:$Y$82,23,FALSE) -> 1 | AL48: =VLOOKUP($A48,'2022 SpaceFuncData-Input'!$A$3:$Y$82,24,FALSE) -> 4 | AM48: =VLOOKUP($A48,'2022 SpaceFuncData-Input'!$A$3:$Y$82,25,FALSE) -> Assembly | AN48: 1 | AO48: 0 | AP48: 1 | AQ48: 346
A49: ='2025 Stds Ltg Table'!B45 -> Lounge, Breakroom, or Waiting Area | B49: =VLOOKUP($A49,'2022 SpaceFuncData-Input'!$A$3:$I$82,2,FALSE) -> General - Break rooms | C49: =VLOOKUP($A49,'2022 SpaceFuncData-Input'!$A$3:$I$85,3,FALSE) -> 66.666667 | D49: =VLOOKUP($A49,'2022 SpaceFuncData-Input'!$A$3:$I$85,4,FALSE) -> 0.5 | E49: =VLOOKUP($A49,'2022 SpaceFuncData-Input'!$A$3:$I$85,5,FALSE) -> 275 | F49: =VLOOKUP($A49,'2022 SpaceFuncData-Input'!$A$3:$I$85,6,FALSE) -> 275 | G49: =VLOOKUP($A49,'2022 SpaceFuncData-Input'!$A$3:$I$85,7,FALSE) -> 1 | H49: =VLOOKUP($A49,'2022 SpaceFuncData-Input'!$A$3:$I$85,8,FALSE) -> 0.09 | I49: =VLOOKUP($A49,'2022 SpaceFuncData-Input'!$A$3:$I$85,9,FALSE) -> Gas | J49: =VLOOKUP($A49,'2025 Stds Ltg Table'!$B$4:$V$92,2,0) -> 0.55 | K49: =VLOOKUP($A49,'2025 Stds Ltg Table'!$B$4:$W$92,K$1,0) -> 0 | L49: =VLOOKUP($A49,'2025 Stds Ltg Table'!$B$4:$W$92,L$1,0) -> 0 | M49: =VLOOKUP($A49,'2025 Stds Ltg Table'!$B$4:$W$92,M$1,0) -> 0 | N49: =VLOOKUP($A49,'2025 Stds Ltg Table'!$B$4:$W$92,N$1,0) -> 0.25 | O49: =VLOOKUP($A49,'2025 Stds Ltg Table'!$B$4:$W$92,O$1,0) -> 0 | P49: =VLOOKUP($A49,'2025 Stds Ltg Table'!$B$4:$W$92,P$1,0) -> 0 | Q49: =VLOOKUP($A49,'2025 Stds Ltg Table'!$B$4:$W$92,Q$1,0) -> 0 | R49: =VLOOKUP($A49,'2025 Stds Ltg Table'!$B$4:$W$92,R$1,0) -> 0 | ... AD49: =VLOOKUP($A49,'2025 Stds Ltg Table'!$B$4:$W$92,AD$1,0) -> 0 | AE49: =VLOOKUP($A49,'2022 SpaceFuncData-Input'!$A$3:$Y$82,17,FALSE) -> 150 | AF49: =VLOOKUP($A49,'2022 SpaceFuncData-Input'!$A$3:$Y$82,18,FALSE) -> 150 | AG49: =VLOOKUP($A49,'2022 SpaceFuncData-Input'!$A$3:$Y$82,19,FALSE) -> 0 | AH49: =VLOOKUP($A49,'2022 SpaceFuncData-Input'!$A$3:$Y$82,20,FALSE) -> 0 | AI49: =VLOOKUP($A49,'2022 SpaceFuncData-Input'!$A$3:$Y$82,21,FALSE) -> 40 | AJ49: =VLOOKUP($A49,'2022 SpaceFuncData-Input'!$A$3:$Y$82,22,FALSE) -> 300 | AK49: =VLOOKUP($A49,'2022 SpaceFuncData-Input'!$A$3:$Y$82,23,FALSE) -> 1.5 | AL49: =VLOOKUP($A49,'2022 SpaceFuncData-Input'!$A$3:$Y$82,24,FALSE) -> 2 | AM49: =VLOOKUP($A49,'2022 SpaceFuncData-Input'!$A$3:$Y$82,25,FALSE) -> Assembly | AN49: 1 | AO49: 1 | AP49: 0 | AQ49: 347
A50: ='2025 Stds Ltg Table'!B46 -> Manufacturing, Commercial & Industrial Work Area (Low Bay) | B50: =VLOOKUP($A50,'2022 SpaceFuncData-Input'!$A$3:$I$82,2,FALSE) -> Misc - General manufacturing (excludes heavy industrial and process using chemicals) | C50: =VLOOKUP($A50,'2022 SpaceFuncData-Input'!$A$3:$I$85,3,FALSE) -> 10 | D50: =VLOOKUP($A50,'2022 SpaceFuncData-Input'!$A$3:$I$85,4,FALSE) -> 0.5 | E50: =VLOOKUP($A50,'2022 SpaceFuncData-Input'!$A$3:$I$85,5,FALSE) -> 275 | F50: =VLOOKUP($A50,'2022 SpaceFuncData-Input'!$A$3:$I$85,6,FALSE) -> 475 | G50: =VLOOKUP($A50,'2022 SpaceFuncData-Input'!$A$3:$I$85,7,FALSE) -> 1 | H50: =VLOOKUP($A50,'2022 SpaceFuncData-Input'!$A$3:$I$85,8,FALSE) -> 0.18 | I50: =VLOOKUP($A50,'2022 SpaceFuncData-Input'!$A$3:$I$85,9,FALSE) -> Gas | J50: =VLOOKUP($A50,'2025 Stds Ltg Table'!$B$4:$V$92,2,0) -> 0.6 | K50: =VLOOKUP($A50,'2025 Stds Ltg Table'!$B$4:$W$92,K$1,0) -> 0 | L50: =VLOOKUP($A50,'2025 Stds Ltg Table'!$B$4:$W$92,L$1,0) -> 0.2 | M50: =VLOOKUP($A50,'2025 Stds Ltg Table'!$B$4:$W$92,M$1,0) -> 0 | N50: =VLOOKUP($A50,'2025 Stds Ltg Table'!$B$4:$W$92,N$1,0) -> 0 | O50: =VLOOKUP($A50,'2025 Stds Ltg Table'!$B$4:$W$92,O$1,0) -> 0 | P50: =VLOOKUP($A50,'2025 Stds Ltg Table'!$B$4:$W$92,P$1,0) -> 0 | Q50: =VLOOKUP($A50,'2025 Stds Ltg Table'!$B$4:$W$92,Q$1,0) -> 0 | R50: =VLOOKUP($A50,'2025 Stds Ltg Table'!$B$4:$W$92,R$1,0) -> 0 | ... AD50: =VLOOKUP($A50,'2025 Stds Ltg Table'!$B$4:$W$92,AD$1,0) -> 0 | AE50: =VLOOKUP($A50,'2022 SpaceFuncData-Input'!$A$3:$Y$82,17,FALSE) -> 150 | AF50: =VLOOKUP($A50,'2022 SpaceFuncData-Input'!$A$3:$Y$82,18,FALSE) -> 150 | AG50: =VLOOKUP($A50,'2022 SpaceFuncData-Input'!$A$3:$Y$82,19,FALSE) -> 0 | AH50: =VLOOKUP($A50,'2022 SpaceFuncData-Input'!$A$3:$Y$82,20,FALSE) -> 0 | AI50: =VLOOKUP($A50,'2022 SpaceFuncData-Input'!$A$3:$Y$82,21,FALSE) -> 300 | AJ50: =VLOOKUP($A50,'2022 SpaceFuncData-Input'!$A$3:$Y$82,22,FALSE) -> 1000 | AK50: =VLOOKUP($A50,'2022 SpaceFuncData-Input'!$A$3:$Y$82,23,FALSE) -> 1.5 | AL50: =VLOOKUP($A50,'2022 SpaceFuncData-Input'!$A$3:$Y$82,24,FALSE) -> 2 | AM50: =VLOOKUP($A50,'2022 SpaceFuncData-Input'!$A$3:$Y$82,25,FALSE) -> Manufacturing | AN50: 1 | AO50: 0 | AP50: 0 | AQ50: 348
A51: ='2025 Stds Ltg Table'!B47 -> Manufacturing, Commercial & Industrial Work Area (High Bay) | B51: =VLOOKUP($A51,'2022 SpaceFuncData-Input'!$A$3:$I$82,2,FALSE) -> Misc - General manufacturing (excludes heavy industrial and process using chemicals) | C51: =VLOOKUP($A51,'2022 SpaceFuncData-Input'!$A$3:$I$85,3,FALSE) -> 10 | D51: =VLOOKUP($A51,'2022 SpaceFuncData-Input'!$A$3:$I$85,4,FALSE) -> 0.5 | E51: =VLOOKUP($A51,'2022 SpaceFuncData-Input'!$A$3:$I$85,5,FALSE) -> 275 | F51: =VLOOKUP($A51,'2022 SpaceFuncData-Input'!$A$3:$I$85,6,FALSE) -> 475 | G51: =VLOOKUP($A51,'2022 SpaceFuncData-Input'!$A$3:$I$85,7,FALSE) -> 1 | H51: =VLOOKUP($A51,'2022 SpaceFuncData-Input'!$A$3:$I$85,8,FALSE) -> 0.18 | I51: =VLOOKUP($A51,'2022 SpaceFuncData-Input'!$A$3:$I$85,9,FALSE) -> Gas | J51: =VLOOKUP($A51,'2025 Stds Ltg Table'!$B$4:$V$92,2,0) -> 0.65 | K51: =VLOOKUP($A51,'2025 Stds Ltg Table'!$B$4:$W$92,K$1,0) -> 0 | L51: =VLOOKUP($A51,'2025 Stds Ltg Table'!$B$4:$W$92,L$1,0) -> 0.2 | M51: =VLOOKUP($A51,'2025 Stds Ltg Table'!$B$4:$W$92,M$1,0) -> 0 | N51: =VLOOKUP($A51,'2025 Stds Ltg Table'!$B$4:$W$92,N$1,0) -> 0 | O51: =VLOOKUP($A51,'2025 Stds Ltg Table'!$B$4:$W$92,O$1,0) -> 0 | P51: =VLOOKUP($A51,'2025 Stds Ltg Table'!$B$4:$W$92,P$1,0) -> 0 | Q51: =VLOOKUP($A51,'2025 Stds Ltg Table'!$B$4:$W$92,Q$1,0) -> 0 | R51: =VLOOKUP($A51,'2025 Stds Ltg Table'!$B$4:$W$92,R$1,0) -> 0 | ... AD51: =VLOOKUP($A51,'2025 Stds Ltg Table'!$B$4:$W$92,AD$1,0) -> 0 | AE51: =VLOOKUP($A51,'2022 SpaceFuncData-Input'!$A$3:$Y$82,17,FALSE) -> 150 | AF51: =VLOOKUP($A51,'2022 SpaceFuncData-Input'!$A$3:$Y$82,18,FALSE) -> 150 | AG51: =VLOOKUP($A51,'2022 SpaceFuncData-Input'!$A$3:$Y$82,19,FALSE) -> 0 | AH51: =VLOOKUP($A51,'2022 SpaceFuncData-Input'!$A$3:$Y$82,20,FALSE) -> 0 | AI51: =VLOOKUP($A51,'2022 SpaceFuncData-Input'!$A$3:$Y$82,21,FALSE) -> 300 | AJ51: =VLOOKUP($A51,'2022 SpaceFuncData-Input'!$A$3:$Y$82,22,FALSE) -> 1000 | AK51: =VLOOKUP($A51,'2022 SpaceFuncData-Input'!$A$3:$Y$82,23,FALSE) -> 1.5 | AL51: =VLOOKUP($A51,'2022 SpaceFuncData-Input'!$A$3:$Y$82,24,FALSE) -> 2 | AM51: =VLOOKUP($A51,'2022 SpaceFuncData-Input'!$A$3:$Y$82,25,FALSE) -> Manufacturing | AN51: 1 | AO51: 0 | AP51: 0 | AQ51: 349
A52: ='2025 Stds Ltg Table'!B48 -> Manufacturing, Commercial & Industrial Work Area (Precision) | B52: =VLOOKUP($A52,'2022 SpaceFuncData-Input'!$A$3:$I$82,2,FALSE) -> Misc - General manufacturing (excludes heavy industrial and process using chemicals) | C52: =VLOOKUP($A52,'2022 SpaceFuncData-Input'!$A$3:$I$85,3,FALSE) -> 10 | D52: =VLOOKUP($A52,'2022 SpaceFuncData-Input'!$A$3:$I$85,4,FALSE) -> 0.5 | E52: =VLOOKUP($A52,'2022 SpaceFuncData-Input'!$A$3:$I$85,5,FALSE) -> 250 | F52: =VLOOKUP($A52,'2022 SpaceFuncData-Input'!$A$3:$I$85,6,FALSE) -> 200 | G52: =VLOOKUP($A52,'2022 SpaceFuncData-Input'!$A$3:$I$85,7,FALSE) -> 1 | H52: =VLOOKUP($A52,'2022 SpaceFuncData-Input'!$A$3:$I$85,8,FALSE) -> 0.18 | I52: =VLOOKUP($A52,'2022 SpaceFuncData-Input'!$A$3:$I$85,9,FALSE) -> Gas | J52: =VLOOKUP($A52,'2025 Stds Ltg Table'!$B$4:$V$92,2,0) -> 0.85 | K52: =VLOOKUP($A52,'2025 Stds Ltg Table'!$B$4:$W$92,K$1,0) -> 0 | L52: =VLOOKUP($A52,'2025 Stds Ltg Table'!$B$4:$W$92,L$1,0) -> 0 | M52: =VLOOKUP($A52,'2025 Stds Ltg Table'!$B$4:$W$92,M$1,0) -> 0 | N52: =VLOOKUP($A52,'2025 Stds Ltg Table'!$B$4:$W$92,N$1,0) -> 0 | O52: =VLOOKUP($A52,'2025 Stds Ltg Table'!$B$4:$W$92,O$1,0) -> 0.7 | P52: =VLOOKUP($A52,'2025 Stds Ltg Table'!$B$4:$W$92,P$1,0) -> 0 | Q52: =VLOOKUP($A52,'2025 Stds Ltg Table'!$B$4:$W$92,Q$1,0) -> 0 | R52: =VLOOKUP($A52,'2025 Stds Ltg Table'!$B$4:$W$92,R$1,0) -> 0 | ... AD52: =VLOOKUP($A52,'2025 Stds Ltg Table'!$B$4:$W$92,AD$1,0) -> 0 | AE52: =VLOOKUP($A52,'2022 SpaceFuncData-Input'!$A$3:$Y$82,17,FALSE) -> 150 | AF52: =VLOOKUP($A52,'2022 SpaceFuncData-Input'!$A$3:$Y$82,18,FALSE) -> 150 | AG52: =VLOOKUP($A52,'2022 SpaceFuncData-Input'!$A$3:$Y$82,19,FALSE) -> 0 | AH52: =VLOOKUP($A52,'2022 SpaceFuncData-Input'!$A$3:$Y$82,20,FALSE) -> 0 | AI52: =VLOOKUP($A52,'2022 SpaceFuncData-Input'!$A$3:$Y$82,21,FALSE) -> 1000 | AJ52: =VLOOKUP($A52,'2022 SpaceFuncData-Input'!$A$3:$Y$82,22,FALSE) -> 3000 | AK52: =VLOOKUP($A52,'2022 SpaceFuncData-Input'!$A$3:$Y$82,23,FALSE) -> 1.5 | AL52: =VLOOKUP($A52,'2022 SpaceFuncData-Input'!$A$3:$Y$82,24,FALSE) -> 2 | AM52: =VLOOKUP($A52,'2022 SpaceFuncData-Input'!$A$3:$Y$82,25,FALSE) -> Manufacturing | AN52: 1 | AO52: 0 | AP52: 0 | AQ52: 350
A53: ='2025 Stds Ltg Table'!B49 -> Museum Area (Exhibition/Display) | B53: =VLOOKUP($A53,'2022 SpaceFuncData-Input'!$A$3:$I$82,2,FALSE) -> Assembly - Museums/galleries | C53: =VLOOKUP($A53,'2022 SpaceFuncData-Input'!$A$3:$I$85,3,FALSE) -> 66.666667 | D53: =VLOOKUP($A53,'2022 SpaceFuncData-Input'!$A$3:$I$85,4,FALSE) -> 0.5 | E53: =VLOOKUP($A53,'2022 SpaceFuncData-Input'!$A$3:$I$85,5,FALSE) -> 250 | F53: =VLOOKUP($A53,'2022 SpaceFuncData-Input'!$A$3:$I$85,6,FALSE) -> 250 | G53: =VLOOKUP($A53,'2022 SpaceFuncData-Input'!$A$3:$I$85,7,FALSE) -> 1.5 | H53: =VLOOKUP($A53,'2022 SpaceFuncData-Input'!$A$3:$I$85,8,FALSE) -> 0.09 | I53: =VLOOKUP($A53,'2022 SpaceFuncData-Input'!$A$3:$I$85,9,FALSE) -> Electric | J53: =VLOOKUP($A53,'2025 Stds Ltg Table'!$B$4:$V$92,2,0) -> 0.6 | K53: =VLOOKUP($A53,'2025 Stds Ltg Table'!$B$4:$W$92,K$1,0) -> 0 | L53: =VLOOKUP($A53,'2025 Stds Ltg Table'!$B$4:$W$92,L$1,0) -> 0 | M53: =VLOOKUP($A53,'2025 Stds Ltg Table'!$B$4:$W$92,M$1,0) -> 0 | N53: =VLOOKUP($A53,'2025 Stds Ltg Table'!$B$4:$W$92,N$1,0) -> 0.45 | O53: =VLOOKUP($A53,'2025 Stds Ltg Table'!$B$4:$W$92,O$1,0) -> 0 | P53: =VLOOKUP($A53,'2025 Stds Ltg Table'!$B$4:$W$92,P$1,0) -> 0 | Q53: =VLOOKUP($A53,'2025 Stds Ltg Table'!$B$4:$W$92,Q$1,0) -> 0 | R53: =VLOOKUP($A53,'2025 Stds Ltg Table'!$B$4:$W$92,R$1,0) -> 0 | ... AD53: =VLOOKUP($A53,'2025 Stds Ltg Table'!$B$4:$W$92,AD$1,0) -> 0 | AE53: =VLOOKUP($A53,'2022 SpaceFuncData-Input'!$A$3:$Y$82,17,FALSE) -> 150 | AF53: =VLOOKUP($A53,'2022 SpaceFuncData-Input'!$A$3:$Y$82,18,FALSE) -> 150 | AG53: =VLOOKUP($A53,'2022 SpaceFuncData-Input'!$A$3:$Y$82,19,FALSE) -> 0 | AH53: =VLOOKUP($A53,'2022 SpaceFuncData-Input'!$A$3:$Y$82,20,FALSE) -> 0 | AI53: =VLOOKUP($A53,'2022 SpaceFuncData-Input'!$A$3:$Y$82,21,FALSE) -> 150 | AJ53: =VLOOKUP($A53,'2022 SpaceFuncData-Input'!$A$3:$Y$82,22,FALSE) -> 500 | AK53: =VLOOKUP($A53,'2022 SpaceFuncData-Input'!$A$3:$Y$82,23,FALSE) -> 1.5 | AL53: =VLOOKUP($A53,'2022 SpaceFuncData-Input'!$A$3:$Y$82,24,FALSE) -> 2 | AM53: =VLOOKUP($A53,'2022 SpaceFuncData-Input'!$A$3:$Y$82,25,FALSE) -> Assembly | AN53: 1 | AO53: 0 | AP53: 0 | AQ53: 351
A54: ='2025 Stds Ltg Table'!B50 -> Museum Area (Restoration Room) | B54: =VLOOKUP($A54,'2022 SpaceFuncData-Input'!$A$3:$I$82,2,FALSE) -> Misc - General manufacturing (excludes heavy industrial and process using chemicals) | C54: =VLOOKUP($A54,'2022 SpaceFuncData-Input'!$A$3:$I$85,3,FALSE) -> 10 | D54: =VLOOKUP($A54,'2022 SpaceFuncData-Input'!$A$3:$I$85,4,FALSE) -> 0.5 | E54: =VLOOKUP($A54,'2022 SpaceFuncData-Input'!$A$3:$I$85,5,FALSE) -> 250 | F54: =VLOOKUP($A54,'2022 SpaceFuncData-Input'!$A$3:$I$85,6,FALSE) -> 250 | G54: =VLOOKUP($A54,'2022 SpaceFuncData-Input'!$A$3:$I$85,7,FALSE) -> 1.5 | H54: =VLOOKUP($A54,'2022 SpaceFuncData-Input'!$A$3:$I$85,8,FALSE) -> 0.18 | I54: =VLOOKUP($A54,'2022 SpaceFuncData-Input'!$A$3:$I$85,9,FALSE) -> Electric | J54: =VLOOKUP($A54,'2025 Stds Ltg Table'!$B$4:$V$92,2,0) -> 0.7 | K54: =VLOOKUP($A54,'2025 Stds Ltg Table'!$B$4:$W$92,K$1,0) -> 0 | L54: =VLOOKUP($A54,'2025 Stds Ltg Table'!$B$4:$W$92,L$1,0) -> 0.35 | M54: =VLOOKUP($A54,'2025 Stds Ltg Table'!$B$4:$W$92,M$1,0) -> 0 | N54: =VLOOKUP($A54,'2025 Stds Ltg Table'!$B$4:$W$92,N$1,0) -> 0 | O54: =VLOOKUP($A54,'2025 Stds Ltg Table'!$B$4:$W$92,O$1,0) -> 0 | P54: =VLOOKUP($A54,'2025 Stds Ltg Table'!$B$4:$W$92,P$1,0) -> 0 | Q54: =VLOOKUP($A54,'2025 Stds Ltg Table'!$B$4:$W$92,Q$1,0) -> 0 | R54: =VLOOKUP($A54,'2025 Stds Ltg Table'!$B$4:$W$92,R$1,0) -> 0 | ... AD54: =VLOOKUP($A54,'2025 Stds Ltg Table'!$B$4:$W$92,AD$1,0) -> 0 | AE54: =VLOOKUP($A54,'2022 SpaceFuncData-Input'!$A$3:$Y$82,17,FALSE) -> 150 | AF54: =VLOOKUP($A54,'2022 SpaceFuncData-Input'!$A$3:$Y$82,18,FALSE) -> 150 | AG54: =VLOOKUP($A54,'2022 SpaceFuncData-Input'!$A$3:$Y$82,19,FALSE) -> 0 | AH54: =VLOOKUP($A54,'2022 SpaceFuncData-Input'!$A$3:$Y$82,20,FALSE) -> 0 | AI54: =VLOOKUP($A54,'2022 SpaceFuncData-Input'!$A$3:$Y$82,21,FALSE) -> 150 | AJ54: =VLOOKUP($A54,'2022 SpaceFuncData-Input'!$A$3:$Y$82,22,FALSE) -> 500 | AK54: =VLOOKUP($A54,'2022 SpaceFuncData-Input'!$A$3:$Y$82,23,FALSE) -> 1.5 | AL54: =VLOOKUP($A54,'2022 SpaceFuncData-Input'!$A$3:$Y$82,24,FALSE) -> 2 | AM54: =VLOOKUP($A54,'2022 SpaceFuncData-Input'!$A$3:$Y$82,25,FALSE) -> Assembly | AN54: 1 | AO54: 0 | AP54: 0 | AQ54: 352
... A66: ='2025 Stds Ltg Table'!B62 -> Storage, Commercial/Industrial (Warehouse) | B66: =VLOOKUP($A66,'2022 SpaceFuncData-Input'!$A$3:$I$82,2,FALSE) -> Misc - Warehouses | C66: =VLOOKUP($A66,'2022 SpaceFuncData-Input'!$A$3:$I$85,3,FALSE) -> 2 | D66: =VLOOKUP($A66,'2022 SpaceFuncData-Input'!$A$3:$I$85,4,FALSE) -> 0.5 | E66: =VLOOKUP($A66,'2022 SpaceFuncData-Input'!$A$3:$I$85,5,FALSE) -> 275 | F66: =VLOOKUP($A66,'2022 SpaceFuncData-Input'!$A$3:$I$85,6,FALSE) -> 475 | G66: =VLOOKUP($A66,'2022 SpaceFuncData-Input'!$A$3:$I$85,7,FALSE) -> 0.2 | H66: =VLOOKUP($A66,'2022 SpaceFuncData-Input'!$A$3:$I$85,8,FALSE) -> 0.18 | I66: =VLOOKUP($A66,'2022 SpaceFuncData-Input'!$A$3:$I$85,9,FALSE) -> Electric | J66: =VLOOKUP($A66,'2025 Stds Ltg Table'!$B$4:$V$92,2,0) -> 0.4 | K66: =VLOOKUP($A66,'2025 Stds Ltg Table'!$B$4:$W$92,K$1,0) -> 0 | L66: =VLOOKUP($A66,'2025 Stds Ltg Table'!$B$4:$W$92,L$1,0) -> 0 | M66: =VLOOKUP($A66,'2025 Stds Ltg Table'!$B$4:$W$92,M$1,0) -> 0 | N66: =VLOOKUP($A66,'2025 Stds Ltg Table'!$B$4:$W$92,N$1,0) -> 0 | O66: =VLOOKUP($A66,'2025 Stds Ltg Table'!$B$4:$W$92,O$1,0) -> 0 | P66: =VLOOKUP($A66,'2025 Stds Ltg Table'!$B$4:$W$92,P$1,0) -> 0 | Q66: =VLOOKUP($A66,'2025 Stds Ltg Table'!$B$4:$W$92,Q$1,0) -> 0 | R66: =VLOOKUP($A66,'2025 Stds Ltg Table'!$B$4:$W$92,R$1,0) -> 0 | ... AD66: =VLOOKUP($A66,'2025 Stds Ltg Table'!$B$4:$W$92,AD$1,0) -> 0 | AE66: =VLOOKUP($A66,'2022 SpaceFuncData-Input'!$A$3:$Y$82,17,FALSE) -> 8760 | AF66: =VLOOKUP($A66,'2022 SpaceFuncData-Input'!$A$3:$Y$82,18,FALSE) -> 8760 | AG66: =VLOOKUP($A66,'2022 SpaceFuncData-Input'!$A$3:$Y$82,19,FALSE) -> 0 | AH66: =VLOOKUP($A66,'2022 SpaceFuncData-Input'!$A$3:$Y$82,20,FALSE) -> 0 | AI66: =VLOOKUP($A66,'2022 SpaceFuncData-Input'!$A$3:$Y$82,21,FALSE) -> 50 | AJ66: =VLOOKUP($A66,'2022 SpaceFuncData-Input'!$A$3:$Y$82,22,FALSE) -> 300 | AK66: =VLOOKUP($A66,'2022 SpaceFuncData-Input'!$A$3:$Y$82,23,FALSE) -> 1.5 | AL66: =VLOOKUP($A66,'2022 SpaceFuncData-Input'!$A$3:$Y$82,24,FALSE) -> 2 | AM66: =VLOOKUP($A66,'2022 SpaceFuncData-Input'!$A$3:$Y$82,25,FALSE) -> Warehouse | AN66: 1 | AO66: 0 | AP66: 0 | AQ66: 364
A67: ='2025 Stds Ltg Table'!B84 -> Storage, Commercial/Industrial (Refrigerated) | B67: =VLOOKUP($A67,'2022 SpaceFuncData-Input'!$A$3:$I$82,2,FALSE) -> Misc - Freezer and refrigerated spaces (<50F) | C67: =VLOOKUP($A67,'2022 SpaceFuncData-Input'!$A$3:$I$85,3,FALSE) -> 0 | D67: =VLOOKUP($A67,'2022 SpaceFuncData-Input'!$A$3:$I$85,4,FALSE) -> 0.5 | E67: =VLOOKUP($A67,'2022 SpaceFuncData-Input'!$A$3:$I$85,5,FALSE) -> 275 | F67: =VLOOKUP($A67,'2022 SpaceFuncData-Input'!$A$3:$I$85,6,FALSE) -> 475 | G67: =VLOOKUP($A67,'2022 SpaceFuncData-Input'!$A$3:$I$85,7,FALSE) -> 0.2 | H67: =VLOOKUP($A67,'2022 SpaceFuncData-Input'!$A$3:$I$85,8,FALSE) -> 0.18 | I67: =VLOOKUP($A67,'2022 SpaceFuncData-Input'!$A$3:$I$85,9,FALSE) -> Electric | J67: =VLOOKUP($A67,'2025 Stds Ltg Table'!$B$4:$V$92,2,0) -> 0.4 | K67: =VLOOKUP($A67,'2025 Stds Ltg Table'!$B$4:$W$92,K$1,0) -> 0 | L67: =VLOOKUP($A67,'2025 Stds Ltg Table'!$B$4:$W$92,L$1,0) -> 0 | M67: =VLOOKUP($A67,'2025 Stds Ltg Table'!$B$4:$W$92,M$1,0) -> 0 | N67: =VLOOKUP($A67,'2025 Stds Ltg Table'!$B$4:$W$92,N$1,0) -> 0 | O67: =VLOOKUP($A67,'2025 Stds Ltg Table'!$B$4:$W$92,O$1,0) -> 0 | P67: =VLOOKUP($A67,'2025 Stds Ltg Table'!$B$4:$W$92,P$1,0) -> 0 | Q67: =VLOOKUP($A67,'2025 Stds Ltg Table'!$B$4:$W$92,Q$1,0) -> 0 | R67: =VLOOKUP($A67,'2025 Stds Ltg Table'!$B$4:$W$92,R$1,0) -> 0 | ... AD67: =VLOOKUP($A67,'2025 Stds Ltg Table'!$B$4:$W$92,AD$1,0) -> 0 | AE67: =VLOOKUP($A67,'2022 SpaceFuncData-Input'!$A$3:$Y$82,17,FALSE) -> 8760 | AF67: =VLOOKUP($A67,'2022 SpaceFuncData-Input'!$A$3:$Y$82,18,FALSE) -> 8760 | AG67: =VLOOKUP($A67,'2022 SpaceFuncData-Input'!$A$3:$Y$82,19,FALSE) -> 0 | AH67: =VLOOKUP($A67,'2022 SpaceFuncData-Input'!$A$3:$Y$82,20,FALSE) -> 10 | AI67: =VLOOKUP($A67,'2022 SpaceFuncData-Input'!$A$3:$Y$82,21,FALSE) -> 50 | AJ67: =VLOOKUP($A67,'2022 SpaceFuncData-Input'!$A$3:$Y$82,22,FALSE) -> 300 | AK67: =VLOOKUP($A67,'2022 SpaceFuncData-Input'!$A$3:$Y$82,23,FALSE) -> 1.5 | AL67: =VLOOKUP($A67,'2022 SpaceFuncData-Input'!$A$3:$Y$82,24,FALSE) -> 2 | AM67: =VLOOKUP($A67,'2022 SpaceFuncData-Input'!$A$3:$Y$82,25,FALSE) -> Warehouse | AN67: 1 | AO67: 0 | AP67: 0 | AQ67: 365
A68: ='2025 Stds Ltg Table'!B63 -> Storage, Commercial/Industrial (Shipping & Handling) | B68: =VLOOKUP($A68,'2022 SpaceFuncData-Input'!$A$3:$I$82,2,FALSE) -> Misc - Shipping/receiving | C68: =VLOOKUP($A68,'2022 SpaceFuncData-Input'!$A$3:$I$85,3,FALSE) -> 5 | D68: =VLOOKUP($A68,'2022 SpaceFuncData-Input'!$A$3:$I$85,4,FALSE) -> 0.5 | E68: =VLOOKUP($A68,'2022 SpaceFuncData-Input'!$A$3:$I$85,5,FALSE) -> 275 | F68: =VLOOKUP($A68,'2022 SpaceFuncData-Input'!$A$3:$I$85,6,FALSE) -> 475 | G68: =VLOOKUP($A68,'2022 SpaceFuncData-Input'!$A$3:$I$85,7,FALSE) -> 0.5 | H68: =VLOOKUP($A68,'2022 SpaceFuncData-Input'!$A$3:$I$85,8,FALSE) -> 0.18 | I68: =VLOOKUP($A68,'2022 SpaceFuncData-Input'!$A$3:$I$85,9,FALSE) -> Electric | J68: =VLOOKUP($A68,'2025 Stds Ltg Table'!$B$4:$V$92,2,0) -> 0.6 | K68: =VLOOKUP($A68,'2025 Stds Ltg Table'!$B$4:$W$92,K$1,0) -> 0 | L68: =VLOOKUP($A68,'2025 Stds Ltg Table'!$B$4:$W$92,L$1,0) -> 0 | M68: =VLOOKUP($A68,'2025 Stds Ltg Table'!$B$4:$W$92,M$1,0) -> 0 | N68: =VLOOKUP($A68,'2025 Stds Ltg Table'!$B$4:$W$92,N$1,0) -> 0 | O68: =VLOOKUP($A68,'2025 Stds Ltg Table'!$B$4:$W$92,O$1,0) -> 0 | P68: =VLOOKUP($A68,'2025 Stds Ltg Table'!$B$4:$W$92,P$1,0) -> 0 | Q68: =VLOOKUP($A68,'2025 Stds Ltg Table'!$B$4:$W$92,Q$1,0) -> 0 | R68: =VLOOKUP($A68,'2025 Stds Ltg Table'!$B$4:$W$92,R$1,0) -> 0 | ... AD68: =VLOOKUP($A68,'2025 Stds Ltg Table'!$B$4:$W$92,AD$1,0) -> 0 | AE68: =VLOOKUP($A68,'2022 SpaceFuncData-Input'!$A$3:$Y$82,17,FALSE) -> 8760 | AF68: =VLOOKUP($A68,'2022 SpaceFuncData-Input'!$A$3:$Y$82,18,FALSE) -> 8760 | AG68: =VLOOKUP($A68,'2022 SpaceFuncData-Input'!$A$3:$Y$82,19,FALSE) -> 0 | AH68: =VLOOKUP($A68,'2022 SpaceFuncData-Input'!$A$3:$Y$82,20,FALSE) -> 0 | AI68: =VLOOKUP($A68,'2022 SpaceFuncData-Input'!$A$3:$Y$82,21,FALSE) -> 50 | AJ68: =VLOOKUP($A68,'2022 SpaceFuncData-Input'!$A$3:$Y$82,22,FALSE) -> 300 | AK68: =VLOOKUP($A68,'2022 SpaceFuncData-Input'!$A$3:$Y$82,23,FALSE) -> 1.5 | AL68: =VLOOKUP($A68,'2022 SpaceFuncData-Input'!$A$3:$Y$82,24,FALSE) -> 2 | AM68: =VLOOKUP($A68,'2022 SpaceFuncData-Input'!$A$3:$Y$82,25,FALSE) -> Warehouse | AN68: 1 | AO68: 0 | AP68: 0 | AQ68: 366
A69: Storage, General | B69: =VLOOKUP($A69,'2022 SpaceFuncData-Input'!$A$3:$I$82,2,FALSE) -> Misc - All others | C69: =VLOOKUP($A69,'2022 SpaceFuncData-Input'!$A$3:$I$85,3,FALSE) -> 0 | D69: =VLOOKUP($A69,'2022 SpaceFuncData-Input'!$A$3:$I$85,4,FALSE) -> 0.5 | E69: =VLOOKUP($A69,'2022 SpaceFuncData-Input'!$A$3:$I$85,5,FALSE) -> 250 | F69: =VLOOKUP($A69,'2022 SpaceFuncData-Input'!$A$3:$I$85,6,FALSE) -> 200 | G69: =VLOOKUP($A69,'2022 SpaceFuncData-Input'!$A$3:$I$85,7,FALSE) -> 0.2 | H69: =VLOOKUP($A69,'2022 SpaceFuncData-Input'!$A$3:$I$85,8,FALSE) -> 0 | I69: =VLOOKUP($A69,'2022 SpaceFuncData-Input'!$A$3:$I$85,9,FALSE) -> Electric | J69: =VLOOKUP($A69,'2025 Stds Ltg Table'!$B$4:$V$92,2,0) -> 0.4 | K69: =VLOOKUP($A69,'2025 Stds Ltg Table'!$B$4:$W$92,K$1,0) -> 0 | L69: =VLOOKUP($A69,'2025 Stds Ltg Table'!$B$4:$W$92,L$1,0) -> 0 | M69: =VLOOKUP($A69,'2025 Stds Ltg Table'!$B$4:$W$92,M$1,0) -> 0 | N69: =VLOOKUP($A69,'2025 Stds Ltg Table'!$B$4:$W$92,N$1,0) -> 0 | O69: =VLOOKUP($A69,'2025 Stds Ltg Table'!$B$4:$W$92,O$1,0) -> 0 | P69: =VLOOKUP($A69,'2025 Stds Ltg Table'!$B$4:$W$92,P$1,0) -> 0 | Q69: =VLOOKUP($A69,'2025 Stds Ltg Table'!$B$4:$W$92,Q$1,0) -> 0 | R69: =VLOOKUP($A69,'2025 Stds Ltg Table'!$B$4:$W$92,R$1,0) -> 0 | ... AD69: =VLOOKUP($A69,'2025 Stds Ltg Table'!$B$4:$W$92,AD$1,0) -> 0 | AE69: =VLOOKUP($A69,'2022 SpaceFuncData-Input'!$A$3:$Y$82,17,FALSE) -> 8760 | AF69: =VLOOKUP($A69,'2022 SpaceFuncData-Input'!$A$3:$Y$82,18,FALSE) -> 8760 | AG69: =VLOOKUP($A69,'2022 SpaceFuncData-Input'!$A$3:$Y$82,19,FALSE) -> 0 | AH69: =VLOOKUP($A69,'2022 SpaceFuncData-Input'!$A$3:$Y$82,20,FALSE) -> 0 | AI69: =VLOOKUP($A69,'2022 SpaceFuncData-Input'!$A$3:$Y$82,21,FALSE) -> 50 | AJ69: =VLOOKUP($A69,'2022 SpaceFuncData-Input'!$A$3:$Y$82,22,FALSE) -> 300 | AK69: =VLOOKUP($A69,'2022 SpaceFuncData-Input'!$A$3:$Y$82,23,FALSE) -> 1.5 | AL69: =VLOOKUP($A69,'2022 SpaceFuncData-Input'!$A$3:$Y$82,24,FALSE) -> 2 | AM69: =VLOOKUP($A69,'2022 SpaceFuncData-Input'!$A$3:$Y$82,25,FALSE) -> Warehouse | AN69: =AN66 -> 1 | AO69: 1 | AP69: =AP66 -> 0 | AQ69: 380
A70: ='2025 Stds Ltg Table'!B64 -> Sports Arena - Playing Area (> 5,000 Spectators) | B70: =VLOOKUP($A70,'2022 SpaceFuncData-Input'!$A$3:$I$82,2,FALSE) -> Sports/Entertainment - Gym, sports arena (play area) | C70: =VLOOKUP($A70,'2022 SpaceFuncData-Input'!$A$3:$I$85,3,FALSE) -> 80 | D70: =VLOOKUP($A70,'2022 SpaceFuncData-Input'!$A$3:$I$85,4,FALSE) -> 0.5 | E70: =VLOOKUP($A70,'2022 SpaceFuncData-Input'!$A$3:$I$85,5,FALSE) -> 255 | F70: =VLOOKUP($A70,'2022 SpaceFuncData-Input'!$A$3:$I$85,6,FALSE) -> 875 | G70: =VLOOKUP($A70,'2022 SpaceFuncData-Input'!$A$3:$I$85,7,FALSE) -> 0.5 | H70: =VLOOKUP($A70,'2022 SpaceFuncData-Input'!$A$3:$I$85,8,FALSE) -> 0.18 | I70: =VLOOKUP($A70,'2022 SpaceFuncData-Input'!$A$3:$I$85,9,FALSE) -> Gas | J70: =VLOOKUP($A70,'2025 Stds Ltg Table'!$B$4:$V$92,2,0) -> 2.25 | K70: =VLOOKUP($A70,'2025 Stds Ltg Table'!$B$4:$W$92,K$1,0) -> 0 | L70: =VLOOKUP($A70,'2025 Stds Ltg Table'!$B$4:$W$92,L$1,0) -> 0 | M70: =VLOOKUP($A70,'2025 Stds Ltg Table'!$B$4:$W$92,M$1,0) -> 0 | N70: =VLOOKUP($A70,'2025 Stds Ltg Table'!$B$4:$W$92,N$1,0) -> 0 | O70: =VLOOKUP($A70,'2025 Stds Ltg Table'!$B$4:$W$92,O$1,0) -> 0 | P70: =VLOOKUP($A70,'2025 Stds Ltg Table'!$B$4:$W$92,P$1,0) -> 0 | Q70: =VLOOKUP($A70,'2025 Stds Ltg Table'!$B$4:$W$92,Q$1,0) -> 0 | R70: =VLOOKUP($A70,'2025 Stds Ltg Table'!$B$4:$W$92,R$1,0) -> 0 | ... AD70: =VLOOKUP($A70,'2025 Stds Ltg Table'!$B$4:$W$92,AD$1,0) -> 0 | AE70: =VLOOKUP($A70,'2022 SpaceFuncData-Input'!$A$3:$Y$82,17,FALSE) -> 150 | AF70: =VLOOKUP($A70,'2022 SpaceFuncData-Input'!$A$3:$Y$82,18,FALSE) -> 150 | AG70: =VLOOKUP($A70,'2022 SpaceFuncData-Input'!$A$3:$Y$82,19,FALSE) -> 0 | AH70: =VLOOKUP($A70,'2022 SpaceFuncData-Input'!$A$3:$Y$82,20,FALSE) -> 0 | AI70: =VLOOKUP($A70,'2022 SpaceFuncData-Input'!$A$3:$Y$82,21,FALSE) -> 150 | AJ70: =VLOOKUP($A70,'2022 SpaceFuncData-Input'!$A$3:$Y$82,22,FALSE) -> 400 | AK70: =VLOOKUP($A70,'2022 SpaceFuncData-Input'!$A$3:$Y$82,23,FALSE) -> 1.5 | AL70: =VLOOKUP($A70,'2022 SpaceFuncData-Input'!$A$3:$Y$82,24,FALSE) -> 2 | AM70: =VLOOKUP($A70,'2022 SpaceFuncData-Input'!$A$3:$Y$82,25,FALSE) -> Retail | AN70: 0 | AO70: 0 | AP70: 0 | AQ70: 367
A71: ='2025 Stds Ltg Table'!B65 -> Sports Arena - Playing Area (2,000 - 5,000 Spectators) | B71: =VLOOKUP($A71,'2022 SpaceFuncData-Input'!$A$3:$I$82,2,FALSE) -> Sports/Entertainment - Gym, sports arena (play area) | C71: =VLOOKUP($A71,'2022 SpaceFuncData-Input'!$A$3:$I$85,3,FALSE) -> 66.666667 | D71: =VLOOKUP($A71,'2022 SpaceFuncData-Input'!$A$3:$I$85,4,FALSE) -> 0.5 | E71: =VLOOKUP($A71,'2022 SpaceFuncData-Input'!$A$3:$I$85,5,FALSE) -> 255 | F71: =VLOOKUP($A71,'2022 SpaceFuncData-Input'!$A$3:$I$85,6,FALSE) -> 875 | G71: =VLOOKUP($A71,'2022 SpaceFuncData-Input'!$A$3:$I$85,7,FALSE) -> 0.5 | H71: =VLOOKUP($A71,'2022 SpaceFuncData-Input'!$A$3:$I$85,8,FALSE) -> 0.18 | I71: =VLOOKUP($A71,'2022 SpaceFuncData-Input'!$A$3:$I$85,9,FALSE) -> Gas | J71: =VLOOKUP($A71,'2025 Stds Ltg Table'!$B$4:$V$92,2,0) -> 1.45 | K71: =VLOOKUP($A71,'2025 Stds Ltg Table'!$B$4:$W$92,K$1,0) -> 0 | L71: =VLOOKUP($A71,'2025 Stds Ltg Table'!$B$4:$W$92,L$1,0) -> 0 | M71: =VLOOKUP($A71,'2025 Stds Ltg Table'!$B$4:$W$92,M$1,0) -> 0 | N71: =VLOOKUP($A71,'2025 Stds Ltg Table'!$B$4:$W$92,N$1,0) -> 0 | O71: =VLOOKUP($A71,'2025 Stds Ltg Table'!$B$4:$W$92,O$1,0) -> 0 | P71: =VLOOKUP($A71,'2025 Stds Ltg Table'!$B$4:$W$92,P$1,0) -> 0 | Q71: =VLOOKUP($A71,'2025 Stds Ltg Table'!$B$4:$W$92,Q$1,0) -> 0 | R71: =VLOOKUP($A71,'2025 Stds Ltg Table'!$B$4:$W$92,R$1,0) -> 0 | ... AD71: =VLOOKUP($A71,'2025 Stds Ltg Table'!$B$4:$W$92,AD$1,0) -> 0 | AE71: =VLOOKUP($A71,'2022 SpaceFuncData-Input'!$A$3:$Y$82,17,FALSE) -> 150 | AF71: =VLOOKUP($A71,'2022 SpaceFuncData-Input'!$A$3:$Y$82,18,FALSE) -> 150 | AG71: =VLOOKUP($A71,'2022 SpaceFuncData-Input'!$A$3:$Y$82,19,FALSE) -> 0 | AH71: =VLOOKUP($A71,'2022 SpaceFuncData-Input'!$A$3:$Y$82,20,FALSE) -> 0 | AI71: =VLOOKUP($A71,'2022 SpaceFuncData-Input'!$A$3:$Y$82,21,FALSE) -> 150 | AJ71: =VLOOKUP($A71,'2022 SpaceFuncData-Input'!$A$3:$Y$82,22,FALSE) -> 400 | AK71: =VLOOKUP($A71,'2022 SpaceFuncData-Input'!$A$3:$Y$82,23,FALSE) -> 1.5 | AL71: =VLOOKUP($A71,'2022 SpaceFuncData-Input'!$A$3:$Y$82,24,FALSE) -> 2 | AM71: =VLOOKUP($A71,'2022 SpaceFuncData-Input'!$A$3:$Y$82,25,FALSE) -> Retail | AN71: 0 | AO71: 0 | AP71: 0 | AQ71: 368
A72: ='2025 Stds Ltg Table'!B66 -> Sports Arena - Playing Area (< 2,000 Spectators) | B72: =VLOOKUP($A72,'2022 SpaceFuncData-Input'!$A$3:$I$82,2,FALSE) -> Sports/Entertainment - Gym, sports arena (play area) | C72: =VLOOKUP($A72,'2022 SpaceFuncData-Input'!$A$3:$I$85,3,FALSE) -> 50 | D72: =VLOOKUP($A72,'2022 SpaceFuncData-Input'!$A$3:$I$85,4,FALSE) -> 0.5 | E72: =VLOOKUP($A72,'2022 SpaceFuncData-Input'!$A$3:$I$85,5,FALSE) -> 255 | F72: =VLOOKUP($A72,'2022 SpaceFuncData-Input'!$A$3:$I$85,6,FALSE) -> 875 | G72: =VLOOKUP($A72,'2022 SpaceFuncData-Input'!$A$3:$I$85,7,FALSE) -> 0.5 | H72: =VLOOKUP($A72,'2022 SpaceFuncData-Input'!$A$3:$I$85,8,FALSE) -> 0.18 | I72: =VLOOKUP($A72,'2022 SpaceFuncData-Input'!$A$3:$I$85,9,FALSE) -> Gas | J72: =VLOOKUP($A72,'2025 Stds Ltg Table'!$B$4:$V$92,2,0) -> 1.1 | K72: =VLOOKUP($A72,'2025 Stds Ltg Table'!$B$4:$W$92,K$1,0) -> 0 | L72: =VLOOKUP($A72,'2025 Stds Ltg Table'!$B$4:$W$92,L$1,0) -> 0 | M72: =VLOOKUP($A72,'2025 Stds Ltg Table'!$B$4:$W$92,M$1,0) -> 0 | N72: =VLOOKUP($A72,'2025 Stds Ltg Table'!$B$4:$W$92,N$1,0) -> 0 | O72: =VLOOKUP($A72,'2025 Stds Ltg Table'!$B$4:$W$92,O$1,0) -> 0 | P72: =VLOOKUP($A72,'2025 Stds Ltg Table'!$B$4:$W$92,P$1,0) -> 0 | Q72: =VLOOKUP($A72,'2025 Stds Ltg Table'!$B$4:$W$92,Q$1,0) -> 0 | R72: =VLOOKUP($A72,'2025 Stds Ltg Table'!$B$4:$W$92,R$1,0) -> 0 | ... AD72: =VLOOKUP($A72,'2025 Stds Ltg Table'!$B$4:$W$92,AD$1,0) -> 0 | AE72: =VLOOKUP($A72,'2022 SpaceFuncData-Input'!$A$3:$Y$82,17,FALSE) -> 150 | AF72: =VLOOKUP($A72,'2022 SpaceFuncData-Input'!$A$3:$Y$82,18,FALSE) -> 150 | AG72: =VLOOKUP($A72,'2022 SpaceFuncData-Input'!$A$3:$Y$82,19,FALSE) -> 0 | AH72: =VLOOKUP($A72,'2022 SpaceFuncData-Input'!$A$3:$Y$82,20,FALSE) -> 0 | AI72: =VLOOKUP($A72,'2022 SpaceFuncData-Input'!$A$3:$Y$82,21,FALSE) -> 150 | AJ72: =VLOOKUP($A72,'2022 SpaceFuncData-Input'!$A$3:$Y$82,22,FALSE) -> 400 | AK72: =VLOOKUP($A72,'2022 SpaceFuncData-Input'!$A$3:$Y$82,23,FALSE) -> 1.5 | AL72: =VLOOKUP($A72,'2022 SpaceFuncData-Input'!$A$3:$Y$82,24,FALSE) -> 2 | AM72: =VLOOKUP($A72,'2022 SpaceFuncData-Input'!$A$3:$Y$82,25,FALSE) -> Retail | AN72: 0 | AO72: 0 | AP72: 0 | AQ72: 369
A73: ='2025 Stds Ltg Table'!B67 -> Sports Arena - Playing Area (Recreational) | B73: =VLOOKUP($A73,'2022 SpaceFuncData-Input'!$A$3:$I$82,2,FALSE) -> Sports/Entertainment - Gym, sports arena (play area) | C73: =VLOOKUP($A73,'2022 SpaceFuncData-Input'!$A$3:$I$85,3,FALSE) -> 20 | D73: =VLOOKUP($A73,'2022 SpaceFuncData-Input'!$A$3:$I$85,4,FALSE) -> 0.5 | E73: =VLOOKUP($A73,'2022 SpaceFuncData-Input'!$A$3:$I$85,5,FALSE) -> 255 | F73: =VLOOKUP($A73,'2022 SpaceFuncData-Input'!$A$3:$I$85,6,FALSE) -> 875 | G73: =VLOOKUP($A73,'2022 SpaceFuncData-Input'!$A$3:$I$85,7,FALSE) -> 0.2 | H73: =VLOOKUP($A73,'2022 SpaceFuncData-Input'!$A$3:$I$85,8,FALSE) -> 0.9 | I73: =VLOOKUP($A73,'2022 SpaceFuncData-Input'!$A$3:$I$85,9,FALSE) -> Gas | J73: =VLOOKUP($A73,'2025 Stds Ltg Table'!$B$4:$V$92,2,0) -> 0.75 | K73: =VLOOKUP($A73,'2025 Stds Ltg Table'!$B$4:$W$92,K$1,0) -> 0 | L73: =VLOOKUP($A73,'2025 Stds Ltg Table'!$B$4:$W$92,L$1,0) -> 0 | M73: =VLOOKUP($A73,'2025 Stds Ltg Table'!$B$4:$W$92,M$1,0) -> 0 | N73: =VLOOKUP($A73,'2025 Stds Ltg Table'!$B$4:$W$92,N$1,0) -> 0 | O73: =VLOOKUP($A73,'2025 Stds Ltg Table'!$B$4:$W$92,O$1,0) -> 0 | P73: =VLOOKUP($A73,'2025 Stds Ltg Table'!$B$4:$W$92,P$1,0) -> 0 | Q73: =VLOOKUP($A73,'2025 Stds Ltg Table'!$B$4:$W$92,Q$1,0) -> 0 | R73: =VLOOKUP($A73,'2025 Stds Ltg Table'!$B$4:$W$92,R$1,0) -> 0 | ... AD73: =VLOOKUP($A73,'2025 Stds Ltg Table'!$B$4:$W$92,AD$1,0) -> 0 | AE73: =VLOOKUP($A73,'2022 SpaceFuncData-Input'!$A$3:$Y$82,17,FALSE) -> 150 | AF73: =VLOOKUP($A73,'2022 SpaceFuncData-Input'!$A$3:$Y$82,18,FALSE) -> 150 | AG73: =VLOOKUP($A73,'2022 SpaceFuncData-Input'!$A$3:$Y$82,19,FALSE) -> 0 | AH73: =VLOOKUP($A73,'2022 SpaceFuncData-Input'!$A$3:$Y$82,20,FALSE) -> 0 | AI73: =VLOOKUP($A73,'2022 SpaceFuncData-Input'!$A$3:$Y$82,21,FALSE) -> 150 | AJ73: =VLOOKUP($A73,'2022 SpaceFuncData-Input'!$A$3:$Y$82,22,FALSE) -> 400 | AK73: =VLOOKUP($A73,'2022 SpaceFuncData-Input'!$A$3:$Y$82,23,FALSE) -> 1.5 | AL73: =VLOOKUP($A73,'2022 SpaceFuncData-Input'!$A$3:$Y$82,24,FALSE) -> 2 | AM73: =VLOOKUP($A73,'2022 SpaceFuncData-Input'!$A$3:$Y$82,25,FALSE) -> Retail | AN73: 1 | AO73: 0 | AP73: 0 | AQ73: 370
A74: ='2025 Stds Ltg Table'!B68 -> Theater Area (Motion Picture) | B74: =VLOOKUP($A74,'2022 SpaceFuncData-Input'!$A$3:$I$82,2,FALSE) -> Assembly - Auditorium seating area | C74: =VLOOKUP($A74,'2022 SpaceFuncData-Input'!$A$3:$I$85,3,FALSE) -> 142.85714 | D74: =VLOOKUP($A74,'2022 SpaceFuncData-Input'!$A$3:$I$85,4,FALSE) -> 0.5 | E74: =VLOOKUP($A74,'2022 SpaceFuncData-Input'!$A$3:$I$85,5,FALSE) -> 245 | F74: =VLOOKUP($A74,'2022 SpaceFuncData-Input'!$A$3:$I$85,6,FALSE) -> 105 | G74: =VLOOKUP($A74,'2022 SpaceFuncData-Input'!$A$3:$I$85,7,FALSE) -> 0.5 | H74: =VLOOKUP($A74,'2022 SpaceFuncData-Input'!$A$3:$I$85,8,FALSE) -> 0.09 | I74: =VLOOKUP($A74,'2022 SpaceFuncData-Input'!$A$3:$I$85,9,FALSE) -> Electric | J74: =VLOOKUP($A74,'2025 Stds Ltg Table'!$B$4:$V$92,2,0) -> 0.5 | K74: =VLOOKUP($A74,'2025 Stds Ltg Table'!$B$4:$W$92,K$1,0) -> 0 | L74: =VLOOKUP($A74,'2025 Stds Ltg Table'!$B$4:$W$92,L$1,0) -> 0 | M74: =VLOOKUP($A74,'2025 Stds Ltg Table'!$B$4:$W$92,M$1,0) -> 0 | N74: =VLOOKUP($A74,'2025 Stds Ltg Table'!$B$4:$W$92,N$1,0) -> 0.25 | O74: =VLOOKUP($A74,'2025 Stds Ltg Table'!$B$4:$W$92,O$1,0) -> 0 | P74: =VLOOKUP($A74,'2025 Stds Ltg Table'!$B$4:$W$92,P$1,0) -> 0 | Q74: =VLOOKUP($A74,'2025 Stds Ltg Table'!$B$4:$W$92,Q$1,0) -> 0 | R74: =VLOOKUP($A74,'2025 Stds Ltg Table'!$B$4:$W$92,R$1,0) -> 0 | ... AD74: =VLOOKUP($A74,'2025 Stds Ltg Table'!$B$4:$W$92,AD$1,0) -> 0 | AE74: =VLOOKUP($A74,'2022 SpaceFuncData-Input'!$A$3:$Y$82,17,FALSE) -> 150 | AF74: =VLOOKUP($A74,'2022 SpaceFuncData-Input'!$A$3:$Y$82,18,FALSE) -> 150 | AG74: =VLOOKUP($A74,'2022 SpaceFuncData-Input'!$A$3:$Y$82,19,FALSE) -> 0 | AH74: =VLOOKUP($A74,'2022 SpaceFuncData-Input'!$A$3:$Y$82,20,FALSE) -> 0 | AI74: =VLOOKUP($A74,'2022 SpaceFuncData-Input'!$A$3:$Y$82,21,FALSE) -> 2 | AJ74: =VLOOKUP($A74,'2022 SpaceFuncData-Input'!$A$3:$Y$82,22,FALSE) -> 50 | AK74: =VLOOKUP($A74,'2022 SpaceFuncData-Input'!$A$3:$Y$82,23,FALSE) -> 1.5 | AL74: =VLOOKUP($A74,'2022 SpaceFuncData-Input'!$A$3:$Y$82,24,FALSE) -> 2 | AM74: =VLOOKUP($A74,'2022 SpaceFuncData-Input'!$A$3:$Y$82,25,FALSE) -> Assembly | AN74: 1 | AO74: 0 | AP74: 0 | AQ74: 371
A75: ='2025 Stds Ltg Table'!B69 -> Theater Area (Performance) | B75: =VLOOKUP($A75,'2022 SpaceFuncData-Input'!$A$3:$I$82,2,FALSE) -> Sports/Entertainment - Stages, studios | C75: =VLOOKUP($A75,'2022 SpaceFuncData-Input'!$A$3:$I$85,3,FALSE) -> 142.85714 | D75: =VLOOKUP($A75,'2022 SpaceFuncData-Input'!$A$3:$I$85,4,FALSE) -> 0.5 | E75: =VLOOKUP($A75,'2022 SpaceFuncData-Input'!$A$3:$I$85,5,FALSE) -> 245 | F75: =VLOOKUP($A75,'2022 SpaceFuncData-Input'!$A$3:$I$85,6,FALSE) -> 105 | G75: =VLOOKUP($A75,'2022 SpaceFuncData-Input'!$A$3:$I$85,7,FALSE) -> 0.5 | H75: =VLOOKUP($A75,'2022 SpaceFuncData-Input'!$A$3:$I$85,8,FALSE) -> 0.09 | I75: =VLOOKUP($A75,'2022 SpaceFuncData-Input'!$A$3:$I$85,9,FALSE) -> Gas | J75: =VLOOKUP($A75,'2025 Stds Ltg Table'!$B$4:$V$92,2,0) -> 0.8 | K75: =VLOOKUP($A75,'2025 Stds Ltg Table'!$B$4:$W$92,K$1,0) -> 0 | L75: =VLOOKUP($A75,'2025 Stds Ltg Table'!$B$4:$W$92,L$1,0) -> 0 | M75: =VLOOKUP($A75,'2025 Stds Ltg Table'!$B$4:$W$92,M$1,0) -> 0 | N75: =VLOOKUP($A75,'2025 Stds Ltg Table'!$B$4:$W$92,N$1,0) -> 0.25 | O75: =VLOOKUP($A75,'2025 Stds Ltg Table'!$B$4:$W$92,O$1,0) -> 0 | P75: =VLOOKUP($A75,'2025 Stds Ltg Table'!$B$4:$W$92,P$1,0) -> 0 | Q75: =VLOOKUP($A75,'2025 Stds Ltg Table'!$B$4:$W$92,Q$1,0) -> 0 | R75: =VLOOKUP($A75,'2025 Stds Ltg Table'!$B$4:$W$92,R$1,0) -> 0 | ... AD75: =VLOOKUP($A75,'2025 Stds Ltg Table'!$B$4:$W$92,AD$1,0) -> 0 | AE75: =VLOOKUP($A75,'2022 SpaceFuncData-Input'!$A$3:$Y$82,17,FALSE) -> 150 | AF75: =VLOOKUP($A75,'2022 SpaceFuncData-Input'!$A$3:$Y$82,18,FALSE) -> 150 | AG75: =VLOOKUP($A75,'2022 SpaceFuncData-Input'!$A$3:$Y$82,19,FALSE) -> 0 | AH75: =VLOOKUP($A75,'2022 SpaceFuncData-Input'!$A$3:$Y$82,20,FALSE) -> 0 | AI75: =VLOOKUP($A75,'2022 SpaceFuncData-Input'!$A$3:$Y$82,21,FALSE) -> 2 | AJ75: =VLOOKUP($A75,'2022 SpaceFuncData-Input'!$A$3:$Y$82,22,FALSE) -> 200 | AK75: =VLOOKUP($A75,'2022 SpaceFuncData-Input'!$A$3:$Y$82,23,FALSE) -> 1.5 | AL75: =VLOOKUP($A75,'2022 SpaceFuncData-Input'!$A$3:$Y$82,24,FALSE) -> 2 | AM75: =VLOOKUP($A75,'2022 SpaceFuncData-Input'!$A$3:$Y$82,25,FALSE) -> Assembly | AN75: 1 | AO75: 0 | AP75: 1 | AQ75: 372
A76: ='2025 Stds Ltg Table'!B70 -> Transportation Function (Baggage Area) | B76: =VLOOKUP($A76,'2022 SpaceFuncData-Input'!$A$3:$I$82,2,FALSE) -> Misc - Transportation waiting | C76: =VLOOKUP($A76,'2022 SpaceFuncData-Input'!$A$3:$I$85,3,FALSE) -> 33.333333 | D76: =VLOOKUP($A76,'2022 SpaceFuncData-Input'!$A$3:$I$85,4,FALSE) -> 0.5 | E76: =VLOOKUP($A76,'2022 SpaceFuncData-Input'!$A$3:$I$85,5,FALSE) -> 250 | F76: =VLOOKUP($A76,'2022 SpaceFuncData-Input'!$A$3:$I$85,6,FALSE) -> 250 | G76: =VLOOKUP($A76,'2022 SpaceFuncData-Input'!$A$3:$I$85,7,FALSE) -> 0.5 | H76: =VLOOKUP($A76,'2022 SpaceFuncData-Input'!$A$3:$I$85,8,FALSE) -> 0.18 | I76: =VLOOKUP($A76,'2022 SpaceFuncData-Input'!$A$3:$I$85,9,FALSE) -> Electric | J76: =VLOOKUP($A76,'2025 Stds Ltg Table'!$B$4:$V$92,2,0) -> 0.4 | K76: =VLOOKUP($A76,'2025 Stds Ltg Table'!$B$4:$W$92,K$1,0) -> 0 | L76: =VLOOKUP($A76,'2025 Stds Ltg Table'!$B$4:$W$92,L$1,0) -> 0 | M76: =VLOOKUP($A76,'2025 Stds Ltg Table'!$B$4:$W$92,M$1,0) -> 0 | N76: =VLOOKUP($A76,'2025 Stds Ltg Table'!$B$4:$W$92,N$1,0) -> 0 | O76: =VLOOKUP($A76,'2025 Stds Ltg Table'!$B$4:$W$92,O$1,0) -> 0 | P76: =VLOOKUP($A76,'2025 Stds Ltg Table'!$B$4:$W$92,P$1,0) -> 0 | Q76: =VLOOKUP($A76,'2025 Stds Ltg Table'!$B$4:$W$92,Q$1,0) -> 0 | R76: =VLOOKUP($A76,'2025 Stds Ltg Table'!$B$4:$W$92,R$1,0) -> 0 | ... AD76: =VLOOKUP($A76,'2025 Stds Ltg Table'!$B$4:$W$92,AD$1,0) -> 0 | AE76: =VLOOKUP($A76,'2022 SpaceFuncData-Input'!$A$3:$Y$82,17,FALSE) -> 150 | AF76: =VLOOKUP($A76,'2022 SpaceFuncData-Input'!$A$3:$Y$82,18,FALSE) -> 150 | AG76: =VLOOKUP($A76,'2022 SpaceFuncData-Input'!$A$3:$Y$82,19,FALSE) -> 0 | AH76: =VLOOKUP($A76,'2022 SpaceFuncData-Input'!$A$3:$Y$82,20,FALSE) -> 0 | AI76: =VLOOKUP($A76,'2022 SpaceFuncData-Input'!$A$3:$Y$82,21,FALSE) -> 50 | AJ76: =VLOOKUP($A76,'2022 SpaceFuncData-Input'!$A$3:$Y$82,22,FALSE) -> 500 | AK76: =VLOOKUP($A76,'2022 SpaceFuncData-Input'!$A$3:$Y$82,23,FALSE) -> 1.5 | AL76: =VLOOKUP($A76,'2022 SpaceFuncData-Input'!$A$3:$Y$82,24,FALSE) -> 2 | AM76: =VLOOKUP($A76,'2022 SpaceFuncData-Input'!$A$3:$Y$82,25,FALSE) -> Assembly | AN76: 0 | AO76: 0 | AP76: 0 | AQ76: 373
